Workbook

Sheet CƠ KHÍ
A1: UBND THÀNH PHỐ HỒ CHÍ MINH | W1: CỘNG HOÀ XÃ HỘI CHỦ NGHĨA VIỆT NAM
A2: TRƯỜNG CAO ĐẲNG LÝ TỰ TRỌNG | W2: Độc lập - Tự do - Hạnh phúc
A3: THÀNH PHỐ HỒ CHÍ MINH | W3: ¯¯¯¯¯¯¯¯¯¯¯¯¯¯¯¯¯¯¯¯¯
A4: ¯¯¯¯¯¯¯¯¯¯¯¯¯¯¯¯¯¯¯¯¯¯¯¯ | AA4: Thành phố Hồ Chí Minh, ngày tháng năm 201
A5: BẢNG TÍNH KHỐI LƯỢNG TỔ CHỨC THI HỌC KỲ I NĂM HỌC 2017 - 2018
A6: ĐƠN VỊ: KHOA CÔNG NGHỆ CƠ KHÍ
A8: STT | B8: Mã nhân sự | C8: HỌ VÀ TÊN GIẢNG VIÊN | D8: ĐỀ THI | M8: COI THI | R8: CHẤM THI KTHP | AH8: CHẤM THI TỐT NGHIỆP | AQ8: DỰ PHÒNG KỲ THI | AR8: GIÁM SÁT | AS8: TỔNG KHỐI LƯỢNG
R9: LÝ THUYẾT (TV+TN) | V9: VẤN ĐÁP | Z9: TIỂU LUẬN | AD9: THỰC HÀNH | AH9: LÝ THUYẾT (TV+TN) | AK9: VẤN ĐÁP | AN9: THỰC HÀNH
D10: SL ĐỀ LT KTHP | E10: SL ĐỀ TN KTHP | F10: SL ĐỀ VĐ KTHP | G10: SL ĐỀ TH KTHP | H10: SL ĐỀ LT ThiTN | I10: SL ĐỀ TN ThiTN | J10: SL ĐỀ VĐ ThiTN | K10: SL ĐỀ TH ThiTN | L10: KL SOẠN ĐỀ (tiết) | M10: COITHI 2 KTHP | N10: COITHI 1 KTHP | O10: COITHI 1 Thi TN | P10: COITHI 2 Thi TN | Q10: KL COITHI (tiết) | R10: SL CHẤM LT 1 | S10: SL CHẤM LT 2 | T10: SL CHẤM NV | U10: KL CHẤM LT (tiết) | V10: SL CHẤM TL 1 | W10: SL CHẤM TL 2 | X10: SL CHẤM NV | Y10: KL CHẤM TL (tiết) | Z10: SL CHẤM TL 1 | AA10: SL CHẤM TL 2 | AB10: SL CHẤM NV | AC10: KL CHẤM TL (tiết) | AD10: SL CHẤM TL 1 | AE10: SL CHẤM TL 2 | AF10: SL CHẤM NV | AG10: KL CHẤM TL (tiết) | AH10: SL BÀI LT CHẤM 1 | AI10: SL BÀI LT CHẤM 2 | AJ10: KL CHẤM LT (tiết) | AK10: SL BÀI VĐ CHẤM 1 | AL10: SL BÀI VĐ CHẤM 2 | AM10: KL CHẤM VĐ (tiết) | AN10: SL BÀI TL CHẤM 1 | AO10: SL BÀI TL CHẤM 2 | AP10: KL CHẤM TL (tiết)
A11: =IF(C11="","",SUBTOTAL(3,$C$11:C11)) -> 1 | B11: 01029002 | C11: Nguyễn Ngọc Trí | D11: =IF($C11="","",SUMIF('TK DETHI'!$A:$A,$C11,'TK DETHI'!$B:$B)) -> 0 | E11: =IF($C11="","",SUMIF('TK DETHI'!$C:$C,$C11,'TK DETHI'!$D:$D)) -> 0 | F11: =IF($C11="","",SUMIF('TK DETHI'!$E:$E,$C11,'TK DETHI'!$F:$F)) -> 0 | G11: =IF($C11="","",SUMIF('TK DETHI'!$G:$G,$C11,'TK DETHI'!$H:$H)) -> 0 | H11: =IF($C11="","",SUMIF('TK DETHI'!$I:$I,$C11,'TK DETHI'!$J:$J)) -> 0 | I11: =IF($C11="","",SUMIF('TK DETHI'!$K:$K,$C11,'TK DETHI'!$L:$L)) -> 0 | J11: =IF($C11="","",SUMIF('TK DETHI'!$M:$M,$C11,'TK DETHI'!$N:$N)) -> 0 | K11: =IF($C11="","",SUMIF('TK DETHI'!$O:$O,$C11,'TK DETHI'!$P:$P)) -> 0 | L11: =IF($C11="","",($D11+$E11*1.5+$F11*0.25+$G11*0.5+$H11*2+$I11*2.5+$J11*0.5+$K11*1.5)) -> 0 | M11: =IF($C11="","",SUMIF('TK COITHI KTHP va Thi TN'!$A:$A,$C11,'TK COITHI KTHP va Thi TN'!$D:$D)) -> 1.8 | N11: =IF($C11="","",SUMIF('TK COITHI KTHP va Thi TN'!$B:$B,$C11,'TK COITHI KTHP va Thi TN'!$D:$D)) -> 3.45 | O11: =IF($C11="","",SUMIF('TK COITHI KTHP va Thi TN'!$E:$E,$C11,'TK COITHI KTHP va Thi TN'!$H:$H)) -> 0 | P11: =IF($C11="","",SUMIF('TK COITHI KTHP va Thi TN'!$F:$F,$C11,'TK COITHI KTHP va Thi TN'!$H:$H)) -> 0 | Q11: =IF($C11="","",SUM($M11:$P11)) -> 5.25 | R11: =IF($C11="","",SUMIF('TK CHAMTHI'!$A:$A,$C11,'TK CHAMTHI'!$C:$C)) -> 64 | S11: =IF($C11="","",SUMIF('TK CHAMTHI'!$B:$B,$C11,'TK CHAMTHI'!$C:$C)) -> 0 | T11: =IF(C11="","",SUMIF('CHAM NV'!B:B,C11,'CHAM NV'!C:C)) -> 80 | U11: =IF($C11="","",(SUM($R11:$S11))*0.1) -> 6.4 | V11: =IF($C11="","",SUMIF('TK CHAMTHI'!$D:$D,$C11,'TK CHAMTHI'!$F:$F)) -> 0 | W11: =IF($C11="","",SUMIF('TK CHAMTHI'!$E:$E,$C11,'TK CHAMTHI'!$F:$F)) -> 0 | X11: =IF(C11="","",SUMIF('CHAM NV'!G:G,C11,'CHAM NV'!H:H)) -> 0 | Y11: =IF($C11="","",(SUM($V11:$W11))*0.2) -> 0 | Z11: =IF($C11="","",SUMIF('TK CHAMTHI'!$G:$G,$C11,'TK CHAMTHI'!$I:$I)) -> 0 | AA11: =IF($C11="","",SUMIF('TK CHAMTHI'!$H:$H,$C11,'TK CHAMTHI'!$I:$I)) -> 0 | AB11: =IF(C11="","",SUMIF('CHAM NV'!E:E,C11,'CHAM NV'!F:F)) -> 0 | AC11: =IF($C11="","",(SUM($Z11:$AA11))*0.2) -> 0 | AD11: =IF($C11="","",SUMIF('TK CHAMTHI'!$J:$J,$C11,'TK CHAMTHI'!$L:$L)) -> 0 | AE11: =IF($C11="","",SUMIF('TK CHAMTHI'!$K:$K,$C11,'TK CHAMTHI'!$L:$L)) -> 0 | AF11: =IF(C11="","",SUMIF('CHAM NV'!I:I,C11,'CHAM NV'!J:J)) -> 0 | AG11: =IF($C11="","",(SUM($AD11:$AE11))*0.2) -> 0 | AH11: =IF($C11="","",SUMIF('TK CHAMTHI'!$M:$M,$C11,'TK CHAMTHI'!$O:$O)) -> 0 | AI11: =IF($C11="","",SUMIF('TK CHAMTHI'!$N:$N,$C11,'TK CHAMTHI'!$O:$O)) -> 0 | AJ11: =IF($C11="","",(SUM($AH11:$AI11))*0.2) -> 0 | AK11: =IF($C11="","",SUMIF('TK CHAMTHI'!$P:$P,$C11,'TK CHAMTHI'!$R:$R)) -> 0 | AL11: =IF($C11="","",SUMIF('TK CHAMTHI'!$Q:$Q,$C11,'TK CHAMTHI'!$R:$R)) -> 0 | AM11: =IF($C11="","",(SUM($AK11:$AL11))*0.4) -> 0 | AN11: =IF(C11="","",SUMIF('TK CHAMTHI'!S:S,C11,'TK CHAMTHI'!U:U)) -> 0 | AO11: =IF(C11="","",SUMIF('TK CHAMTHI'!T:T,C11,'TK CHAMTHI'!U:U)) -> 0 | AP11: =IF(C11="","",SUM(AN11:AO11)/10) -> 0 | AQ11: =IF(C11="","",ROUND(SUMIF('QL THI'!G:G,C11,'QL THI'!H:H),1)) -> 0 | AR11: =IF(C11="","",ROUND(SUMIF('QL THI'!E:E,C11,'QL THI'!F:F),1)) -> 0.9 | AS11: =IF(C11="","",ROUND(L11+Q11+U11+Y11+AC11+AG11+AJ11+AM11+AP11+SUM(AQ11:AR11),1)) -> 12.6
A12: =IF(C12="","",SUBTOTAL(3,$C$11:C12)) | D12: =IF($C12="","",SUMIF('TK DETHI'!$A:$A,$C12,'TK DETHI'!$B:$B)) | E12: =IF($C12="","",SUMIF('TK DETHI'!$C:$C,$C12,'TK DETHI'!$D:$D)) | F12: =IF($C12="","",SUMIF('TK DETHI'!$E:$E,$C12,'TK DETHI'!$F:$F)) | G12: =IF($C12="","",SUMIF('TK DETHI'!$G:$G,$C12,'TK DETHI'!$H:$H)) | H12: =IF($C12="","",SUMIF('TK DETHI'!$I:$I,$C12,'TK DETHI'!$J:$J)) | I12: =IF($C12="","",SUMIF('TK DETHI'!$K:$K,$C12,'TK DETHI'!$L:$L)) | J12: =IF($C12="","",SUMIF('TK DETHI'!$M:$M,$C12,'TK DETHI'!$N:$N)) | K12: =IF($C12="","",SUMIF('TK DETHI'!$O:$O,$C12,'TK DETHI'!$P:$P)) | L12: =IF($C12="","",($D12+$E12*1.5+$F12*0.25+$G12*0.5+$H12*2+$I12*2.5+$J12*0.5+$K12*1.5)) | M12: =IF($C12="","",SUMIF('TK COITHI KTHP va Thi TN'!$A:$A,$C12,'TK COITHI KTHP va Thi TN'!$D:$D)) | N12: =IF($C12="","",SUMIF('TK COITHI KTHP va Thi TN'!$B:$B,$C12,'TK COITHI KTHP va Thi TN'!$D:$D)) | O12: =IF($C12="","",SUMIF('TK COITHI KTHP va Thi TN'!$E:$E,$C12,'TK COITHI KTHP va Thi TN'!$H:$H)) | P12: =IF($C12="","",SUMIF('TK COITHI KTHP va Thi TN'!$F:$F,$C12,'TK COITHI KTHP va Thi TN'!$H:$H)) | Q12: =IF($C12="","",SUM($M12:$P12)) | R12: =IF($C12="","",SUMIF('TK CHAMTHI'!$A:$A,$C12,'TK CHAMTHI'!$C:$C)) | S12: =IF($C12="","",SUMIF('TK CHAMTHI'!$B:$B,$C12,'TK CHAMTHI'!$C:$C)) | T12: =IF(C12="","",SUMIF('CHAM NV'!B:B,C12,'CHAM NV'!C:C)) | U12: =IF($C12="","",(SUM($R12:$S12))*0.1) | V12: =IF($C12="","",SUMIF('TK CHAMTHI'!$D:$D,$C12,'TK CHAMTHI'!$F:$F)) | W12: =IF($C12="","",SUMIF('TK CHAMTHI'!$E:$E,$C12,'TK CHAMTHI'!$F:$F)) | X12: =IF(C12="","",SUMIF('CHAM NV'!G:G,C12,'CHAM NV'!H:H)) | Y12: =IF($C12="","",(SUM($V12:$W12))*0.2) | Z12: =IF($C12="","",SUMIF('TK CHAMTHI'!$G:$G,$C12,'TK CHAMTHI'!$I:$I)) | AA12: =IF($C12="","",SUMIF('TK CHAMTHI'!$H:$H,$C12,'TK CHAMTHI'!$I:$I)) | AB12: =IF(C12="","",SUMIF('CHAM NV'!E:E,C12,'CHAM NV'!F:F)) | AC12: =IF($C12="","",(SUM($Z12:$AA12))*0.2) | AD12: =IF($C12="","",SUMIF('TK CHAMTHI'!$J:$J,$C12,'TK CHAMTHI'!$L:$L)) | AE12: =IF($C12="","",SUMIF('TK CHAMTHI'!$K:$K,$C12,'TK CHAMTHI'!$L:$L)) | AF12: =IF(C12="","",SUMIF('CHAM NV'!I:I,C12,'CHAM NV'!J:J)) | AG12: =IF($C12="","",(SUM($AD12:$AE12))*0.2) | AH12: =IF($C12="","",SUMIF('TK CHAMTHI'!$M:$M,$C12,'TK CHAMTHI'!$O:$O)) | AI12: =IF($C12="","",SUMIF('TK CHAMTHI'!$N:$N,$C12,'TK CHAMTHI'!$O:$O)) | AJ12: =IF($C12="","",(SUM($AH12:$AI12))*0.2) | AK12: =IF($C12="","",SUMIF('TK CHAMTHI'!$P:$P,$C12,'TK CHAMTHI'!$R:$R)) | AL12: =IF($C12="","",SUMIF('TK CHAMTHI'!$Q:$Q,$C12,'TK CHAMTHI'!$R:$R)) | AM12: =IF($C12="","",(SUM($AK12:$AL12))*0.4) | AN12: =IF(C12="","",SUMIF('TK CHAMTHI'!S:S,C12,'TK CHAMTHI'!U:U)) | AO12: =IF(C12="","",SUMIF('TK CHAMTHI'!T:T,C12,'TK CHAMTHI'!U:U)) | AP12: =IF(C12="","",SUM(AN12:AO12)/10) | AQ12: =IF(C12="","",ROUND(SUMIF('QL THI'!G:G,C12,'QL THI'!H:H),1)) | AR12: =IF(C12="","",ROUND(SUMIF('QL THI'!E:E,C12,'QL THI'!F:F),1)) | AS12: =IF(C12="","",ROUND(L12+Q12+U12+Y12+AC12+AG12+AJ12+AM12+AP12+SUM(AQ12:AR12),1))
A13: =IF(C13="","",SUBTOTAL(3,$C$11:C13)) | D13: =IF($C13="","",SUMIF('TK DETHI'!$A:$A,$C13,'TK DETHI'!$B:$B)) | E13: =IF($C13="","",SUMIF('TK DETHI'!$C:$C,$C13,'TK DETHI'!$D:$D)) | F13: =IF($C13="","",SUMIF('TK DETHI'!$E:$E,$C13,'TK DETHI'!$F:$F)) | G13: =IF($C13="","",SUMIF('TK DETHI'!$G:$G,$C13,'TK DETHI'!$H:$H)) | H13: =IF($C13="","",SUMIF('TK DETHI'!$I:$I,$C13,'TK DETHI'!$J:$J)) | I13: =IF($C13="","",SUMIF('TK DETHI'!$K:$K,$C13,'TK DETHI'!$L:$L)) | J13: =IF($C13="","",SUMIF('TK DETHI'!$M:$M,$C13,'TK DETHI'!$N:$N)) | K13: =IF($C13="","",SUMIF('TK DETHI'!$O:$O,$C13,'TK DETHI'!$P:$P)) | L13: =IF($C13="","",($D13+$E13*1.5+$F13*0.25+$G13*0.5+$H13*2+$I13*2.5+$J13*0.5+$K13*1.5)) | M13: =IF($C13="","",SUMIF('TK COITHI KTHP va Thi TN'!$A:$A,$C13,'TK COITHI KTHP va Thi TN'!$D:$D)) | N13: =IF($C13="","",SUMIF('TK COITHI KTHP va Thi TN'!$B:$B,$C13,'TK COITHI KTHP va Thi TN'!$D:$D)) | O13: =IF($C13="","",SUMIF('TK COITHI KTHP va Thi TN'!$E:$E,$C13,'TK COITHI KTHP va Thi TN'!$H:$H)) | P13: =IF($C13="","",SUMIF('TK COITHI KTHP va Thi TN'!$F:$F,$C13,'TK COITHI KTHP va Thi TN'!$H:$H)) | Q13: =IF($C13="","",SUM($M13:$P13)) | R13: =IF($C13="","",SUMIF('TK CHAMTHI'!$A:$A,$C13,'TK CHAMTHI'!$C:$C)) | S13: =IF($C13="","",SUMIF('TK CHAMTHI'!$B:$B,$C13,'TK CHAMTHI'!$C:$C)) | T13: =IF(C13="","",SUMIF('CHAM NV'!B:B,C13,'CHAM NV'!C:C)) | U13: =IF($C13="","",(SUM($R13:$S13))*0.1) | V13: =IF($C13="","",SUMIF('TK CHAMTHI'!$D:$D,$C13,'TK CHAMTHI'!$F:$F)) | W13: =IF($C13="","",SUMIF('TK CHAMTHI'!$E:$E,$C13,'TK CHAMTHI'!$F:$F)) | X13: =IF(C13="","",SUMIF('CHAM NV'!G:G,C13,'CHAM NV'!H:H)) | Y13: =IF($C13="","",(SUM($V13:$W13))*0.2) | Z13: =IF($C13="","",SUMIF('TK CHAMTHI'!$G:$G,$C13,'TK CHAMTHI'!$I:$I)) | AA13: =IF($C13="","",SUMIF('TK CHAMTHI'!$H:$H,$C13,'TK CHAMTHI'!$I:$I)) | AB13: =IF(C13="","",SUMIF('CHAM NV'!E:E,C13,'CHAM NV'!F:F)) | AC13: =IF($C13="","",(SUM($Z13:$AA13))*0.2) | AD13: =IF($C13="","",SUMIF('TK CHAMTHI'!$J:$J,$C13,'TK CHAMTHI'!$L:$L)) | AE13: =IF($C13="","",SUMIF('TK CHAMTHI'!$K:$K,$C13,'TK CHAMTHI'!$L:$L)) | AF13: =IF(C13="","",SUMIF('CHAM NV'!I:I,C13,'CHAM NV'!J:J)) | AG13: =IF($C13="","",(SUM($AD13:$AE13))*0.2) | AH13: =IF($C13="","",SUMIF('TK CHAMTHI'!$M:$M,$C13,'TK CHAMTHI'!$O:$O)) | AI13: =IF($C13="","",SUMIF('TK CHAMTHI'!$N:$N,$C13,'TK CHAMTHI'!$O:$O)) | AJ13: =IF($C13="","",(SUM($AH13:$AI13))*0.2) | AK13: =IF($C13="","",SUMIF('TK CHAMTHI'!$P:$P,$C13,'TK CHAMTHI'!$R:$R)) | AL13: =IF($C13="","",SUMIF('TK CHAMTHI'!$Q:$Q,$C13,'TK CHAMTHI'!$R:$R)) | AM13: =IF($C13="","",(SUM($AK13:$AL13))*0.4) | AN13: =IF(C13="","",SUMIF('TK CHAMTHI'!S:S,C13,'TK CHAMTHI'!U:U)) | AO13: =IF(C13="","",SUMIF('TK CHAMTHI'!T:T,C13,'TK CHAMTHI'!U:U)) | AP13: =IF(C13="","",SUM(AN13:AO13)/10) | AQ13: =IF(C13="","",ROUND(SUMIF('QL THI'!G:G,C13,'QL THI'!H:H),1)) | AR13: =IF(C13="","",ROUND(SUMIF('QL THI'!E:E,C13,'QL THI'!F:F),1)) | AS13: =IF(C13="","",ROUND(L13+Q13+U13+Y13+AC13+AG13+AJ13+AM13+AP13+SUM(AQ13:AR13),1))
A14: =IF(C14="","",SUBTOTAL(3,$C$11:C14)) | D14: =IF($C14="","",SUMIF('TK DETHI'!$A:$A,$C14,'TK DETHI'!$B:$B)) | E14: =IF($C14="","",SUMIF('TK DETHI'!$C:$C,$C14,'TK DETHI'!$D:$D)) | F14: =IF($C14="","",SUMIF('TK DETHI'!$E:$E,$C14,'TK DETHI'!$F:$F)) | G14: =IF($C14="","",SUMIF('TK DETHI'!$G:$G,$C14,'TK DETHI'!$H:$H)) | H14: =IF($C14="","",SUMIF('TK DETHI'!$I:$I,$C14,'TK DETHI'!$J:$J)) | I14: =IF($C14="","",SUMIF('TK DETHI'!$K:$K,$C14,'TK DETHI'!$L:$L)) | J14: =IF($C14="","",SUMIF('TK DETHI'!$M:$M,$C14,'TK DETHI'!$N:$N)) | K14: =IF($C14="","",SUMIF('TK DETHI'!$O:$O,$C14,'TK DETHI'!$P:$P)) | L14: =IF($C14="","",($D14+$E14*1.5+$F14*0.25+$G14*0.5+$H14*2+$I14*2.5+$J14*0.5+$K14*1.5)) | M14: =IF($C14="","",SUMIF('TK COITHI KTHP va Thi TN'!$A:$A,$C14,'TK COITHI KTHP va Thi TN'!$D:$D)) | N14: =IF($C14="","",SUMIF('TK COITHI KTHP va Thi TN'!$B:$B,$C14,'TK COITHI KTHP va Thi TN'!$D:$D)) | O14: =IF($C14="","",SUMIF('TK COITHI KTHP va Thi TN'!$E:$E,$C14,'TK COITHI KTHP va Thi TN'!$H:$H)) | P14: =IF($C14="","",SUMIF('TK COITHI KTHP va Thi TN'!$F:$F,$C14,'TK COITHI KTHP va Thi TN'!$H:$H)) | Q14: =IF($C14="","",SUM($M14:$P14)) | R14: =IF($C14="","",SUMIF('TK CHAMTHI'!$A:$A,$C14,'TK CHAMTHI'!$C:$C)) | S14: =IF($C14="","",SUMIF('TK CHAMTHI'!$B:$B,$C14,'TK CHAMTHI'!$C:$C)) | T14: =IF(C14="","",SUMIF('CHAM NV'!B:B,C14,'CHAM NV'!C:C)) | U14: =IF($C14="","",(SUM($R14:$S14))*0.1) | V14: =IF($C14="","",SUMIF('TK CHAMTHI'!$D:$D,$C14,'TK CHAMTHI'!$F:$F)) | W14: =IF($C14="","",SUMIF('TK CHAMTHI'!$E:$E,$C14,'TK CHAMTHI'!$F:$F)) | X14: =IF(C14="","",SUMIF('CHAM NV'!G:G,C14,'CHAM NV'!H:H)) | Y14: =IF($C14="","",(SUM($V14:$W14))*0.2) | Z14: =IF($C14="","",SUMIF('TK CHAMTHI'!$G:$G,$C14,'TK CHAMTHI'!$I:$I)) | AA14: =IF($C14="","",SUMIF('TK CHAMTHI'!$H:$H,$C14,'TK CHAMTHI'!$I:$I)) | AB14: =IF(C14="","",SUMIF('CHAM NV'!E:E,C14,'CHAM NV'!F:F)) | AC14: =IF($C14="","",(SUM($Z14:$AA14))*0.2) | AD14: =IF($C14="","",SUMIF('TK CHAMTHI'!$J:$J,$C14,'TK CHAMTHI'!$L:$L)) | AE14: =IF($C14="","",SUMIF('TK CHAMTHI'!$K:$K,$C14,'TK CHAMTHI'!$L:$L)) | AF14: =IF(C14="","",SUMIF('CHAM NV'!I:I,C14,'CHAM NV'!J:J)) | AG14: =IF($C14="","",(SUM($AD14:$AE14))*0.2) | AH14: =IF($C14="","",SUMIF('TK CHAMTHI'!$M:$M,$C14,'TK CHAMTHI'!$O:$O)) | AI14: =IF($C14="","",SUMIF('TK CHAMTHI'!$N:$N,$C14,'TK CHAMTHI'!$O:$O)) | AJ14: =IF($C14="","",(SUM($AH14:$AI14))*0.2) | AK14: =IF($C14="","",SUMIF('TK CHAMTHI'!$P:$P,$C14,'TK CHAMTHI'!$R:$R)) | AL14: =IF($C14="","",SUMIF('TK CHAMTHI'!$Q:$Q,$C14,'TK CHAMTHI'!$R:$R)) | AM14: =IF($C14="","",(SUM($AK14:$AL14))*0.4) | AN14: =IF(C14="","",SUMIF('TK CHAMTHI'!S:S,C14,'TK CHAMTHI'!U:U)) | AO14: =IF(C14="","",SUMIF('TK CHAMTHI'!T:T,C14,'TK CHAMTHI'!U:U)) | AP14: =IF(C14="","",SUM(AN14:AO14)/10) | AQ14: =IF(C14="","",ROUND(SUMIF('QL THI'!G:G,C14,'QL THI'!H:H),1)) | AR14: =IF(C14="","",ROUND(SUMIF('QL THI'!E:E,C14,'QL THI'!F:F),1)) | AS14: =IF(C14="","",ROUND(L14+Q14+U14+Y14+AC14+AG14+AJ14+AM14+AP14+SUM(AQ14:AR14),1))
A15: =IF(C15="","",SUBTOTAL(3,$C$11:C15)) | D15: =IF($C15="","",SUMIF('TK DETHI'!$A:$A,$C15,'TK DETHI'!$B:$B)) | E15: =IF($C15="","",SUMIF('TK DETHI'!$C:$C,$C15,'TK DETHI'!$D:$D)) | F15: =IF($C15="","",SUMIF('TK DETHI'!$E:$E,$C15,'TK DETHI'!$F:$F)) | G15: =IF($C15="","",SUMIF('TK DETHI'!$G:$G,$C15,'TK DETHI'!$H:$H)) | H15: =IF($C15="","",SUMIF('TK DETHI'!$I:$I,$C15,'TK DETHI'!$J:$J)) | I15: =IF($C15="","",SUMIF('TK DETHI'!$K:$K,$C15,'TK DETHI'!$L:$L)) | J15: =IF($C15="","",SUMIF('TK DETHI'!$M:$M,$C15,'TK DETHI'!$N:$N)) | K15: =IF($C15="","",SUMIF('TK DETHI'!$O:$O,$C15,'TK DETHI'!$P:$P)) | L15: =IF($C15="","",($D15+$E15*1.5+$F15*0.25+$G15*0.5+$H15*2+$I15*2.5+$J15*0.5+$K15*1.5)) | M15: =IF($C15="","",SUMIF('TK COITHI KTHP va Thi TN'!$A:$A,$C15,'TK COITHI KTHP va Thi TN'!$D:$D)) | N15: =IF($C15="","",SUMIF('TK COITHI KTHP va Thi TN'!$B:$B,$C15,'TK COITHI KTHP va Thi TN'!$D:$D)) | O15: =IF($C15="","",SUMIF('TK COITHI KTHP va Thi TN'!$E:$E,$C15,'TK COITHI KTHP va Thi TN'!$H:$H)) | P15: =IF($C15="","",SUMIF('TK COITHI KTHP va Thi TN'!$F:$F,$C15,'TK COITHI KTHP va Thi TN'!$H:$H)) | Q15: =IF($C15="","",SUM($M15:$P15)) | R15: =IF($C15="","",SUMIF('TK CHAMTHI'!$A:$A,$C15,'TK CHAMTHI'!$C:$C)) | S15: =IF($C15="","",SUMIF('TK CHAMTHI'!$B:$B,$C15,'TK CHAMTHI'!$C:$C)) | T15: =IF(C15="","",SUMIF('CHAM NV'!B:B,C15,'CHAM NV'!C:C)) | U15: =IF($C15="","",(SUM($R15:$S15))*0.1) | V15: =IF($C15="","",SUMIF('TK CHAMTHI'!$D:$D,$C15,'TK CHAMTHI'!$F:$F)) | W15: =IF($C15="","",SUMIF('TK CHAMTHI'!$E:$E,$C15,'TK CHAMTHI'!$F:$F)) | X15: =IF(C15="","",SUMIF('CHAM NV'!G:G,C15,'CHAM NV'!H:H)) | Y15: =IF($C15="","",(SUM($V15:$W15))*0.2) | Z15: =IF($C15="","",SUMIF('TK CHAMTHI'!$G:$G,$C15,'TK CHAMTHI'!$I:$I)) | AA15: =IF($C15="","",SUMIF('TK CHAMTHI'!$H:$H,$C15,'TK CHAMTHI'!$I:$I)) | AB15: =IF(C15="","",SUMIF('CHAM NV'!E:E,C15,'CHAM NV'!F:F)) | AC15: =IF($C15="","",(SUM($Z15:$AA15))*0.2) | AD15: =IF($C15="","",SUMIF('TK CHAMTHI'!$J:$J,$C15,'TK CHAMTHI'!$L:$L)) | AE15: =IF($C15="","",SUMIF('TK CHAMTHI'!$K:$K,$C15,'TK CHAMTHI'!$L:$L)) | AF15: =IF(C15="","",SUMIF('CHAM NV'!I:I,C15,'CHAM NV'!J:J)) | AG15: =IF($C15="","",(SUM($AD15:$AE15))*0.2) | AH15: =IF($C15="","",SUMIF('TK CHAMTHI'!$M:$M,$C15,'TK CHAMTHI'!$O:$O)) | AI15: =IF($C15="","",SUMIF('TK CHAMTHI'!$N:$N,$C15,'TK CHAMTHI'!$O:$O)) | AJ15: =IF($C15="","",(SUM($AH15:$AI15))*0.2) | AK15: =IF($C15="","",SUMIF('TK CHAMTHI'!$P:$P,$C15,'TK CHAMTHI'!$R:$R)) | AL15: =IF($C15="","",SUMIF('TK CHAMTHI'!$Q:$Q,$C15,'TK CHAMTHI'!$R:$R)) | AM15: =IF($C15="","",(SUM($AK15:$AL15))*0.4) | AN15: =IF(C15="","",SUMIF('TK CHAMTHI'!S:S,C15,'TK CHAMTHI'!U:U)) | AO15: =IF(C15="","",SUMIF('TK CHAMTHI'!T:T,C15,'TK CHAMTHI'!U:U)) | AP15: =IF(C15="","",SUM(AN15:AO15)/10) | AQ15: =IF(C15="","",ROUND(SUMIF('QL THI'!G:G,C15,'QL THI'!H:H),1)) | AR15: =IF(C15="","",ROUND(SUMIF('QL THI'!E:E,C15,'QL THI'!F:F),1)) | AS15: =IF(C15="","",ROUND(L15+Q15+U15+Y15+AC15+AG15+AJ15+AM15+AP15+SUM(AQ15:AR15),1))
A16: =IF(C16="","",SUBTOTAL(3,$C$11:C16)) | D16: =IF($C16="","",SUMIF('TK DETHI'!$A:$A,$C16,'TK DETHI'!$B:$B)) | E16: =IF($C16="","",SUMIF('TK DETHI'!$C:$C,$C16,'TK DETHI'!$D:$D)) | F16: =IF($C16="","",SUMIF('TK DETHI'!$E:$E,$C16,'TK DETHI'!$F:$F)) | G16: =IF($C16="","",SUMIF('TK DETHI'!$G:$G,$C16,'TK DETHI'!$H:$H)) | H16: =IF($C16="","",SUMIF('TK DETHI'!$I:$I,$C16,'TK DETHI'!$J:$J)) | I16: =IF($C16="","",SUMIF('TK DETHI'!$K:$K,$C16,'TK DETHI'!$L:$L)) | J16: =IF($C16="","",SUMIF('TK DETHI'!$M:$M,$C16,'TK DETHI'!$N:$N)) | K16: =IF($C16="","",SUMIF('TK DETHI'!$O:$O,$C16,'TK DETHI'!$P:$P)) | L16: =IF($C16="","",($D16+$E16*1.5+$F16*0.25+$G16*0.5+$H16*2+$I16*2.5+$J16*0.5+$K16*1.5)) | M16: =IF($C16="","",SUMIF('TK COITHI KTHP va Thi TN'!$A:$A,$C16,'TK COITHI KTHP va Thi TN'!$D:$D)) | N16: =IF($C16="","",SUMIF('TK COITHI KTHP va Thi TN'!$B:$B,$C16,'TK COITHI KTHP va Thi TN'!$D:$D)) | O16: =IF($C16="","",SUMIF('TK COITHI KTHP va Thi TN'!$E:$E,$C16,'TK COITHI KTHP va Thi TN'!$H:$H)) | P16: =IF($C16="","",SUMIF('TK COITHI KTHP va Thi TN'!$F:$F,$C16,'TK COITHI KTHP va Thi TN'!$H:$H)) | Q16: =IF($C16="","",SUM($M16:$P16)) | R16: =IF($C16="","",SUMIF('TK CHAMTHI'!$A:$A,$C16,'TK CHAMTHI'!$C:$C)) | S16: =IF($C16="","",SUMIF('TK CHAMTHI'!$B:$B,$C16,'TK CHAMTHI'!$C:$C)) | T16: =IF(C16="","",SUMIF('CHAM NV'!B:B,C16,'CHAM NV'!C:C)) | U16: =IF($C16="","",(SUM($R16:$S16))*0.1) | V16: =IF($C16="","",SUMIF('TK CHAMTHI'!$D:$D,$C16,'TK CHAMTHI'!$F:$F)) | W16: =IF($C16="","",SUMIF('TK CHAMTHI'!$E:$E,$C16,'TK CHAMTHI'!$F:$F)) | X16: =IF(C16="","",SUMIF('CHAM NV'!G:G,C16,'CHAM NV'!H:H)) | Y16: =IF($C16="","",(SUM($V16:$W16))*0.2) | Z16: =IF($C16="","",SUMIF('TK CHAMTHI'!$G:$G,$C16,'TK CHAMTHI'!$I:$I)) | AA16: =IF($C16="","",SUMIF('TK CHAMTHI'!$H:$H,$C16,'TK CHAMTHI'!$I:$I)) | AB16: =IF(C16="","",SUMIF('CHAM NV'!E:E,C16,'CHAM NV'!F:F)) | AC16: =IF($C16="","",(SUM($Z16:$AA16))*0.2) | AD16: =IF($C16="","",SUMIF('TK CHAMTHI'!$J:$J,$C16,'TK CHAMTHI'!$L:$L)) | AE16: =IF($C16="","",SUMIF('TK CHAMTHI'!$K:$K,$C16,'TK CHAMTHI'!$L:$L)) | AF16: =IF(C16="","",SUMIF('CHAM NV'!I:I,C16,'CHAM NV'!J:J)) | AG16: =IF($C16="","",(SUM($AD16:$AE16))*0.2) | AH16: =IF($C16="","",SUMIF('TK CHAMTHI'!$M:$M,$C16,'TK CHAMTHI'!$O:$O)) | AI16: =IF($C16="","",SUMIF('TK CHAMTHI'!$N:$N,$C16,'TK CHAMTHI'!$O:$O)) | AJ16: =IF($C16="","",(SUM($AH16:$AI16))*0.2) | AK16: =IF($C16="","",SUMIF('TK CHAMTHI'!$P:$P,$C16,'TK CHAMTHI'!$R:$R)) | AL16: =IF($C16="","",SUMIF('TK CHAMTHI'!$Q:$Q,$C16,'TK CHAMTHI'!$R:$R)) | AM16: =IF($C16="","",(SUM($AK16:$AL16))*0.4) | AN16: =IF(C16="","",SUMIF('TK CHAMTHI'!S:S,C16,'TK CHAMTHI'!U:U)) | AO16: =IF(C16="","",SUMIF('TK CHAMTHI'!T:T,C16,'TK CHAMTHI'!U:U)) | AP16: =IF(C16="","",SUM(AN16:AO16)/10) | AQ16: =IF(C16="","",ROUND(SUMIF('QL THI'!G:G,C16,'QL THI'!H:H),1)) | AR16: =IF(C16="","",ROUND(SUMIF('QL THI'!E:E,C16,'QL THI'!F:F),1)) | AS16: =IF(C16="","",ROUND(L16+Q16+U16+Y16+AC16+AG16+AJ16+AM16+AP16+SUM(AQ16:AR16),1))
A17: =IF(C17="","",SUBTOTAL(3,$C$11:C17)) | D17: =IF($C17="","",SUMIF('TK DETHI'!$A:$A,$C17,'TK DETHI'!$B:$B)) | E17: =IF($C17="","",SUMIF('TK DETHI'!$C:$C,$C17,'TK DETHI'!$D:$D)) | F17: =IF($C17="","",SUMIF('TK DETHI'!$E:$E,$C17,'TK DETHI'!$F:$F)) | G17: =IF($C17="","",SUMIF('TK DETHI'!$G:$G,$C17,'TK DETHI'!$H:$H)) | H17: =IF($C17="","",SUMIF('TK DETHI'!$I:$I,$C17,'TK DETHI'!$J:$J)) | I17: =IF($C17="","",SUMIF('TK DETHI'!$K:$K,$C17,'TK DETHI'!$L:$L)) | J17: =IF($C17="","",SUMIF('TK DETHI'!$M:$M,$C17,'TK DETHI'!$N:$N)) | K17: =IF($C17="","",SUMIF('TK DETHI'!$O:$O,$C17,'TK DETHI'!$P:$P)) | L17: =IF($C17="","",($D17+$E17*1.5+$F17*0.25+$G17*0.5+$H17*2+$I17*2.5+$J17*0.5+$K17*1.5)) | M17: =IF($C17="","",SUMIF('TK COITHI KTHP va Thi TN'!$A:$A,$C17,'TK COITHI KTHP va Thi TN'!$D:$D)) | N17: =IF($C17="","",SUMIF('TK COITHI KTHP va Thi TN'!$B:$B,$C17,'TK COITHI KTHP va Thi TN'!$D:$D)) | O17: =IF($C17="","",SUMIF('TK COITHI KTHP va Thi TN'!$E:$E,$C17,'TK COITHI KTHP va Thi TN'!$H:$H)) | P17: =IF($C17="","",SUMIF('TK COITHI KTHP va Thi TN'!$F:$F,$C17,'TK COITHI KTHP va Thi TN'!$H:$H)) | Q17: =IF($C17="","",SUM($M17:$P17)) | R17: =IF($C17="","",SUMIF('TK CHAMTHI'!$A:$A,$C17,'TK CHAMTHI'!$C:$C)) | S17: =IF($C17="","",SUMIF('TK CHAMTHI'!$B:$B,$C17,'TK CHAMTHI'!$C:$C)) | T17: =IF(C17="","",SUMIF('CHAM NV'!B:B,C17,'CHAM NV'!C:C)) | U17: =IF($C17="","",(SUM($R17:$S17))*0.1) | V17: =IF($C17="","",SUMIF('TK CHAMTHI'!$D:$D,$C17,'TK CHAMTHI'!$F:$F)) | W17: =IF($C17="","",SUMIF('TK CHAMTHI'!$E:$E,$C17,'TK CHAMTHI'!$F:$F)) | X17: =IF(C17="","",SUMIF('CHAM NV'!G:G,C17,'CHAM NV'!H:H)) | Y17: =IF($C17="","",(SUM($V17:$W17))*0.2) | Z17: =IF($C17="","",SUMIF('TK CHAMTHI'!$G:$G,$C17,'TK CHAMTHI'!$I:$I)) | AA17: =IF($C17="","",SUMIF('TK CHAMTHI'!$H:$H,$C17,'TK CHAMTHI'!$I:$I)) | AB17: =IF(C17="","",SUMIF('CHAM NV'!E:E,C17,'CHAM NV'!F:F)) | AC17: =IF($C17="","",(SUM($Z17:$AA17))*0.2) | AD17: =IF($C17="","",SUMIF('TK CHAMTHI'!$J:$J,$C17,'TK CHAMTHI'!$L:$L)) | AE17: =IF($C17="","",SUMIF('TK CHAMTHI'!$K:$K,$C17,'TK CHAMTHI'!$L:$L)) | AF17: =IF(C17="","",SUMIF('CHAM NV'!I:I,C17,'CHAM NV'!J:J)) | AG17: =IF($C17="","",(SUM($AD17:$AE17))*0.2) | AH17: =IF($C17="","",SUMIF('TK CHAMTHI'!$M:$M,$C17,'TK CHAMTHI'!$O:$O)) | AI17: =IF($C17="","",SUMIF('TK CHAMTHI'!$N:$N,$C17,'TK CHAMTHI'!$O:$O)) | AJ17: =IF($C17="","",(SUM($AH17:$AI17))*0.2) | AK17: =IF($C17="","",SUMIF('TK CHAMTHI'!$P:$P,$C17,'TK CHAMTHI'!$R:$R)) | AL17: =IF($C17="","",SUMIF('TK CHAMTHI'!$Q:$Q,$C17,'TK CHAMTHI'!$R:$R)) | AM17: =IF($C17="","",(SUM($AK17:$AL17))*0.4) | AN17: =IF(C17="","",SUMIF('TK CHAMTHI'!S:S,C17,'TK CHAMTHI'!U:U)) | AO17: =IF(C17="","",SUMIF('TK CHAMTHI'!T:T,C17,'TK CHAMTHI'!U:U)) | AP17: =IF(C17="","",SUM(AN17:AO17)/10) | AQ17: =IF(C17="","",ROUND(SUMIF('QL THI'!G:G,C17,'QL THI'!H:H),1)) | AR17: =IF(C17="","",ROUND(SUMIF('QL THI'!E:E,C17,'QL THI'!F:F),1)) | AS17: =IF(C17="","",ROUND(L17+Q17+U17+Y17+AC17+AG17+AJ17+AM17+AP17+SUM(AQ17:AR17),1))
A18: =IF(C18="","",SUBTOTAL(3,$C$11:C18)) | D18: =IF($C18="","",SUMIF('TK DETHI'!$A:$A,$C18,'TK DETHI'!$B:$B)) | E18: =IF($C18="","",SUMIF('TK DETHI'!$C:$C,$C18,'TK DETHI'!$D:$D)) | F18: =IF($C18="","",SUMIF('TK DETHI'!$E:$E,$C18,'TK DETHI'!$F:$F)) | G18: =IF($C18="","",SUMIF('TK DETHI'!$G:$G,$C18,'TK DETHI'!$H:$H)) | H18: =IF($C18="","",SUMIF('TK DETHI'!$I:$I,$C18,'TK DETHI'!$J:$J)) | I18: =IF($C18="","",SUMIF('TK DETHI'!$K:$K,$C18,'TK DETHI'!$L:$L)) | J18: =IF($C18="","",SUMIF('TK DETHI'!$M:$M,$C18,'TK DETHI'!$N:$N)) | K18: =IF($C18="","",SUMIF('TK DETHI'!$O:$O,$C18,'TK DETHI'!$P:$P)) | L18: =IF($C18="","",($D18+$E18*1.5+$F18*0.25+$G18*0.5+$H18*2+$I18*2.5+$J18*0.5+$K18*1.5)) | M18: =IF($C18="","",SUMIF('TK COITHI KTHP va Thi TN'!$A:$A,$C18,'TK COITHI KTHP va Thi TN'!$D:$D)) | N18: =IF($C18="","",SUMIF('TK COITHI KTHP va Thi TN'!$B:$B,$C18,'TK COITHI KTHP va Thi TN'!$D:$D)) | O18: =IF($C18="","",SUMIF('TK COITHI KTHP va Thi TN'!$E:$E,$C18,'TK COITHI KTHP va Thi TN'!$H:$H)) | P18: =IF($C18="","",SUMIF('TK COITHI KTHP va Thi TN'!$F:$F,$C18,'TK COITHI KTHP va Thi TN'!$H:$H)) | Q18: =IF($C18="","",SUM($M18:$P18)) | R18: =IF($C18="","",SUMIF('TK CHAMTHI'!$A:$A,$C18,'TK CHAMTHI'!$C:$C)) | S18: =IF($C18="","",SUMIF('TK CHAMTHI'!$B:$B,$C18,'TK CHAMTHI'!$C:$C)) | T18: =IF(C18="","",SUMIF('CHAM NV'!B:B,C18,'CHAM NV'!C:C)) | U18: =IF($C18="","",(SUM($R18:$S18))*0.1) | V18: =IF($C18="","",SUMIF('TK CHAMTHI'!$D:$D,$C18,'TK CHAMTHI'!$F:$F)) | W18: =IF($C18="","",SUMIF('TK CHAMTHI'!$E:$E,$C18,'TK CHAMTHI'!$F:$F)) | X18: =IF(C18="","",SUMIF('CHAM NV'!G:G,C18,'CHAM NV'!H:H)) | Y18: =IF($C18="","",(SUM($V18:$W18))*0.2) | Z18: =IF($C18="","",SUMIF('TK CHAMTHI'!$G:$G,$C18,'TK CHAMTHI'!$I:$I)) | AA18: =IF($C18="","",SUMIF('TK CHAMTHI'!$H:$H,$C18,'TK CHAMTHI'!$I:$I)) | AB18: =IF(C18="","",SUMIF('CHAM NV'!E:E,C18,'CHAM NV'!F:F)) | AC18: =IF($C18="","",(SUM($Z18:$AA18))*0.2) | AD18: =IF($C18="","",SUMIF('TK CHAMTHI'!$J:$J,$C18,'TK CHAMTHI'!$L:$L)) | AE18: =IF($C18="","",SUMIF('TK CHAMTHI'!$K:$K,$C18,'TK CHAMTHI'!$L:$L)) | AF18: =IF(C18="","",SUMIF('CHAM NV'!I:I,C18,'CHAM NV'!J:J)) | AG18: =IF($C18="","",(SUM($AD18:$AE18))*0.2) | AH18: =IF($C18="","",SUMIF('TK CHAMTHI'!$M:$M,$C18,'TK CHAMTHI'!$O:$O)) | AI18: =IF($C18="","",SUMIF('TK CHAMTHI'!$N:$N,$C18,'TK CHAMTHI'!$O:$O)) | AJ18: =IF($C18="","",(SUM($AH18:$AI18))*0.2) | AK18: =IF($C18="","",SUMIF('TK CHAMTHI'!$P:$P,$C18,'TK CHAMTHI'!$R:$R)) | AL18: =IF($C18="","",SUMIF('TK CHAMTHI'!$Q:$Q,$C18,'TK CHAMTHI'!$R:$R)) | AM18: =IF($C18="","",(SUM($AK18:$AL18))*0.4) | AN18: =IF(C18="","",SUMIF('TK CHAMTHI'!S:S,C18,'TK CHAMTHI'!U:U)) | AO18: =IF(C18="","",SUMIF('TK CHAMTHI'!T:T,C18,'TK CHAMTHI'!U:U)) | AP18: =IF(C18="","",SUM(AN18:AO18)/10) | AQ18: =IF(C18="","",ROUND(SUMIF('QL THI'!G:G,C18,'QL THI'!H:H),1)) | AR18: =IF(C18="","",ROUND(SUMIF('QL THI'!E:E,C18,'QL THI'!F:F),1)) | AS18: =IF(C18="","",ROUND(L18+Q18+U18+Y18+AC18+AG18+AJ18+AM18+AP18+SUM(AQ18:AR18),1))
A19: =IF(C19="","",SUBTOTAL(3,$C$11:C19)) | D19: =IF($C19="","",SUMIF('TK DETHI'!$A:$A,$C19,'TK DETHI'!$B:$B)) | E19: =IF($C19="","",SUMIF('TK DETHI'!$C:$C,$C19,'TK DETHI'!$D:$D)) | F19: =IF($C19="","",SUMIF('TK DETHI'!$E:$E,$C19,'TK DETHI'!$F:$F)) | G19: =IF($C19="","",SUMIF('TK DETHI'!$G:$G,$C19,'TK DETHI'!$H:$H)) | H19: =IF($C19="","",SUMIF('TK DETHI'!$I:$I,$C19,'TK DETHI'!$J:$J)) | I19: =IF($C19="","",SUMIF('TK DETHI'!$K:$K,$C19,'TK DETHI'!$L:$L)) | J19: =IF($C19="","",SUMIF('TK DETHI'!$M:$M,$C19,'TK DETHI'!$N:$N)) | K19: =IF($C19="","",SUMIF('TK DETHI'!$O:$O,$C19,'TK DETHI'!$P:$P)) | L19: =IF($C19="","",($D19+$E19*1.5+$F19*0.25+$G19*0.5+$H19*2+$I19*2.5+$J19*0.5+$K19*1.5)) | M19: =IF($C19="","",SUMIF('TK COITHI KTHP va Thi TN'!$A:$A,$C19,'TK COITHI KTHP va Thi TN'!$D:$D)) | N19: =IF($C19="","",SUMIF('TK COITHI KTHP va Thi TN'!$B:$B,$C19,'TK COITHI KTHP va Thi TN'!$D:$D)) | O19: =IF($C19="","",SUMIF('TK COITHI KTHP va Thi TN'!$E:$E,$C19,'TK COITHI KTHP va Thi TN'!$H:$H)) | P19: =IF($C19="","",SUMIF('TK COITHI KTHP va Thi TN'!$F:$F,$C19,'TK COITHI KTHP va Thi TN'!$H:$H)) | Q19: =IF($C19="","",SUM($M19:$P19)) | R19: =IF($C19="","",SUMIF('TK CHAMTHI'!$A:$A,$C19,'TK CHAMTHI'!$C:$C)) | S19: =IF($C19="","",SUMIF('TK CHAMTHI'!$B:$B,$C19,'TK CHAMTHI'!$C:$C)) | T19: =IF(C19="","",SUMIF('CHAM NV'!B:B,C19,'CHAM NV'!C:C)) | U19: =IF($C19="","",(SUM($R19:$S19))*0.1) | V19: =IF($C19="","",SUMIF('TK CHAMTHI'!$D:$D,$C19,'TK CHAMTHI'!$F:$F)) | W19: =IF($C19="","",SUMIF('TK CHAMTHI'!$E:$E,$C19,'TK CHAMTHI'!$F:$F)) | X19: =IF(C19="","",SUMIF('CHAM NV'!G:G,C19,'CHAM NV'!H:H)) | Y19: =IF($C19="","",(SUM($V19:$W19))*0.2) | Z19: =IF($C19="","",SUMIF('TK CHAMTHI'!$G:$G,$C19,'TK CHAMTHI'!$I:$I)) | AA19: =IF($C19="","",SUMIF('TK CHAMTHI'!$H:$H,$C19,'TK CHAMTHI'!$I:$I)) | AB19: =IF(C19="","",SUMIF('CHAM NV'!E:E,C19,'CHAM NV'!F:F)) | AC19: =IF($C19="","",(SUM($Z19:$AA19))*0.2) | AD19: =IF($C19="","",SUMIF('TK CHAMTHI'!$J:$J,$C19,'TK CHAMTHI'!$L:$L)) | AE19: =IF($C19="","",SUMIF('TK CHAMTHI'!$K:$K,$C19,'TK CHAMTHI'!$L:$L)) | AF19: =IF(C19="","",SUMIF('CHAM NV'!I:I,C19,'CHAM NV'!J:J)) | AG19: =IF($C19="","",(SUM($AD19:$AE19))*0.2) | AH19: =IF($C19="","",SUMIF('TK CHAMTHI'!$M:$M,$C19,'TK CHAMTHI'!$O:$O)) | AI19: =IF($C19="","",SUMIF('TK CHAMTHI'!$N:$N,$C19,'TK CHAMTHI'!$O:$O)) | AJ19: =IF($C19="","",(SUM($AH19:$AI19))*0.2) | AK19: =IF($C19="","",SUMIF('TK CHAMTHI'!$P:$P,$C19,'TK CHAMTHI'!$R:$R)) | AL19: =IF($C19="","",SUMIF('TK CHAMTHI'!$Q:$Q,$C19,'TK CHAMTHI'!$R:$R)) | AM19: =IF($C19="","",(SUM($AK19:$AL19))*0.4) | AN19: =IF(C19="","",SUMIF('TK CHAMTHI'!S:S,C19,'TK CHAMTHI'!U:U)) | AO19: =IF(C19="","",SUMIF('TK CHAMTHI'!T:T,C19,'TK CHAMTHI'!U:U)) | AP19: =IF(C19="","",SUM(AN19:AO19)/10) | AQ19: =IF(C19="","",ROUND(SUMIF('QL THI'!G:G,C19,'QL THI'!H:H),1)) | AR19: =IF(C19="","",ROUND(SUMIF('QL THI'!E:E,C19,'QL THI'!F:F),1)) | AS19: =IF(C19="","",ROUND(L19+Q19+U19+Y19+AC19+AG19+AJ19+AM19+AP19+SUM(AQ19:AR19),1))
A20: =IF(C20="","",SUBTOTAL(3,$C$11:C20)) | D20: =IF($C20="","",SUMIF('TK DETHI'!$A:$A,$C20,'TK DETHI'!$B:$B)) | E20: =IF($C20="","",SUMIF('TK DETHI'!$C:$C,$C20,'TK DETHI'!$D:$D)) | F20: =IF($C20="","",SUMIF('TK DETHI'!$E:$E,$C20,'TK DETHI'!$F:$F)) | G20: =IF($C20="","",SUMIF('TK DETHI'!$G:$G,$C20,'TK DETHI'!$H:$H)) | H20: =IF($C20="","",SUMIF('TK DETHI'!$I:$I,$C20,'TK DETHI'!$J:$J)) | I20: =IF($C20="","",SUMIF('TK DETHI'!$K:$K,$C20,'TK DETHI'!$L:$L)) | J20: =IF($C20="","",SUMIF('TK DETHI'!$M:$M,$C20,'TK DETHI'!$N:$N)) | K20: =IF($C20="","",SUMIF('TK DETHI'!$O:$O,$C20,'TK DETHI'!$P:$P)) | L20: =IF($C20="","",($D20+$E20*1.5+$F20*0.25+$G20*0.5+$H20*2+$I20*2.5+$J20*0.5+$K20*1.5)) | M20: =IF($C20="","",SUMIF('TK COITHI KTHP va Thi TN'!$A:$A,$C20,'TK COITHI KTHP va Thi TN'!$D:$D)) | N20: =IF($C20="","",SUMIF('TK COITHI KTHP va Thi TN'!$B:$B,$C20,'TK COITHI KTHP va Thi TN'!$D:$D)) | O20: =IF($C20="","",SUMIF('TK COITHI KTHP va Thi TN'!$E:$E,$C20,'TK COITHI KTHP va Thi TN'!$H:$H)) | P20: =IF($C20="","",SUMIF('TK COITHI KTHP va Thi TN'!$F:$F,$C20,'TK COITHI KTHP va Thi TN'!$H:$H)) | Q20: =IF($C20="","",SUM($M20:$P20)) | R20: =IF($C20="","",SUMIF('TK CHAMTHI'!$A:$A,$C20,'TK CHAMTHI'!$C:$C)) | S20: =IF($C20="","",SUMIF('TK CHAMTHI'!$B:$B,$C20,'TK CHAMTHI'!$C:$C)) | T20: =IF(C20="","",SUMIF('CHAM NV'!B:B,C20,'CHAM NV'!C:C)) | U20: =IF($C20="","",(SUM($R20:$S20))*0.1) | V20: =IF($C20="","",SUMIF('TK CHAMTHI'!$D:$D,$C20,'TK CHAMTHI'!$F:$F)) | W20: =IF($C20="","",SUMIF('TK CHAMTHI'!$E:$E,$C20,'TK CHAMTHI'!$F:$F)) | X20: =IF(C20="","",SUMIF('CHAM NV'!G:G,C20,'CHAM NV'!H:H)) | Y20: =IF($C20="","",(SUM($V20:$W20))*0.2) | Z20: =IF($C20="","",SUMIF('TK CHAMTHI'!$G:$G,$C20,'TK CHAMTHI'!$I:$I)) | AA20: =IF($C20="","",SUMIF('TK CHAMTHI'!$H:$H,$C20,'TK CHAMTHI'!$I:$I)) | AB20: =IF(C20="","",SUMIF('CHAM NV'!E:E,C20,'CHAM NV'!F:F)) | AC20: =IF($C20="","",(SUM($Z20:$AA20))*0.2) | AD20: =IF($C20="","",SUMIF('TK CHAMTHI'!$J:$J,$C20,'TK CHAMTHI'!$L:$L)) | AE20: =IF($C20="","",SUMIF('TK CHAMTHI'!$K:$K,$C20,'TK CHAMTHI'!$L:$L)) | AF20: =IF(C20="","",SUMIF('CHAM NV'!I:I,C20,'CHAM NV'!J:J)) | AG20: =IF($C20="","",(SUM($AD20:$AE20))*0.2) | AH20: =IF($C20="","",SUMIF('TK CHAMTHI'!$M:$M,$C20,'TK CHAMTHI'!$O:$O)) | AI20: =IF($C20="","",SUMIF('TK CHAMTHI'!$N:$N,$C20,'TK CHAMTHI'!$O:$O)) | AJ20: =IF($C20="","",(SUM($AH20:$AI20))*0.2) | AK20: =IF($C20="","",SUMIF('TK CHAMTHI'!$P:$P,$C20,'TK CHAMTHI'!$R:$R)) | AL20: =IF($C20="","",SUMIF('TK CHAMTHI'!$Q:$Q,$C20,'TK CHAMTHI'!$R:$R)) | AM20: =IF($C20="","",(SUM($AK20:$AL20))*0.4) | AN20: =IF(C20="","",SUMIF('TK CHAMTHI'!S:S,C20,'TK CHAMTHI'!U:U)) | AO20: =IF(C20="","",SUMIF('TK CHAMTHI'!T:T,C20,'TK CHAMTHI'!U:U)) | AP20: =IF(C20="","",SUM(AN20:AO20)/10) | AQ20: =IF(C20="","",ROUND(SUMIF('QL THI'!G:G,C20,'QL THI'!H:H),1)) | AR20: =IF(C20="","",ROUND(SUMIF('QL THI'!E:E,C20,'QL THI'!F:F),1)) | AS20: =IF(C20="","",ROUND(L20+Q20+U20+Y20+AC20+AG20+AJ20+AM20+AP20+SUM(AQ20:AR20),1))
A21: =IF(C21="","",SUBTOTAL(3,$C$11:C21)) | D21: =IF($C21="","",SUMIF('TK DETHI'!$A:$A,$C21,'TK DETHI'!$B:$B)) | E21: =IF($C21="","",SUMIF('TK DETHI'!$C:$C,$C21,'TK DETHI'!$D:$D)) | F21: =IF($C21="","",SUMIF('TK DETHI'!$E:$E,$C21,'TK DETHI'!$F:$F)) | G21: =IF($C21="","",SUMIF('TK DETHI'!$G:$G,$C21,'TK DETHI'!$H:$H)) | H21: =IF($C21="","",SUMIF('TK DETHI'!$I:$I,$C21,'TK DETHI'!$J:$J)) | I21: =IF($C21="","",SUMIF('TK DETHI'!$K:$K,$C21,'TK DETHI'!$L:$L)) | J21: =IF($C21="","",SUMIF('TK DETHI'!$M:$M,$C21,'TK DETHI'!$N:$N)) | K21: =IF($C21="","",SUMIF('TK DETHI'!$O:$O,$C21,'TK DETHI'!$P:$P)) | L21: =IF($C21="","",($D21+$E21*1.5+$F21*0.25+$G21*0.5+$H21*2+$I21*2.5+$J21*0.5+$K21*1.5)) | M21: =IF($C21="","",SUMIF('TK COITHI KTHP va Thi TN'!$A:$A,$C21,'TK COITHI KTHP va Thi TN'!$D:$D)) | N21: =IF($C21="","",SUMIF('TK COITHI KTHP va Thi TN'!$B:$B,$C21,'TK COITHI KTHP va Thi TN'!$D:$D)) | O21: =IF($C21="","",SUMIF('TK COITHI KTHP va Thi TN'!$E:$E,$C21,'TK COITHI KTHP va Thi TN'!$H:$H)) | P21: =IF($C21="","",SUMIF('TK COITHI KTHP va Thi TN'!$F:$F,$C21,'TK COITHI KTHP va Thi TN'!$H:$H)) | Q21: =IF($C21="","",SUM($M21:$P21)) | R21: =IF($C21="","",SUMIF('TK CHAMTHI'!$A:$A,$C21,'TK CHAMTHI'!$C:$C)) | S21: =IF($C21="","",SUMIF('TK CHAMTHI'!$B:$B,$C21,'TK CHAMTHI'!$C:$C)) | T21: =IF(C21="","",SUMIF('CHAM NV'!B:B,C21,'CHAM NV'!C:C)) | U21: =IF($C21="","",(SUM($R21:$S21))*0.1) | V21: =IF($C21="","",SUMIF('TK CHAMTHI'!$D:$D,$C21,'TK CHAMTHI'!$F:$F)) | W21: =IF($C21="","",SUMIF('TK CHAMTHI'!$E:$E,$C21,'TK CHAMTHI'!$F:$F)) | X21: =IF(C21="","",SUMIF('CHAM NV'!G:G,C21,'CHAM NV'!H:H)) | Y21: =IF($C21="","",(SUM($V21:$W21))*0.2) | Z21: =IF($C21="","",SUMIF('TK CHAMTHI'!$G:$G,$C21,'TK CHAMTHI'!$I:$I)) | AA21: =IF($C21="","",SUMIF('TK CHAMTHI'!$H:$H,$C21,'TK CHAMTHI'!$I:$I)) | AB21: =IF(C21="","",SUMIF('CHAM NV'!E:E,C21,'CHAM NV'!F:F)) | AC21: =IF($C21="","",(SUM($Z21:$AA21))*0.2) | AD21: =IF($C21="","",SUMIF('TK CHAMTHI'!$J:$J,$C21,'TK CHAMTHI'!$L:$L)) | AE21: =IF($C21="","",SUMIF('TK CHAMTHI'!$K:$K,$C21,'TK CHAMTHI'!$L:$L)) | AF21: =IF(C21="","",SUMIF('CHAM NV'!I:I,C21,'CHAM NV'!J:J)) | AG21: =IF($C21="","",(SUM($AD21:$AE21))*0.2) | AH21: =IF($C21="","",SUMIF('TK CHAMTHI'!$M:$M,$C21,'TK CHAMTHI'!$O:$O)) | AI21: =IF($C21="","",SUMIF('TK CHAMTHI'!$N:$N,$C21,'TK CHAMTHI'!$O:$O)) | AJ21: =IF($C21="","",(SUM($AH21:$AI21))*0.2) | AK21: =IF($C21="","",SUMIF('TK CHAMTHI'!$P:$P,$C21,'TK CHAMTHI'!$R:$R)) | AL21: =IF($C21="","",SUMIF('TK CHAMTHI'!$Q:$Q,$C21,'TK CHAMTHI'!$R:$R)) | AM21: =IF($C21="","",(SUM($AK21:$AL21))*0.4) | AN21: =IF(C21="","",SUMIF('TK CHAMTHI'!S:S,C21,'TK CHAMTHI'!U:U)) | AO21: =IF(C21="","",SUMIF('TK CHAMTHI'!T:T,C21,'TK CHAMTHI'!U:U)) | AP21: =IF(C21="","",SUM(AN21:AO21)/10) | AQ21: =IF(C21="","",ROUND(SUMIF('QL THI'!G:G,C21,'QL THI'!H:H),1)) | AR21: =IF(C21="","",ROUND(SUMIF('QL THI'!E:E,C21,'QL THI'!F:F),1)) | AS21: =IF(C21="","",ROUND(L21+Q21+U21+Y21+AC21+AG21+AJ21+AM21+AP21+SUM(AQ21:AR21),1))
A22: =IF(C22="","",SUBTOTAL(3,$C$11:C22)) | D22: =IF($C22="","",SUMIF('TK DETHI'!$A:$A,$C22,'TK DETHI'!$B:$B)) | E22: =IF($C22="","",SUMIF('TK DETHI'!$C:$C,$C22,'TK DETHI'!$D:$D)) | F22: =IF($C22="","",SUMIF('TK DETHI'!$E:$E,$C22,'TK DETHI'!$F:$F)) | G22: =IF($C22="","",SUMIF('TK DETHI'!$G:$G,$C22,'TK DETHI'!$H:$H)) | H22: =IF($C22="","",SUMIF('TK DETHI'!$I:$I,$C22,'TK DETHI'!$J:$J)) | I22: =IF($C22="","",SUMIF('TK DETHI'!$K:$K,$C22,'TK DETHI'!$L:$L)) | J22: =IF($C22="","",SUMIF('TK DETHI'!$M:$M,$C22,'TK DETHI'!$N:$N)) | K22: =IF($C22="","",SUMIF('TK DETHI'!$O:$O,$C22,'TK DETHI'!$P:$P)) | L22: =IF($C22="","",($D22+$E22*1.5+$F22*0.25+$G22*0.5+$H22*2+$I22*2.5+$J22*0.5+$K22*1.5)) | M22: =IF($C22="","",SUMIF('TK COITHI KTHP va Thi TN'!$A:$A,$C22,'TK COITHI KTHP va Thi TN'!$D:$D)) | N22: =IF($C22="","",SUMIF('TK COITHI KTHP va Thi TN'!$B:$B,$C22,'TK COITHI KTHP va Thi TN'!$D:$D)) | O22: =IF($C22="","",SUMIF('TK COITHI KTHP va Thi TN'!$E:$E,$C22,'TK COITHI KTHP va Thi TN'!$H:$H)) | P22: =IF($C22="","",SUMIF('TK COITHI KTHP va Thi TN'!$F:$F,$C22,'TK COITHI KTHP va Thi TN'!$H:$H)) | Q22: =IF($C22="","",SUM($M22:$P22)) | R22: =IF($C22="","",SUMIF('TK CHAMTHI'!$A:$A,$C22,'TK CHAMTHI'!$C:$C)) | S22: =IF($C22="","",SUMIF('TK CHAMTHI'!$B:$B,$C22,'TK CHAMTHI'!$C:$C)) | T22: =IF(C22="","",SUMIF('CHAM NV'!B:B,C22,'CHAM NV'!C:C)) | U22: =IF($C22="","",(SUM($R22:$S22))*0.1) | V22: =IF($C22="","",SUMIF('TK CHAMTHI'!$D:$D,$C22,'TK CHAMTHI'!$F:$F)) | W22: =IF($C22="","",SUMIF('TK CHAMTHI'!$E:$E,$C22,'TK CHAMTHI'!$F:$F)) | X22: =IF(C22="","",SUMIF('CHAM NV'!G:G,C22,'CHAM NV'!H:H)) | Y22: =IF($C22="","",(SUM($V22:$W22))*0.2) | Z22: =IF($C22="","",SUMIF('TK CHAMTHI'!$G:$G,$C22,'TK CHAMTHI'!$I:$I)) | AA22: =IF($C22="","",SUMIF('TK CHAMTHI'!$H:$H,$C22,'TK CHAMTHI'!$I:$I)) | AB22: =IF(C22="","",SUMIF('CHAM NV'!E:E,C22,'CHAM NV'!F:F)) | AC22: =IF($C22="","",(SUM($Z22:$AA22))*0.2) | AD22: =IF($C22="","",SUMIF('TK CHAMTHI'!$J:$J,$C22,'TK CHAMTHI'!$L:$L)) | AE22: =IF($C22="","",SUMIF('TK CHAMTHI'!$K:$K,$C22,'TK CHAMTHI'!$L:$L)) | AF22: =IF(C22="","",SUMIF('CHAM NV'!I:I,C22,'CHAM NV'!J:J)) | AG22: =IF($C22="","",(SUM($AD22:$AE22))*0.2) | AH22: =IF($C22="","",SUMIF('TK CHAMTHI'!$M:$M,$C22,'TK CHAMTHI'!$O:$O)) | AI22: =IF($C22="","",SUMIF('TK CHAMTHI'!$N:$N,$C22,'TK CHAMTHI'!$O:$O)) | AJ22: =IF($C22="","",(SUM($AH22:$AI22))*0.2) | AK22: =IF($C22="","",SUMIF('TK CHAMTHI'!$P:$P,$C22,'TK CHAMTHI'!$R:$R)) | AL22: =IF($C22="","",SUMIF('TK CHAMTHI'!$Q:$Q,$C22,'TK CHAMTHI'!$R:$R)) | AM22: =IF($C22="","",(SUM($AK22:$AL22))*0.4) | AN22: =IF(C22="","",SUMIF('TK CHAMTHI'!S:S,C22,'TK CHAMTHI'!U:U)) | AO22: =IF(C22="","",SUMIF('TK CHAMTHI'!T:T,C22,'TK CHAMTHI'!U:U)) | AP22: =IF(C22="","",SUM(AN22:AO22)/10) | AQ22: =IF(C22="","",ROUND(SUMIF('QL THI'!G:G,C22,'QL THI'!H:H),1)) | AR22: =IF(C22="","",ROUND(SUMIF('QL THI'!E:E,C22,'QL THI'!F:F),1)) | AS22: =IF(C22="","",ROUND(L22+Q22+U22+Y22+AC22+AG22+AJ22+AM22+AP22+SUM(AQ22:AR22),1))
A23: =IF(C23="","",SUBTOTAL(3,$C$11:C23)) | D23: =IF($C23="","",SUMIF('TK DETHI'!$A:$A,$C23,'TK DETHI'!$B:$B)) | E23: =IF($C23="","",SUMIF('TK DETHI'!$C:$C,$C23,'TK DETHI'!$D:$D)) | F23: =IF($C23="","",SUMIF('TK DETHI'!$E:$E,$C23,'TK DETHI'!$F:$F)) | G23: =IF($C23="","",SUMIF('TK DETHI'!$G:$G,$C23,'TK DETHI'!$H:$H)) | H23: =IF($C23="","",SUMIF('TK DETHI'!$I:$I,$C23,'TK DETHI'!$J:$J)) | I23: =IF($C23="","",SUMIF('TK DETHI'!$K:$K,$C23,'TK DETHI'!$L:$L)) | J23: =IF($C23="","",SUMIF('TK DETHI'!$M:$M,$C23,'TK DETHI'!$N:$N)) | K23: =IF($C23="","",SUMIF('TK DETHI'!$O:$O,$C23,'TK DETHI'!$P:$P)) | L23: =IF($C23="","",($D23+$E23*1.5+$F23*0.25+$G23*0.5+$H23*2+$I23*2.5+$J23*0.5+$K23*1.5)) | M23: =IF($C23="","",SUMIF('TK COITHI KTHP va Thi TN'!$A:$A,$C23,'TK COITHI KTHP va Thi TN'!$D:$D)) | N23: =IF($C23="","",SUMIF('TK COITHI KTHP va Thi TN'!$B:$B,$C23,'TK COITHI KTHP va Thi TN'!$D:$D)) | O23: =IF($C23="","",SUMIF('TK COITHI KTHP va Thi TN'!$E:$E,$C23,'TK COITHI KTHP va Thi TN'!$H:$H)) | P23: =IF($C23="","",SUMIF('TK COITHI KTHP va Thi TN'!$F:$F,$C23,'TK COITHI KTHP va Thi TN'!$H:$H)) | Q23: =IF($C23="","",SUM($M23:$P23)) | R23: =IF($C23="","",SUMIF('TK CHAMTHI'!$A:$A,$C23,'TK CHAMTHI'!$C:$C)) | S23: =IF($C23="","",SUMIF('TK CHAMTHI'!$B:$B,$C23,'TK CHAMTHI'!$C:$C)) | T23: =IF(C23="","",SUMIF('CHAM NV'!B:B,C23,'CHAM NV'!C:C)) | U23: =IF($C23="","",(SUM($R23:$S23))*0.1) | V23: =IF($C23="","",SUMIF('TK CHAMTHI'!$D:$D,$C23,'TK CHAMTHI'!$F:$F)) | W23: =IF($C23="","",SUMIF('TK CHAMTHI'!$E:$E,$C23,'TK CHAMTHI'!$F:$F)) | X23: =IF(C23="","",SUMIF('CHAM NV'!G:G,C23,'CHAM NV'!H:H)) | Y23: =IF($C23="","",(SUM($V23:$W23))*0.2) | Z23: =IF($C23="","",SUMIF('TK CHAMTHI'!$G:$G,$C23,'TK CHAMTHI'!$I:$I)) | AA23: =IF($C23="","",SUMIF('TK CHAMTHI'!$H:$H,$C23,'TK CHAMTHI'!$I:$I)) | AB23: =IF(C23="","",SUMIF('CHAM NV'!E:E,C23,'CHAM NV'!F:F)) | AC23: =IF($C23="","",(SUM($Z23:$AA23))*0.2) | AD23: =IF($C23="","",SUMIF('TK CHAMTHI'!$J:$J,$C23,'TK CHAMTHI'!$L:$L)) | AE23: =IF($C23="","",SUMIF('TK CHAMTHI'!$K:$K,$C23,'TK CHAMTHI'!$L:$L)) | AF23: =IF(C23="","",SUMIF('CHAM NV'!I:I,C23,'CHAM NV'!J:J)) | AG23: =IF($C23="","",(SUM($AD23:$AE23))*0.2) | AH23: =IF($C23="","",SUMIF('TK CHAMTHI'!$M:$M,$C23,'TK CHAMTHI'!$O:$O)) | AI23: =IF($C23="","",SUMIF('TK CHAMTHI'!$N:$N,$C23,'TK CHAMTHI'!$O:$O)) | AJ23: =IF($C23="","",(SUM($AH23:$AI23))*0.2) | AK23: =IF($C23="","",SUMIF('TK CHAMTHI'!$P:$P,$C23,'TK CHAMTHI'!$R:$R)) | AL23: =IF($C23="","",SUMIF('TK CHAMTHI'!$Q:$Q,$C23,'TK CHAMTHI'!$R:$R)) | AM23: =IF($C23="","",(SUM($AK23:$AL23))*0.4) | AN23: =IF(C23="","",SUMIF('TK CHAMTHI'!S:S,C23,'TK CHAMTHI'!U:U)) | AO23: =IF(C23="","",SUMIF('TK CHAMTHI'!T:T,C23,'TK CHAMTHI'!U:U)) | AP23: =IF(C23="","",SUM(AN23:AO23)/10) | AQ23: =IF(C23="","",ROUND(SUMIF('QL THI'!G:G,C23,'QL THI'!H:H),1)) | AR23: =IF(C23="","",ROUND(SUMIF('QL THI'!E:E,C23,'QL THI'!F:F),1)) | AS23: =IF(C23="","",ROUND(L23+Q23+U23+Y23+AC23+AG23+AJ23+AM23+AP23+SUM(AQ23:AR23),1))
... A80: =IF(C80="","",SUBTOTAL(3,$C$11:C80)) | D80: =IF($C80="","",SUMIF('TK DETHI'!$A:$A,$C80,'TK DETHI'!$B:$B)) | E80: =IF($C80="","",SUMIF('TK DETHI'!$C:$C,$C80,'TK DETHI'!$D:$D)) | F80: =IF($C80="","",SUMIF('TK DETHI'!$E:$E,$C80,'TK DETHI'!$F:$F)) | G80: =IF($C80="","",SUMIF('TK DETHI'!$G:$G,$C80,'TK DETHI'!$H:$H)) | H80: =IF($C80="","",SUMIF('TK DETHI'!$I:$I,$C80,'TK DETHI'!$J:$J)) | I80: =IF($C80="","",SUMIF('TK DETHI'!$K:$K,$C80,'TK DETHI'!$L:$L)) | J80: =IF($C80="","",SUMIF('TK DETHI'!$M:$M,$C80,'TK DETHI'!$N:$N)) | K80: =IF($C80="","",SUMIF('TK DETHI'!$O:$O,$C80,'TK DETHI'!$P:$P)) | L80: =IF($C80="","",($D80+$E80*1.5+$F80*0.25+$G80*0.5+$H80*2+$I80*2.5+$J80*0.5+$K80*1.5)) | M80: =IF($C80="","",SUMIF('TK COITHI KTHP va Thi TN'!$A:$A,$C80,'TK COITHI KTHP va Thi TN'!$D:$D)) | N80: =IF($C80="","",SUMIF('TK COITHI KTHP va Thi TN'!$B:$B,$C80,'TK COITHI KTHP va Thi TN'!$D:$D)) | O80: =IF($C80="","",SUMIF('TK COITHI KTHP va Thi TN'!$E:$E,$C80,'TK COITHI KTHP va Thi TN'!$H:$H)) | P80: =IF($C80="","",SUMIF('TK COITHI KTHP va Thi TN'!$F:$F,$C80,'TK COITHI KTHP va Thi TN'!$H:$H)) | Q80: =IF($C80="","",SUM($M80:$P80)) | R80: =IF($C80="","",SUMIF('TK CHAMTHI'!$A:$A,$C80,'TK CHAMTHI'!$C:$C)) | S80: =IF($C80="","",SUMIF('TK CHAMTHI'!$B:$B,$C80,'TK CHAMTHI'!$C:$C)) | T80: =IF(C80="","",SUMIF('CHAM NV'!B:B,C80,'CHAM NV'!C:C)) | U80: =IF($C80="","",(SUM($R80:$S80))*0.1) | V80: =IF($C80="","",SUMIF('TK CHAMTHI'!$D:$D,$C80,'TK CHAMTHI'!$F:$F)) | W80: =IF($C80="","",SUMIF('TK CHAMTHI'!$E:$E,$C80,'TK CHAMTHI'!$F:$F)) | X80: =IF(C80="","",SUMIF('CHAM NV'!G:G,C80,'CHAM NV'!H:H)) | Y80: =IF($C80="","",(SUM($V80:$W80))*0.2) | Z80: =IF($C80="","",SUMIF('TK CHAMTHI'!$G:$G,$C80,'TK CHAMTHI'!$I:$I)) | AA80: =IF($C80="","",SUMIF('TK CHAMTHI'!$H:$H,$C80,'TK CHAMTHI'!$I:$I)) | AB80: =IF(C80="","",SUMIF('CHAM NV'!E:E,C80,'CHAM NV'!F:F)) | AC80: =IF($C80="","",(SUM($Z80:$AA80))*0.2) | AD80: =IF($C80="","",SUMIF('TK CHAMTHI'!$J:$J,$C80,'TK CHAMTHI'!$L:$L)) | AE80: =IF($C80="","",SUMIF('TK CHAMTHI'!$K:$K,$C80,'TK CHAMTHI'!$L:$L)) | AF80: =IF(C80="","",SUMIF('CHAM NV'!I:I,C80,'CHAM NV'!J:J)) | AG80: =IF($C80="","",(SUM($AD80:$AE80))*0.2) | AH80: =IF($C80="","",SUMIF('TK CHAMTHI'!$M:$M,$C80,'TK CHAMTHI'!$O:$O)) | AI80: =IF($C80="","",SUMIF('TK CHAMTHI'!$N:$N,$C80,'TK CHAMTHI'!$O:$O)) | AJ80: =IF($C80="","",(SUM($AH80:$AI80))*0.2) | AK80: =IF($C80="","",SUMIF('TK CHAMTHI'!$P:$P,$C80,'TK CHAMTHI'!$R:$R)) | AL80: =IF($C80="","",SUMIF('TK CHAMTHI'!$Q:$Q,$C80,'TK CHAMTHI'!$R:$R)) | AM80: =IF($C80="","",(SUM($AK80:$AL80))*0.4) | AN80: =IF(C80="","",SUMIF('TK CHAMTHI'!S:S,C80,'TK CHAMTHI'!U:U)) | AO80: =IF(C80="","",SUMIF('TK CHAMTHI'!T:T,C80,'TK CHAMTHI'!U:U)) | AP80: =IF(C80="","",SUM(AN80:AO80)/10) | AQ80: =IF(C80="","",ROUND(SUMIF('QL THI'!G:G,C80,'QL THI'!H:H),1)) | AR80: =IF(C80="","",ROUND(SUMIF('QL THI'!E:E,C80,'QL THI'!F:F),1)) | AS80: =IF(C80="","",ROUND(L80+Q80+U80+Y80+AC80+AG80+AJ80+AM80+AP80+SUM(AQ80:AR80),1))
A81: Tổng | D81: =SUM(D11:D80) -> 0 | E81: =SUM(E11:E80) -> 0 | F81: =SUM(F11:F80) -> 0 | G81: =SUM(G11:G80) -> 0 | H81: =SUM(H11:H80) -> 0 | I81: =SUM(I11:I80) -> 0 | J81: =SUM(J11:J80) -> 0 | K81: =SUM(K11:K80) -> 0 | ... S81: =SUM(S11:S80) -> 0 | U81: =SUM(U11:U80) -> 6.4 | V81: =SUM(V11:V80) -> 0 | W81: =SUM(W11:W80) -> 0 | Y81: =SUM(Y11:Y80) -> 0 | Z81: =SUM(Z11:Z80) -> 0 | AA81: =SUM(AA11:AA80) -> 0 | AC81: =SUM(AC11:AC80) -> 0 | AD81: =SUM(AD11:AD80) -> 0 | AE81: =SUM(AE11:AE80) -> 0 | AG81: =SUM(AG11:AG80) -> 0 | AH81: =SUM(AH11:AH80) -> 0 | AI81: =SUM(AI11:AI80) -> 0 | AJ81: =SUM(AJ11:AJ80) -> 0 | AK81: =SUM(AK11:AK80) -> 0 | AL81: =SUM(AL11:AL80) -> 0 | AM81: =SUM(AM11:AM80) -> 0 | AN81: =SUM(AN11:AN80) -> 0 | ... AS81: =SUM(AS11:AS80) -> 12.6
A83: HIỆU TRƯỞNG TRƯỞNG PHÒNG KT&ĐBCL TRƯỞNG KHOA NGƯỜI LẬP BẢNG

Sheet ĐÃ NGHỈ
A1: UBND THÀNH PHỐ HỒ CHÍ MINH | R1: CỘNG HOÀ XÃ HỘI CHỦ NGHĨA VIỆT NAM
A2: TRƯỜNG CAO ĐẲNG LÝ TỰ TRỌNG | R2: Độc lập - Tự do - Hạnh phúc
A3: THÀNH PHỐ HỒ CHÍ MINH | R3: ¯¯¯¯¯¯¯¯¯¯¯¯¯¯¯¯¯¯¯¯¯
A4: ¯¯¯¯¯¯¯¯¯¯¯¯¯¯¯¯¯¯¯¯¯¯¯¯ | U4: Thành phố Hồ Chí Minh, ngày tháng năm 201
A5: BẢNG TÍNH KHỐI LƯỢNG TỔ CHỨC THI HỌC KỲ I NĂM HỌC 2016 - 2017
A6: ĐƠN VỊ: ĐÃ NGHỈ HƯU, NGHỈ VIỆC
A8: STT | B8: Mã nhân sự | C8: HỌ VÀ TÊN GIẢNG VIÊN | D8: ĐỀ THI | I8: COI THI | N8: CHẤM THI KTHP | V8: CHẤM THI TỐT NGHIỆP | AE8: DỰ PHÒNG KỲ THI | AF8: GIÁM SÁT | AG8: TỔNG KHỐI LƯỢNG
N9: LÝ THUYẾT | R9: TIỂU LUẬN | V9: LÝ THUYẾT | Y9: T.HÀNH CHUNG | AB9: T.HÀNH RIÊNG
D10: SL ĐỀ LT KTHP | E10: SL ĐỀ TN KTHP | F10: SL ĐỀ LT TN | G10: SL ĐỀ TH TN | H10: KL SOẠN ĐỀ (tiết) | I10: KTHPLT COITHI 1 | J10: KTHPLT COITHI 2 | K10: ThiTN COITHI 1 | L10: ThiTN COITHI 2 | M10: KL COITHI (tiết) | N10: SL BÀI LT CHẤM 1 | O10: SL BÀI LT CHẤM 2 | P10: SL CHẤM LT NGHĨA VỤ | Q10: KL CHẤM LT (tiết) | R10: SL BÀI TL CHẤM 1 | S10: SL BÀI TL CHẤM 2 | T10: SL CHẤM TL NGHĨA VỤ | U10: KL CHẤM TL (tiết) | V10: SL BÀI LT CHẤM 1 | W10: SL BÀI LT CHẤM 2 | X10: KL CHẤM LT (tiết) | Y10: SL BÀI TL CHẤM 1 | Z10: SL BÀI TL CHẤM 2 | AA10: KL CHẤM TL (tiết) | AB10: SL BÀI TL CHẤM 1 | AC10: SL BÀI TL CHẤM 2 | AD10: KL CHẤM TL (tiết)
A11: =IF(C11="","",SUBTOTAL(3,$C$11:C11)) -> 1 | B11: 01014011 | C11: Nguyễn Trọng Trí | D11: =IF(C11="","",SUMIF('TK DETHI'!A:A,C11,'TK DETHI'!B:B)) -> 0 | E11: =IF(C11="","",SUMIF('TK DETHI'!C:C,C11,'TK DETHI'!D:D)) -> 0 | F11: =IF(C11="","",SUMIF('TK DETHI'!I:I,C11,'TK DETHI'!J:J)) -> 0 | G11: =IF(C11="","",SUMIF('TK DETHI'!O:O,C11,'TK DETHI'!P:P)) -> 0 | H11: =IF(C11="","",(D11+E11*2+F11*3+G11*2)) -> 0 | I11: =IF(C11="","",SUMIF('TK COITHI KTHP va Thi TN'!A:A,C11,'TK COITHI KTHP va Thi TN'!D:D)+SUMIF('TK COITHI KTHP va Thi TN'!#REF!,C11,'TK COITHI KTHP va Thi TN'!#REF!)+SUMIF('TK COITHI KTHP va Thi TN'!#REF!,C11,'TK COITHI KTHP va Thi TN'!#REF!)+SUMIF('TK COITHI KTHP va Thi TN'!#REF!,C11,'TK COITHI KTHP va Thi TN'!#REF!)) -> #REF! | J11: =IF(C11="","",SUMIF('TK COITHI KTHP va Thi TN'!B:B,C11,'TK COITHI KTHP va Thi TN'!D:D)+SUMIF('TK COITHI KTHP va Thi TN'!#REF!,C11,'TK COITHI KTHP va Thi TN'!#REF!)+SUMIF('TK COITHI KTHP va Thi TN'!#REF!,C11,'TK COITHI KTHP va Thi TN'!#REF!)+SUMIF('TK COITHI KTHP va Thi TN'!#REF!,C11,'TK COITHI KTHP va Thi TN'!#REF!)) -> #REF! | K11: =IF(C11="","",SUMIF(#REF!,C11,#REF!)+SUMIF(#REF!,C11,#REF!)+SUMIF(#REF!,C11,#REF!)+SUMIF(#REF!,C11,#REF!)) -> #REF! | L11: =IF(C11="","",SUMIF(#REF!,C11,#REF!)+SUMIF(#REF!,C11,#REF!)+SUMIF(#REF!,C11,#REF!)+SUMIF(#REF!,C11,#REF!)) -> #REF! | M11: =IF(C11="","",SUM(I11:L11)) -> #REF! | N11: =IF(C11="","",SUMIF('TK CHAMTHI'!A:A,C11,'TK CHAMTHI'!C:C)) -> 0 | O11: =IF(C11="","",SUMIF('TK CHAMTHI'!B:B,C11,'TK CHAMTHI'!C:C)) -> 0 | P11: =IF(C11="","",SUMIF('CHAM NV'!B:B,C11,'CHAM NV'!C:C)) -> 0 | Q11: =IF(C11="","",(SUM(N11:O11)-P11)/20) -> 0 | R11: =IF(C11="","",SUMIF('TK CHAMTHI'!J:J,C11,'TK CHAMTHI'!L:L)) -> 0 | S11: =IF(C11="","",SUMIF('TK CHAMTHI'!K:K,C11,'TK CHAMTHI'!L:L)) -> 0 | T11: =IF(C11="","",SUMIF('CHAM NV'!E:E,C11,'CHAM NV'!F:F)) -> 0 | U11: =IF(C11="","",(SUM(R11:S11)-T11)/10) -> 0 | V11: =IF(C11="","",SUMIF('TK CHAMTHI'!M:M,C11,'TK CHAMTHI'!O:O)) -> 0 | W11: =IF(C11="","",SUMIF('TK CHAMTHI'!N:N,C11,'TK CHAMTHI'!O:O)) -> 0 | X11: =IF(C11="","",SUM(V11:W11)/14) -> 0 | Y11: =IF(C11="","",SUMIF('TK CHAMTHI'!S:S,C11,'TK CHAMTHI'!U:U)) -> 0 | Z11: =IF(C11="","",SUMIF('TK CHAMTHI'!T:T,C11,'TK CHAMTHI'!U:U)) -> 0 | AA11: =IF(C11="","",SUM(Y11:Z11)/10) -> 0 | AB11: =IF(C11="","",SUMIF('TK CHAMTHI'!#REF!,C11,'TK CHAMTHI'!#REF!)) -> #REF! | AC11: =IF(C11="","",SUMIF('TK CHAMTHI'!#REF!,C11,'TK CHAMTHI'!#REF!)) -> #REF! | AD11: =IF(C11="","",SUM(AB11:AC11)/20) -> #REF! | AE11: =IF(C11="","",ROUND(SUMIF('QL THI'!G:G,C11,'QL THI'!H:H),1)) -> 0 | AF11: =IF(C11="","",ROUND(SUMIF('QL THI'!E:E,C11,'QL THI'!F:F),1)) -> 0 | AG11: =IF(C11="","",ROUND(H11+M11+Q11+U11+X11+AA11+AD11+SUM(AE11:AF11),1)) -> #REF!
A12: =IF(D12="","",SUBTOTAL(3,$D$11:D12)) -> 2 | B12: 01012024 | C12: Nguyễn Chí Ngãi | D12: =IF(C12="","",SUMIF('TK DETHI'!A:A,C12,'TK DETHI'!B:B)) -> 0 | E12: =IF(C12="","",SUMIF('TK DETHI'!C:C,C12,'TK DETHI'!D:D)) -> 0 | F12: =IF(C12="","",SUMIF('TK DETHI'!I:I,C12,'TK DETHI'!J:J)) -> 0 | G12: =IF(C12="","",SUMIF('TK DETHI'!O:O,C12,'TK DETHI'!P:P)) -> 0 | H12: =IF(C12="","",(D12+E12*2+F12*3+G12*2)) -> 0 | I12: =IF(C12="","",SUMIF('TK COITHI KTHP va Thi TN'!A:A,C12,'TK COITHI KTHP va Thi TN'!D:D)+SUMIF('TK COITHI KTHP va Thi TN'!#REF!,C12,'TK COITHI KTHP va Thi TN'!#REF!)+SUMIF('TK COITHI KTHP va Thi TN'!#REF!,C12,'TK COITHI KTHP va Thi TN'!#REF!)+SUMIF('TK COITHI KTHP va Thi TN'!#REF!,C12,'TK COITHI KTHP va Thi TN'!#REF!)) -> #REF! | J12: =IF(C12="","",SUMIF('TK COITHI KTHP va Thi TN'!B:B,C12,'TK COITHI KTHP va Thi TN'!D:D)+SUMIF('TK COITHI KTHP va Thi TN'!#REF!,C12,'TK COITHI KTHP va Thi TN'!#REF!)+SUMIF('TK COITHI KTHP va Thi TN'!#REF!,C12,'TK COITHI KTHP va Thi TN'!#REF!)+SUMIF('TK COITHI KTHP va Thi TN'!#REF!,C12,'TK COITHI KTHP va Thi TN'!#REF!)) -> #REF! | K12: =IF(C12="","",SUMIF(#REF!,C12,#REF!)+SUMIF(#REF!,C12,#REF!)+SUMIF(#REF!,C12,#REF!)+SUMIF(#REF!,C12,#REF!)) -> #REF! | L12: =IF(C12="","",SUMIF(#REF!,C12,#REF!)+SUMIF(#REF!,C12,#REF!)+SUMIF(#REF!,C12,#REF!)+SUMIF(#REF!,C12,#REF!)) -> #REF! | M12: =IF(C12="","",SUM(I12:L12)) -> #REF! | N12: =IF(C12="","",SUMIF('TK CHAMTHI'!A:A,C12,'TK CHAMTHI'!C:C)) -> 0 | O12: =IF(C12="","",SUMIF('TK CHAMTHI'!B:B,C12,'TK CHAMTHI'!C:C)) -> 0 | P12: =IF(C12="","",SUMIF('CHAM NV'!B:B,C12,'CHAM NV'!C:C)) -> 114 | Q12: =IF(C12="","",(SUM(N12:O12)-P12)/20) -> -5.7 | R12: =IF(C12="","",SUMIF('TK CHAMTHI'!J:J,C12,'TK CHAMTHI'!L:L)) -> 0 | S12: =IF(C12="","",SUMIF('TK CHAMTHI'!K:K,C12,'TK CHAMTHI'!L:L)) -> 0 | T12: =IF(C12="","",SUMIF('CHAM NV'!E:E,C12,'CHAM NV'!F:F)) -> 0 | U12: =IF(C12="","",(SUM(R12:S12)-T12)/10) -> 0 | V12: =IF(C12="","",SUMIF('TK CHAMTHI'!M:M,C12,'TK CHAMTHI'!O:O)) -> 0 | W12: =IF(C12="","",SUMIF('TK CHAMTHI'!N:N,C12,'TK CHAMTHI'!O:O)) -> 0 | X12: =IF(C12="","",SUM(V12:W12)/14) -> 0 | Y12: =IF(C12="","",SUMIF('TK CHAMTHI'!S:S,C12,'TK CHAMTHI'!U:U)) -> 0 | Z12: =IF(C12="","",SUMIF('TK CHAMTHI'!T:T,C12,'TK CHAMTHI'!U:U)) -> 0 | AA12: =IF(C12="","",SUM(Y12:Z12)/10) -> 0 | AB12: =IF(C12="","",SUMIF('TK CHAMTHI'!#REF!,C12,'TK CHAMTHI'!#REF!)) -> #REF! | AC12: =IF(C12="","",SUMIF('TK CHAMTHI'!#REF!,C12,'TK CHAMTHI'!#REF!)) -> #REF! | AD12: =IF(C12="","",SUM(AB12:AC12)/20) -> #REF! | AE12: =IF(C12="","",ROUND(SUMIF('QL THI'!G:G,C12,'QL THI'!H:H),1)) -> 0 | AF12: =IF(C12="","",ROUND(SUMIF('QL THI'!E:E,C12,'QL THI'!F:F),1)) -> 0 | AG12: =IF(C12="","",ROUND(H12+M12+Q12+U12+X12+AA12+AD12+SUM(AE12:AF12),1)) -> #REF!
A13: =IF(D13="","",SUBTOTAL(3,$D$11:D13)) -> 3 | B13: 01012009 | C13: Võ Thúy Phương | D13: =IF(C13="","",SUMIF('TK DETHI'!A:A,C13,'TK DETHI'!B:B)) -> 0 | E13: =IF(C13="","",SUMIF('TK DETHI'!C:C,C13,'TK DETHI'!D:D)) -> 0 | F13: =IF(C13="","",SUMIF('TK DETHI'!I:I,C13,'TK DETHI'!J:J)) -> 0 | G13: =IF(C13="","",SUMIF('TK DETHI'!O:O,C13,'TK DETHI'!P:P)) -> 0 | H13: =IF(C13="","",(D13+E13*2+F13*3+G13*2)) -> 0 | I13: =IF(C13="","",SUMIF('TK COITHI KTHP va Thi TN'!A:A,C13,'TK COITHI KTHP va Thi TN'!D:D)+SUMIF('TK COITHI KTHP va Thi TN'!#REF!,C13,'TK COITHI KTHP va Thi TN'!#REF!)+SUMIF('TK COITHI KTHP va Thi TN'!#REF!,C13,'TK COITHI KTHP va Thi TN'!#REF!)+SUMIF('TK COITHI KTHP va Thi TN'!#REF!,C13,'TK COITHI KTHP va Thi TN'!#REF!)) -> #REF! | J13: =IF(C13="","",SUMIF('TK COITHI KTHP va Thi TN'!B:B,C13,'TK COITHI KTHP va Thi TN'!D:D)+SUMIF('TK COITHI KTHP va Thi TN'!#REF!,C13,'TK COITHI KTHP va Thi TN'!#REF!)+SUMIF('TK COITHI KTHP va Thi TN'!#REF!,C13,'TK COITHI KTHP va Thi TN'!#REF!)+SUMIF('TK COITHI KTHP va Thi TN'!#REF!,C13,'TK COITHI KTHP va Thi TN'!#REF!)) -> #REF! | K13: =IF(C13="","",SUMIF(#REF!,C13,#REF!)+SUMIF(#REF!,C13,#REF!)+SUMIF(#REF!,C13,#REF!)+SUMIF(#REF!,C13,#REF!)) -> #REF! | L13: =IF(C13="","",SUMIF(#REF!,C13,#REF!)+SUMIF(#REF!,C13,#REF!)+SUMIF(#REF!,C13,#REF!)+SUMIF(#REF!,C13,#REF!)) -> #REF! | M13: =IF(C13="","",SUM(I13:L13)) -> #REF! | N13: =IF(C13="","",SUMIF('TK CHAMTHI'!A:A,C13,'TK CHAMTHI'!C:C)) -> 0 | O13: =IF(C13="","",SUMIF('TK CHAMTHI'!B:B,C13,'TK CHAMTHI'!C:C)) -> 0 | P13: =IF(C13="","",SUMIF('CHAM NV'!B:B,C13,'CHAM NV'!C:C)) -> 0 | Q13: =IF(C13="","",(SUM(N13:O13)-P13)/20) -> 0 | R13: =IF(C13="","",SUMIF('TK CHAMTHI'!J:J,C13,'TK CHAMTHI'!L:L)) -> 0 | S13: =IF(C13="","",SUMIF('TK CHAMTHI'!K:K,C13,'TK CHAMTHI'!L:L)) -> 0 | T13: =IF(C13="","",SUMIF('CHAM NV'!E:E,C13,'CHAM NV'!F:F)) -> 0 | U13: =IF(C13="","",(SUM(R13:S13)-T13)/10) -> 0 | V13: =IF(C13="","",SUMIF('TK CHAMTHI'!M:M,C13,'TK CHAMTHI'!O:O)) -> 0 | W13: =IF(C13="","",SUMIF('TK CHAMTHI'!N:N,C13,'TK CHAMTHI'!O:O)) -> 0 | X13: =IF(C13="","",SUM(V13:W13)/14) -> 0 | Y13: =IF(C13="","",SUMIF('TK CHAMTHI'!S:S,C13,'TK CHAMTHI'!U:U)) -> 0 | Z13: =IF(C13="","",SUMIF('TK CHAMTHI'!T:T,C13,'TK CHAMTHI'!U:U)) -> 0 | AA13: =IF(C13="","",SUM(Y13:Z13)/10) -> 0 | AB13: =IF(C13="","",SUMIF('TK CHAMTHI'!#REF!,C13,'TK CHAMTHI'!#REF!)) -> #REF! | AC13: =IF(C13="","",SUMIF('TK CHAMTHI'!#REF!,C13,'TK CHAMTHI'!#REF!)) -> #REF! | AD13: =IF(C13="","",SUM(AB13:AC13)/20) -> #REF! | AE13: =IF(C13="","",ROUND(SUMIF('QL THI'!G:G,C13,'QL THI'!H:H),1)) -> 0 | AF13: =IF(C13="","",ROUND(SUMIF('QL THI'!E:E,C13,'QL THI'!F:F),1)) -> 0 | AG13: =IF(C13="","",ROUND(H13+M13+Q13+U13+X13+AA13+AD13+SUM(AE13:AF13),1)) -> #REF!
A14: =IF(D14="","",SUBTOTAL(3,$D$11:D14)) -> 4 | B14: 01011004 | C14: Lương Thị Thanh Hà | D14: =IF(C14="","",SUMIF('TK DETHI'!A:A,C14,'TK DETHI'!B:B)) -> 0 | E14: =IF(C14="","",SUMIF('TK DETHI'!C:C,C14,'TK DETHI'!D:D)) -> 0 | F14: =IF(C14="","",SUMIF('TK DETHI'!I:I,C14,'TK DETHI'!J:J)) -> 0 | G14: =IF(C14="","",SUMIF('TK DETHI'!O:O,C14,'TK DETHI'!P:P)) -> 0 | H14: =IF(C14="","",(D14+E14*2+F14*3+G14*2)) -> 0 | I14: =IF(C14="","",SUMIF('TK COITHI KTHP va Thi TN'!A:A,C14,'TK COITHI KTHP va Thi TN'!D:D)+SUMIF('TK COITHI KTHP va Thi TN'!#REF!,C14,'TK COITHI KTHP va Thi TN'!#REF!)+SUMIF('TK COITHI KTHP va Thi TN'!#REF!,C14,'TK COITHI KTHP va Thi TN'!#REF!)+SUMIF('TK COITHI KTHP va Thi TN'!#REF!,C14,'TK COITHI KTHP va Thi TN'!#REF!)) -> #REF! | J14: =IF(C14="","",SUMIF('TK COITHI KTHP va Thi TN'!B:B,C14,'TK COITHI KTHP va Thi TN'!D:D)+SUMIF('TK COITHI KTHP va Thi TN'!#REF!,C14,'TK COITHI KTHP va Thi TN'!#REF!)+SUMIF('TK COITHI KTHP va Thi TN'!#REF!,C14,'TK COITHI KTHP va Thi TN'!#REF!)+SUMIF('TK COITHI KTHP va Thi TN'!#REF!,C14,'TK COITHI KTHP va Thi TN'!#REF!)) -> #REF! | K14: =IF(C14="","",SUMIF(#REF!,C14,#REF!)+SUMIF(#REF!,C14,#REF!)+SUMIF(#REF!,C14,#REF!)+SUMIF(#REF!,C14,#REF!)) -> #REF! | L14: =IF(C14="","",SUMIF(#REF!,C14,#REF!)+SUMIF(#REF!,C14,#REF!)+SUMIF(#REF!,C14,#REF!)+SUMIF(#REF!,C14,#REF!)) -> #REF! | M14: =IF(C14="","",SUM(I14:L14)) -> #REF! | N14: =IF(C14="","",SUMIF('TK CHAMTHI'!A:A,C14,'TK CHAMTHI'!C:C)) -> 0 | O14: =IF(C14="","",SUMIF('TK CHAMTHI'!B:B,C14,'TK CHAMTHI'!C:C)) -> 0 | P14: =IF(C14="","",SUMIF('CHAM NV'!B:B,C14,'CHAM NV'!C:C)) -> 0 | Q14: =IF(C14="","",(SUM(N14:O14)-P14)/20) -> 0 | R14: =IF(C14="","",SUMIF('TK CHAMTHI'!J:J,C14,'TK CHAMTHI'!L:L)) -> 0 | S14: =IF(C14="","",SUMIF('TK CHAMTHI'!K:K,C14,'TK CHAMTHI'!L:L)) -> 0 | T14: =IF(C14="","",SUMIF('CHAM NV'!E:E,C14,'CHAM NV'!F:F)) -> 0 | U14: =IF(C14="","",(SUM(R14:S14)-T14)/10) -> 0 | V14: =IF(C14="","",SUMIF('TK CHAMTHI'!M:M,C14,'TK CHAMTHI'!O:O)) -> 0 | W14: =IF(C14="","",SUMIF('TK CHAMTHI'!N:N,C14,'TK CHAMTHI'!O:O)) -> 0 | X14: =IF(C14="","",SUM(V14:W14)/14) -> 0 | Y14: =IF(C14="","",SUMIF('TK CHAMTHI'!S:S,C14,'TK CHAMTHI'!U:U)) -> 0 | Z14: =IF(C14="","",SUMIF('TK CHAMTHI'!T:T,C14,'TK CHAMTHI'!U:U)) -> 0 | AA14: =IF(C14="","",SUM(Y14:Z14)/10) -> 0 | AB14: =IF(C14="","",SUMIF('TK CHAMTHI'!#REF!,C14,'TK CHAMTHI'!#REF!)) -> #REF! | AC14: =IF(C14="","",SUMIF('TK CHAMTHI'!#REF!,C14,'TK CHAMTHI'!#REF!)) -> #REF! | AD14: =IF(C14="","",SUM(AB14:AC14)/20) -> #REF! | AE14: =IF(C14="","",ROUND(SUMIF('QL THI'!G:G,C14,'QL THI'!H:H),1)) -> 0 | AF14: =IF(C14="","",ROUND(SUMIF('QL THI'!E:E,C14,'QL THI'!F:F),1)) -> 0 | AG14: =IF(C14="","",ROUND(H14+M14+Q14+U14+X14+AA14+AD14+SUM(AE14:AF14),1)) -> #REF!
A15: =IF(D15="","",SUBTOTAL(3,$D$11:D15)) -> 5 | B15: 01011003 | C15: Nguyễn Thị Mai | D15: =IF(C15="","",SUMIF('TK DETHI'!A:A,C15,'TK DETHI'!B:B)) -> 0 | E15: =IF(C15="","",SUMIF('TK DETHI'!C:C,C15,'TK DETHI'!D:D)) -> 0 | F15: =IF(C15="","",SUMIF('TK DETHI'!I:I,C15,'TK DETHI'!J:J)) -> 0 | G15: =IF(C15="","",SUMIF('TK DETHI'!O:O,C15,'TK DETHI'!P:P)) -> 0 | H15: =IF(C15="","",(D15+E15*2+F15*3+G15*2)) -> 0 | I15: =IF(C15="","",SUMIF('TK COITHI KTHP va Thi TN'!A:A,C15,'TK COITHI KTHP va Thi TN'!D:D)+SUMIF('TK COITHI KTHP va Thi TN'!#REF!,C15,'TK COITHI KTHP va Thi TN'!#REF!)+SUMIF('TK COITHI KTHP va Thi TN'!#REF!,C15,'TK COITHI KTHP va Thi TN'!#REF!)+SUMIF('TK COITHI KTHP va Thi TN'!#REF!,C15,'TK COITHI KTHP va Thi TN'!#REF!)) -> #REF! | J15: =IF(C15="","",SUMIF('TK COITHI KTHP va Thi TN'!B:B,C15,'TK COITHI KTHP va Thi TN'!D:D)+SUMIF('TK COITHI KTHP va Thi TN'!#REF!,C15,'TK COITHI KTHP va Thi TN'!#REF!)+SUMIF('TK COITHI KTHP va Thi TN'!#REF!,C15,'TK COITHI KTHP va Thi TN'!#REF!)+SUMIF('TK COITHI KTHP va Thi TN'!#REF!,C15,'TK COITHI KTHP va Thi TN'!#REF!)) -> #REF! | K15: =IF(C15="","",SUMIF(#REF!,C15,#REF!)+SUMIF(#REF!,C15,#REF!)+SUMIF(#REF!,C15,#REF!)+SUMIF(#REF!,C15,#REF!)) -> #REF! | L15: =IF(C15="","",SUMIF(#REF!,C15,#REF!)+SUMIF(#REF!,C15,#REF!)+SUMIF(#REF!,C15,#REF!)+SUMIF(#REF!,C15,#REF!)) -> #REF! | M15: =IF(C15="","",SUM(I15:L15)) -> #REF! | N15: =IF(C15="","",SUMIF('TK CHAMTHI'!A:A,C15,'TK CHAMTHI'!C:C)) -> 0 | O15: =IF(C15="","",SUMIF('TK CHAMTHI'!B:B,C15,'TK CHAMTHI'!C:C)) -> 0 | P15: =IF(C15="","",SUMIF('CHAM NV'!B:B,C15,'CHAM NV'!C:C)) -> 0 | Q15: =IF(C15="","",(SUM(N15:O15)-P15)/20) -> 0 | R15: =IF(C15="","",SUMIF('TK CHAMTHI'!J:J,C15,'TK CHAMTHI'!L:L)) -> 0 | S15: =IF(C15="","",SUMIF('TK CHAMTHI'!K:K,C15,'TK CHAMTHI'!L:L)) -> 0 | T15: =IF(C15="","",SUMIF('CHAM NV'!E:E,C15,'CHAM NV'!F:F)) -> 0 | U15: =IF(C15="","",(SUM(R15:S15)-T15)/10) -> 0 | V15: =IF(C15="","",SUMIF('TK CHAMTHI'!M:M,C15,'TK CHAMTHI'!O:O)) -> 0 | W15: =IF(C15="","",SUMIF('TK CHAMTHI'!N:N,C15,'TK CHAMTHI'!O:O)) -> 0 | X15: =IF(C15="","",SUM(V15:W15)/14) -> 0 | Y15: =IF(C15="","",SUMIF('TK CHAMTHI'!S:S,C15,'TK CHAMTHI'!U:U)) -> 0 | Z15: =IF(C15="","",SUMIF('TK CHAMTHI'!T:T,C15,'TK CHAMTHI'!U:U)) -> 0 | AA15: =IF(C15="","",SUM(Y15:Z15)/10) -> 0 | AB15: =IF(C15="","",SUMIF('TK CHAMTHI'!#REF!,C15,'TK CHAMTHI'!#REF!)) -> #REF! | AC15: =IF(C15="","",SUMIF('TK CHAMTHI'!#REF!,C15,'TK CHAMTHI'!#REF!)) -> #REF! | AD15: =IF(C15="","",SUM(AB15:AC15)/20) -> #REF! | AE15: =IF(C15="","",ROUND(SUMIF('QL THI'!G:G,C15,'QL THI'!H:H),1)) -> 0 | AF15: =IF(C15="","",ROUND(SUMIF('QL THI'!E:E,C15,'QL THI'!F:F),1)) -> 0 | AG15: =IF(C15="","",ROUND(H15+M15+Q15+U15+X15+AA15+AD15+SUM(AE15:AF15),1)) -> #REF!
