Workbook

Sheet CƠ KHÍ
A1: UBND THÀNH PHỐ HỒ CHÍ MINH | W1: CỘNG HOÀ XÃ HỘI CHỦ NGHĨA VIỆT NAM
A2: TRƯỜNG CAO ĐẲNG LÝ TỰ TRỌNG | W2: Độc lập - Tự do - Hạnh phúc
A3: THÀNH PHỐ HỒ CHÍ MINH | W3: ¯¯¯¯¯¯¯¯¯¯¯¯¯¯¯¯¯¯¯¯¯
A4: ¯¯¯¯¯¯¯¯¯¯¯¯¯¯¯¯¯¯¯¯¯¯¯¯ | AA4: Thành phố Hồ Chí Minh, ngày tháng năm 201
A5: BẢNG TÍNH KHỐI LƯỢNG TỔ CHỨC THI HỌC KỲ I NĂM HỌC 2017 - 2018
A6: ĐƠN VỊ: KHOA CÔNG NGHỆ CƠ KHÍ
A8: STT | B8: Mã nhân sự | C8: HỌ VÀ TÊN GIẢNG VIÊN | D8: ĐỀ THI | M8: COI THI | R8: CHẤM THI KTHP | AH8: CHẤM THI TỐT NGHIỆP | AQ8: DỰ PHÒNG KỲ THI | AR8: GIÁM SÁT | AS8: TỔNG KHỐI LƯỢNG
R9: LÝ THUYẾT (TV+TN) | V9: VẤN ĐÁP | Z9: TIỂU LUẬN | AD9: THỰC HÀNH | AH9: LÝ THUYẾT (TV+TN) | AK9: VẤN ĐÁP | AN9: THỰC HÀNH
D10: SL ĐỀ LT KTHP | E10: SL ĐỀ TN KTHP | F10: SL ĐỀ VĐ KTHP | G10: SL ĐỀ TH KTHP | H10: SL ĐỀ LT ThiTN | I10: SL ĐỀ TN ThiTN | J10: SL ĐỀ VĐ ThiTN | K10: SL ĐỀ TH ThiTN | L10: KL SOẠN ĐỀ (tiết) | M10: COITHI 2 KTHP | N10: COITHI 1 KTHP | O10: COITHI 1 Thi TN | P10: COITHI 2 Thi TN | Q10: KL COITHI (tiết) | R10: SL CHẤM LT 1 | S10: SL CHẤM LT 2 | T10: SL CHẤM NV | U10: KL CHẤM LT (tiết) | V10: SL CHẤM TL 1 | W10: SL CHẤM TL 2 | X10: SL CHẤM NV | Y10: KL CHẤM TL (tiết) | Z10: SL CHẤM TL 1 | AA10: SL CHẤM TL 2 | AB10: SL CHẤM NV | AC10: KL CHẤM TL (tiết) | AD10: SL CHẤM TL 1 | AE10: SL CHẤM TL 2 | AF10: SL CHẤM NV | AG10: KL CHẤM TL (tiết) | AH10: SL BÀI LT CHẤM 1 | AI10: SL BÀI LT CHẤM 2 | AJ10: KL CHẤM LT (tiết) | AK10: SL BÀI VĐ CHẤM 1 | AL10: SL BÀI VĐ CHẤM 2 | AM10: KL CHẤM VĐ (tiết) | AN10: SL BÀI TL CHẤM 1 | AO10: SL BÀI TL CHẤM 2 | AP10: KL CHẤM TL (tiết)
A11: =IF(C11="","",SUBTOTAL(3,$C$11:C11)) -> 1 | B11: 01029002 | C11: Nguyễn Ngọc Trí | D11: =IF($C11="","",SUMIF('TK DETHI'!$A:$A,$C11,'TK DETHI'!$B:$B)) -> 0 | E11: =IF($C11="","",SUMIF('TK DETHI'!$C:$C,$C11,'TK DETHI'!$D:$D)) -> 0 | F11: =IF($C11="","",SUMIF('TK DETHI'!$E:$E,$C11,'TK DETHI'!$F:$F)) -> 0 | G11: =IF($C11="","",SUMIF('TK DETHI'!$G:$G,$C11,'TK DETHI'!$H:$H)) -> 0 | H11: =IF($C11="","",SUMIF('TK DETHI'!$I:$I,$C11,'TK DETHI'!$J:$J)) -> 0 | I11: =IF($C11="","",SUMIF('TK DETHI'!$K:$K,$C11,'TK DETHI'!$L:$L)) -> 0 | J11: =IF($C11="","",SUMIF('TK DETHI'!$M:$M,$C11,'TK DETHI'!$N:$N)) -> 0 | K11: =IF($C11="","",SUMIF('TK DETHI'!$O:$O,$C11,'TK DETHI'!$P:$P)) -> 0 | L11: =IF($C11="","",($D11+$E11*1.5+$F11*0.25+$G11*0.5+$H11*2+$I11*2.5+$J11*0.5+$K11*1.5)) -> 0 | M11: =IF($C11="","",SUMIF('TK COITHI KTHP va Thi TN'!$A:$A,$C11,'TK COITHI KTHP va Thi TN'!$D:$D)) -> 1.8 | N11: =IF($C11="","",SUMIF('TK COITHI KTHP va Thi TN'!$B:$B,$C11,'TK COITHI KTHP va Thi TN'!$D:$D)) -> 3.45 | O11: =IF($C11="","",SUMIF('TK COITHI KTHP va Thi TN'!$E:$E,$C11,'TK COITHI KTHP va Thi TN'!$H:$H)) -> 0 | P11: =IF($C11="","",SUMIF('TK COITHI KTHP va Thi TN'!$F:$F,$C11,'TK COITHI KTHP va Thi TN'!$H:$H)) -> 0 | Q11: =IF($C11="","",SUM($M11:$P11)) -> 5.25 | R11: =IF($C11="","",SUMIF('TK CHAMTHI'!$A:$A,$C11,'TK CHAMTHI'!$C:$C)) -> 64 | S11: =IF($C11="","",SUMIF('TK CHAMTHI'!$B:$B,$C11,'TK CHAMTHI'!$C:$C)) -> 0 | T11: =IF(C11="","",SUMIF('CHAM NV'!B:B,C11,'CHAM NV'!C:C)) -> 80 | U11: =IF($C11="","",(SUM($R11:$S11))*0.1) -> 6.4 | V11: =IF($C11="","",SUMIF('TK CHAMTHI'!$D:$D,$C11,'TK CHAMTHI'!$F:$F)) -> 0 | W11: =IF($C11="","",SUMIF('TK CHAMTHI'!$E:$E,$C11,'TK CHAMTHI'!$F:$F)) -> 0 | X11: =IF(C11="","",SUMIF('CHAM NV'!G:G,C11,'CHAM NV'!H:H)) -> 0 | Y11: =IF($C11="","",(SUM($V11:$W11))*0.2) -> 0 | Z11: =IF($C11="","",SUMIF('TK CHAMTHI'!$G:$G,$C11,'TK CHAMTHI'!$I:$I)) -> 0 | AA11: =IF($C11="","",SUMIF('TK CHAMTHI'!$H:$H,$C11,'TK CHAMTHI'!$I:$I)) -> 0 | AB11: =IF(C11="","",SUMIF('CHAM NV'!E:E,C11,'CHAM NV'!F:F)) -> 0 | AC11: =IF($C11="","",(SUM($Z11:$AA11))*0.2) -> 0 | AD11: =IF($C11="","",SUMIF('TK CHAMTHI'!$J:$J,$C11,'TK CHAMTHI'!$L:$L)) -> 0 | AE11: =IF($C11="","",SUMIF('TK CHAMTHI'!$K:$K,$C11,'TK CHAMTHI'!$L:$L)) -> 0 | AF11: =IF(C11="","",SUMIF('CHAM NV'!I:I,C11,'CHAM NV'!J:J)) -> 0 | AG11: =IF($C11="","",(SUM($AD11:$AE11))*0.2) -> 0 | AH11: =IF($C11="","",SUMIF('TK CHAMTHI'!$M:$M,$C11,'TK CHAMTHI'!$O:$O)) -> 0 | AI11: =IF($C11="","",SUMIF('TK CHAMTHI'!$N:$N,$C11,'TK CHAMTHI'!$O:$O)) -> 0 | AJ11: =IF($C11="","",(SUM($AH11:$AI11))*0.2) -> 0 | AK11: =IF($C11="","",SUMIF('TK CHAMTHI'!$P:$P,$C11,'TK CHAMTHI'!$R:$R)) -> 0 | AL11: =IF($C11="","",SUMIF('TK CHAMTHI'!$Q:$Q,$C11,'TK CHAMTHI'!$R:$R)) -> 0 | AM11: =IF($C11="","",(SUM($AK11:$AL11))*0.4) -> 0 | AN11: =IF(C11="","",SUMIF('TK CHAMTHI'!S:S,C11,'TK CHAMTHI'!U:U)) -> 0 | AO11: =IF(C11="","",SUMIF('TK CHAMTHI'!T:T,C11,'TK CHAMTHI'!U:U)) -> 0 | AP11: =IF(C11="","",SUM(AN11:AO11)/10) -> 0 | AQ11: =IF(C11="","",ROUND(SUMIF('QL THI'!G:G,C11,'QL THI'!H:H),1)) -> 0 | AR11: =IF(C11="","",ROUND(SUMIF('QL THI'!E:E,C11,'QL THI'!F:F),1)) -> 0.9 | AS11: =IF(C11="","",ROUND(L11+Q11+U11+Y11+AC11+AG11+AJ11+AM11+AP11+SUM(AQ11:AR11),1)) -> 12.6
A12: =IF(C12="","",SUBTOTAL(3,$C$11:C12)) | D12: =IF($C12="","",SUMIF('TK DETHI'!$A:$A,$C12,'TK DETHI'!$B:$B)) | E12: =IF($C12="","",SUMIF('TK DETHI'!$C:$C,$C12,'TK DETHI'!$D:$D)) | F12: =IF($C12="","",SUMIF('TK DETHI'!$E:$E,$C12,'TK DETHI'!$F:$F)) | G12: =IF($C12="","",SUMIF('TK DETHI'!$G:$G,$C12,'TK DETHI'!$H:$H)) | H12: =IF($C12="","",SUMIF('TK DETHI'!$I:$I,$C12,'TK DETHI'!$J:$J)) | I12: =IF($C12="","",SUMIF('TK DETHI'!$K:$K,$C12,'TK DETHI'!$L:$L)) | J12: =IF($C12="","",SUMIF('TK DETHI'!$M:$M,$C12,'TK DETHI'!$N:$N)) | K12: =IF($C12="","",SUMIF('TK DETHI'!$O:$O,$C12,'TK DETHI'!$P:$P)) | L12: =IF($C12="","",($D12+$E12*1.5+$F12*0.25+$G12*0.5+$H12*2+$I12*2.5+$J12*0.5+$K12*1.5)) | M12: =IF($C12="","",SUMIF('TK COITHI KTHP va Thi TN'!$A:$A,$C12,'TK COITHI KTHP va Thi TN'!$D:$D)) | N12: =IF($C12="","",SUMIF('TK COITHI KTHP va Thi TN'!$B:$B,$C12,'TK COITHI KTHP va Thi TN'!$D:$D)) | O12: =IF($C12="","",SUMIF('TK COITHI KTHP va Thi TN'!$E:$E,$C12,'TK COITHI KTHP va Thi TN'!$H:$H)) | P12: =IF($C12="","",SUMIF('TK COITHI KTHP va Thi TN'!$F:$F,$C12,'TK COITHI KTHP va Thi TN'!$H:$H)) | Q12: =IF($C12="","",SUM($M12:$P12)) | R12: =IF($C12="","",SUMIF('TK CHAMTHI'!$A:$A,$C12,'TK CHAMTHI'!$C:$C)) | S12: =IF($C12="","",SUMIF('TK CHAMTHI'!$B:$B,$C12,'TK CHAMTHI'!$C:$C)) | T12: =IF(C12="","",SUMIF('CHAM NV'!B:B,C12,'CHAM NV'!C:C)) | U12: =IF($C12="","",(SUM($R12:$S12))*0.1) | V12: =IF($C12="","",SUMIF('TK CHAMTHI'!$D:$D,$C12,'TK CHAMTHI'!$F:$F)) | W12: =IF($C12="","",SUMIF('TK CHAMTHI'!$E:$E,$C12,'TK CHAMTHI'!$F:$F)) | X12: =IF(C12="","",SUMIF('CHAM NV'!G:G,C12,'CHAM NV'!H:H)) | Y12: =IF($C12="","",(SUM($V12:$W12))*0.2) | Z12: =IF($C12="","",SUMIF('TK CHAMTHI'!$G:$G,$C12,'TK CHAMTHI'!$I:$I)) | AA12: =IF($C12="","",SUMIF('TK CHAMTHI'!$H:$H,$C12,'TK CHAMTHI'!$I:$I)) | AB12: =IF(C12="","",SUMIF('CHAM NV'!E:E,C12,'CHAM NV'!F:F)) | AC12: =IF($C12="","",(SUM($Z12:$AA12))*0.2) | AD12: =IF($C12="","",SUMIF('TK CHAMTHI'!$J:$J,$C12,'TK CHAMTHI'!$L:$L)) | AE12: =IF($C12="","",SUMIF('TK CHAMTHI'!$K:$K,$C12,'TK CHAMTHI'!$L:$L)) | AF12: =IF(C12="","",SUMIF('CHAM NV'!I:I,C12,'CHAM NV'!J:J)) | AG12: =IF($C12="","",(SUM($AD12:$AE12))*0.2) | AH12: =IF($C12="","",SUMIF('TK CHAMTHI'!$M:$M,$C12,'TK CHAMTHI'!$O:$O)) | AI12: =IF($C12="","",SUMIF('TK CHAMTHI'!$N:$N,$C12,'TK CHAMTHI'!$O:$O)) | AJ12: =IF($C12="","",(SUM($AH12:$AI12))*0.2) | AK12: =IF($C12="","",SUMIF('TK CHAMTHI'!$P:$P,$C12,'TK CHAMTHI'!$R:$R)) | AL12: =IF($C12="","",SUMIF('TK CHAMTHI'!$Q:$Q,$C12,'TK CHAMTHI'!$R:$R)) | AM12: =IF($C12="","",(SUM($AK12:$AL12))*0.4) | AN12: =IF(C12="","",SUMIF('TK CHAMTHI'!S:S,C12,'TK CHAMTHI'!U:U)) | AO12: =IF(C12="","",SUMIF('TK CHAMTHI'!T:T,C12,'TK CHAMTHI'!U:U)) | AP12: =IF(C12="","",SUM(AN12:AO12)/10) | AQ12: =IF(C12="","",ROUND(SUMIF('QL THI'!G:G,C12,'QL THI'!H:H),1)) | AR12: =IF(C12="","",ROUND(SUMIF('QL THI'!E:E,C12,'QL THI'!F:F),1)) | AS12: =IF(C12="","",ROUND(L12+Q12+U12+Y12+AC12+AG12+AJ12+AM12+AP12+SUM(AQ12:AR12),1))
A13: =IF(C13="","",SUBTOTAL(3,$C$11:C13)) | D13: =IF($C13="","",SUMIF('TK DETHI'!$A:$A,$C13,'TK DETHI'!$B:$B)) | E13: =IF($C13="","",SUMIF('TK DETHI'!$C:$C,$C13,'TK DETHI'!$D:$D)) | F13: =IF($C13="","",SUMIF('TK DETHI'!$E:$E,$C13,'TK DETHI'!$F:$F)) | G13: =IF($C13="","",SUMIF('TK DETHI'!$G:$G,$C13,'TK DETHI'!$H:$H)) | H13: =IF($C13="","",SUMIF('TK DETHI'!$I:$I,$C13,'TK DETHI'!$J:$J)) | I13: =IF($C13="","",SUMIF('TK DETHI'!$K:$K,$C13,'TK DETHI'!$L:$L)) | J13: =IF($C13="","",SUMIF('TK DETHI'!$M:$M,$C13,'TK DETHI'!$N:$N)) | K13: =IF($C13="","",SUMIF('TK DETHI'!$O:$O,$C13,'TK DETHI'!$P:$P)) | L13: =IF($C13="","",($D13+$E13*1.5+$F13*0.25+$G13*0.5+$H13*2+$I13*2.5+$J13*0.5+$K13*1.5)) | M13: =IF($C13="","",SUMIF('TK COITHI KTHP va Thi TN'!$A:$A,$C13,'TK COITHI KTHP va Thi TN'!$D:$D)) | N13: =IF($C13="","",SUMIF('TK COITHI KTHP va Thi TN'!$B:$B,$C13,'TK COITHI KTHP va Thi TN'!$D:$D)) | O13: =IF($C13="","",SUMIF('TK COITHI KTHP va Thi TN'!$E:$E,$C13,'TK COITHI KTHP va Thi TN'!$H:$H)) | P13: =IF($C13="","",SUMIF('TK COITHI KTHP va Thi TN'!$F:$F,$C13,'TK COITHI KTHP va Thi TN'!$H:$H)) | Q13: =IF($C13="","",SUM($M13:$P13)) | R13: =IF($C13="","",SUMIF('TK CHAMTHI'!$A:$A,$C13,'TK CHAMTHI'!$C:$C)) | S13: =IF($C13="","",SUMIF('TK CHAMTHI'!$B:$B,$C13,'TK CHAMTHI'!$C:$C)) | T13: =IF(C13="","",SUMIF('CHAM NV'!B:B,C13,'CHAM NV'!C:C)) | U13: =IF($C13="","",(SUM($R13:$S13))*0.1) | V13: =IF($C13="","",SUMIF('TK CHAMTHI'!$D:$D,$C13,'TK CHAMTHI'!$F:$F)) | W13: =IF($C13="","",SUMIF('TK CHAMTHI'!$E:$E,$C13,'TK CHAMTHI'!$F:$F)) | X13: =IF(C13="","",SUMIF('CHAM NV'!G:G,C13,'CHAM NV'!H:H)) | Y13: =IF($C13="","",(SUM($V13:$W13))*0.2) | Z13: =IF($C13="","",SUMIF('TK CHAMTHI'!$G:$G,$C13,'TK CHAMTHI'!$I:$I)) | AA13: =IF($C13="","",SUMIF('TK CHAMTHI'!$H:$H,$C13,'TK CHAMTHI'!$I:$I)) | AB13: =IF(C13="","",SUMIF('CHAM NV'!E:E,C13,'CHAM NV'!F:F)) | AC13: =IF($C13="","",(SUM($Z13:$AA13))*0.2) | AD13: =IF($C13="","",SUMIF('TK CHAMTHI'!$J:$J,$C13,'TK CHAMTHI'!$L:$L)) | AE13: =IF($C13="","",SUMIF('TK CHAMTHI'!$K:$K,$C13,'TK CHAMTHI'!$L:$L)) | AF13: =IF(C13="","",SUMIF('CHAM NV'!I:I,C13,'CHAM NV'!J:J)) | AG13: =IF($C13="","",(SUM($AD13:$AE13))*0.2) | AH13: =IF($C13="","",SUMIF('TK CHAMTHI'!$M:$M,$C13,'TK CHAMTHI'!$O:$O)) | AI13: =IF($C13="","",SUMIF('TK CHAMTHI'!$N:$N,$C13,'TK CHAMTHI'!$O:$O)) | AJ13: =IF($C13="","",(SUM($AH13:$AI13))*0.2) | AK13: =IF($C13="","",SUMIF('TK CHAMTHI'!$P:$P,$C13,'TK CHAMTHI'!$R:$R)) | AL13: =IF($C13="","",SUMIF('TK CHAMTHI'!$Q:$Q,$C13,'TK CHAMTHI'!$R:$R)) | AM13: =IF($C13="","",(SUM($AK13:$AL13))*0.4) | AN13: =IF(C13="","",SUMIF('TK CHAMTHI'!S:S,C13,'TK CHAMTHI'!U:U)) | AO13: =IF(C13="","",SUMIF('TK CHAMTHI'!T:T,C13,'TK CHAMTHI'!U:U)) | AP13: =IF(C13="","",SUM(AN13:AO13)/10) | AQ13: =IF(C13="","",ROUND(SUMIF('QL THI'!G:G,C13,'QL THI'!H:H),1)) | AR13: =IF(C13="","",ROUND(SUMIF('QL THI'!E:E,C13,'QL THI'!F:F),1)) | AS13: =IF(C13="","",ROUND(L13+Q13+U13+Y13+AC13+AG13+AJ13+AM13+AP13+SUM(AQ13:AR13),1))
A14: =IF(C14="","",SUBTOTAL(3,$C$11:C14)) | D14: =IF($C14="","",SUMIF('TK DETHI'!$A:$A,$C14,'TK DETHI'!$B:$B)) | E14: =IF($C14="","",SUMIF('TK DETHI'!$C:$C,$C14,'TK DETHI'!$D:$D)) | F14: =IF($C14="","",SUMIF('TK DETHI'!$E:$E,$C14,'TK DETHI'!$F:$F)) | G14: =IF($C14="","",SUMIF('TK DETHI'!$G:$G,$C14,'TK DETHI'!$H:$H)) | H14: =IF($C14="","",SUMIF('TK DETHI'!$I:$I,$C14,'TK DETHI'!$J:$J)) | I14: =IF($C14="","",SUMIF('TK DETHI'!$K:$K,$C14,'TK DETHI'!$L:$L)) | J14: =IF($C14="","",SUMIF('TK DETHI'!$M:$M,$C14,'TK DETHI'!$N:$N)) | K14: =IF($C14="","",SUMIF('TK DETHI'!$O:$O,$C14,'TK DETHI'!$P:$P)) | L14: =IF($C14="","",($D14+$E14*1.5+$F14*0.25+$G14*0.5+$H14*2+$I14*2.5+$J14*0.5+$K14*1.5)) | M14: =IF($C14="","",SUMIF('TK COITHI KTHP va Thi TN'!$A:$A,$C14,'TK COITHI KTHP va Thi TN'!$D:$D)) | N14: =IF($C14="","",SUMIF('TK COITHI KTHP va Thi TN'!$B:$B,$C14,'TK COITHI KTHP va Thi TN'!$D:$D)) | O14: =IF($C14="","",SUMIF('TK COITHI KTHP va Thi TN'!$E:$E,$C14,'TK COITHI KTHP va Thi TN'!$H:$H)) | P14: =IF($C14="","",SUMIF('TK COITHI KTHP va Thi TN'!$F:$F,$C14,'TK COITHI KTHP va Thi TN'!$H:$H)) | Q14: =IF($C14="","",SUM($M14:$P14)) | R14: =IF($C14="","",SUMIF('TK CHAMTHI'!$A:$A,$C14,'TK CHAMTHI'!$C:$C)) | S14: =IF($C14="","",SUMIF('TK CHAMTHI'!$B:$B,$C14,'TK CHAMTHI'!$C:$C)) | T14: =IF(C14="","",SUMIF('CHAM NV'!B:B,C14,'CHAM NV'!C:C)) | U14: =IF($C14="","",(SUM($R14:$S14))*0.1) | V14: =IF($C14="","",SUMIF('TK CHAMTHI'!$D:$D,$C14,'TK CHAMTHI'!$F:$F)) | W14: =IF($C14="","",SUMIF('TK CHAMTHI'!$E:$E,$C14,'TK CHAMTHI'!$F:$F)) | X14: =IF(C14="","",SUMIF('CHAM NV'!G:G,C14,'CHAM NV'!H:H)) | Y14: =IF($C14="","",(SUM($V14:$W14))*0.2) | Z14: =IF($C14="","",SUMIF('TK CHAMTHI'!$G:$G,$C14,'TK CHAMTHI'!$I:$I)) | AA14: =IF($C14="","",SUMIF('TK CHAMTHI'!$H:$H,$C14,'TK CHAMTHI'!$I:$I)) | AB14: =IF(C14="","",SUMIF('CHAM NV'!E:E,C14,'CHAM NV'!F:F)) | AC14: =IF($C14="","",(SUM($Z14:$AA14))*0.2) | AD14: =IF($C14="","",SUMIF('TK CHAMTHI'!$J:$J,$C14,'TK CHAMTHI'!$L:$L)) | AE14: =IF($C14="","",SUMIF('TK CHAMTHI'!$K:$K,$C14,'TK CHAMTHI'!$L:$L)) | AF14: =IF(C14="","",SUMIF('CHAM NV'!I:I,C14,'CHAM NV'!J:J)) | AG14: =IF($C14="","",(SUM($AD14:$AE14))*0.2) | AH14: =IF($C14="","",SUMIF('TK CHAMTHI'!$M:$M,$C14,'TK CHAMTHI'!$O:$O)) | AI14: =IF($C14="","",SUMIF('TK CHAMTHI'!$N:$N,$C14,'TK CHAMTHI'!$O:$O)) | AJ14: =IF($C14="","",(SUM($AH14:$AI14))*0.2) | AK14: =IF($C14="","",SUMIF('TK CHAMTHI'!$P:$P,$C14,'TK CHAMTHI'!$R:$R)) | AL14: =IF($C14="","",SUMIF('TK CHAMTHI'!$Q:$Q,$C14,'TK CHAMTHI'!$R:$R)) | AM14: =IF($C14="","",(SUM($AK14:$AL14))*0.4) | AN14: =IF(C14="","",SUMIF('TK CHAMTHI'!S:S,C14,'TK CHAMTHI'!U:U)) | AO14: =IF(C14="","",SUMIF('TK CHAMTHI'!T:T,C14,'TK CHAMTHI'!U:U)) | AP14: =IF(C14="","",SUM(AN14:AO14)/10) | AQ14: =IF(C14="","",ROUND(SUMIF('QL THI'!G:G,C14,'QL THI'!H:H),1)) | AR14: =IF(C14="","",ROUND(SUMIF('QL THI'!E:E,C14,'QL THI'!F:F),1)) | AS14: =IF(C14="","",ROUND(L14+Q14+U14+Y14+AC14+AG14+AJ14+AM14+AP14+SUM(AQ14:AR14),1))
A15: =IF(C15="","",SUBTOTAL(3,$C$11:C15)) | D15: =IF($C15="","",SUMIF('TK DETHI'!$A:$A,$C15,'TK DETHI'!$B:$B)) | E15: =IF($C15="","",SUMIF('TK DETHI'!$C:$C,$C15,'TK DETHI'!$D:$D)) | F15: =IF($C15="","",SUMIF('TK DETHI'!$E:$E,$C15,'TK DETHI'!$F:$F)) | G15: =IF($C15="","",SUMIF('TK DETHI'!$G:$G,$C15,'TK DETHI'!$H:$H)) | H15: =IF($C15="","",SUMIF('TK DETHI'!$I:$I,$C15,'TK DETHI'!$J:$J)) | I15: =IF($C15="","",SUMIF('TK DETHI'!$K:$K,$C15,'TK DETHI'!$L:$L)) | J15: =IF($C15="","",SUMIF('TK DETHI'!$M:$M,$C15,'TK DETHI'!$N:$N)) | K15: =IF($C15="","",SUMIF('TK DETHI'!$O:$O,$C15,'TK DETHI'!$P:$P)) | L15: =IF($C15="","",($D15+$E15*1.5+$F15*0.25+$G15*0.5+$H15*2+$I15*2.5+$J15*0.5+$K15*1.5)) | M15: =IF($C15="","",SUMIF('TK COITHI KTHP va Thi TN'!$A:$A,$C15,'TK COITHI KTHP va Thi TN'!$D:$D)) | N15: =IF($C15="","",SUMIF('TK COITHI KTHP va Thi TN'!$B:$B,$C15,'TK COITHI KTHP va Thi TN'!$D:$D)) | O15: =IF($C15="","",SUMIF('TK COITHI KTHP va Thi TN'!$E:$E,$C15,'TK COITHI KTHP va Thi TN'!$H:$H)) | P15: =IF($C15="","",SUMIF('TK COITHI KTHP va Thi TN'!$F:$F,$C15,'TK COITHI KTHP va Thi TN'!$H:$H)) | Q15: =IF($C15="","",SUM($M15:$P15)) | R15: =IF($C15="","",SUMIF('TK CHAMTHI'!$A:$A,$C15,'TK CHAMTHI'!$C:$C)) | S15: =IF($C15="","",SUMIF('TK CHAMTHI'!$B:$B,$C15,'TK CHAMTHI'!$C:$C)) | T15: =IF(C15="","",SUMIF('CHAM NV'!B:B,C15,'CHAM NV'!C:C)) | U15: =IF($C15="","",(SUM($R15:$S15))*0.1) | V15: =IF($C15="","",SUMIF('TK CHAMTHI'!$D:$D,$C15,'TK CHAMTHI'!$F:$F)) | W15: =IF($C15="","",SUMIF('TK CHAMTHI'!$E:$E,$C15,'TK CHAMTHI'!$F:$F)) | X15: =IF(C15="","",SUMIF('CHAM NV'!G:G,C15,'CHAM NV'!H:H)) | Y15: =IF($C15="","",(SUM($V15:$W15))*0.2) | Z15: =IF($C15="","",SUMIF('TK CHAMTHI'!$G:$G,$C15,'TK CHAMTHI'!$I:$I)) | AA15: =IF($C15="","",SUMIF('TK CHAMTHI'!$H:$H,$C15,'TK CHAMTHI'!$I:$I)) | AB15: =IF(C15="","",SUMIF('CHAM NV'!E:E,C15,'CHAM NV'!F:F)) | AC15: =IF($C15="","",(SUM($Z15:$AA15))*0.2) | AD15: =IF($C15="","",SUMIF('TK CHAMTHI'!$J:$J,$C15,'TK CHAMTHI'!$L:$L)) | AE15: =IF($C15="","",SUMIF('TK CHAMTHI'!$K:$K,$C15,'TK CHAMTHI'!$L:$L)) | AF15: =IF(C15="","",SUMIF('CHAM NV'!I:I,C15,'CHAM NV'!J:J)) | AG15: =IF($C15="","",(SUM($AD15:$AE15))*0.2) | AH15: =IF($C15="","",SUMIF('TK CHAMTHI'!$M:$M,$C15,'TK CHAMTHI'!$O:$O)) | AI15: =IF($C15="","",SUMIF('TK CHAMTHI'!$N:$N,$C15,'TK CHAMTHI'!$O:$O)) | AJ15: =IF($C15="","",(SUM($AH15:$AI15))*0.2) | AK15: =IF($C15="","",SUMIF('TK CHAMTHI'!$P:$P,$C15,'TK CHAMTHI'!$R:$R)) | AL15: =IF($C15="","",SUMIF('TK CHAMTHI'!$Q:$Q,$C15,'TK CHAMTHI'!$R:$R)) | AM15: =IF($C15="","",(SUM($AK15:$AL15))*0.4) | AN15: =IF(C15="","",SUMIF('TK CHAMTHI'!S:S,C15,'TK CHAMTHI'!U:U)) | AO15: =IF(C15="","",SUMIF('TK CHAMTHI'!T:T,C15,'TK CHAMTHI'!U:U)) | AP15: =IF(C15="","",SUM(AN15:AO15)/10) | AQ15: =IF(C15="","",ROUND(SUMIF('QL THI'!G:G,C15,'QL THI'!H:H),1)) | AR15: =IF(C15="","",ROUND(SUMIF('QL THI'!E:E,C15,'QL THI'!F:F),1)) | AS15: =IF(C15="","",ROUND(L15+Q15+U15+Y15+AC15+AG15+AJ15+AM15+AP15+SUM(AQ15:AR15),1))
A16: =IF(C16="","",SUBTOTAL(3,$C$11:C16)) | D16: =IF($C16="","",SUMIF('TK DETHI'!$A:$A,$C16,'TK DETHI'!$B:$B)) | E16: =IF($C16="","",SUMIF('TK DETHI'!$C:$C,$C16,'TK DETHI'!$D:$D)) | F16: =IF($C16="","",SUMIF('TK DETHI'!$E:$E,$C16,'TK DETHI'!$F:$F)) | G16: =IF($C16="","",SUMIF('TK DETHI'!$G:$G,$C16,'TK DETHI'!$H:$H)) | H16: =IF($C16="","",SUMIF('TK DETHI'!$I:$I,$C16,'TK DETHI'!$J:$J)) | I16: =IF($C16="","",SUMIF('TK DETHI'!$K:$K,$C16,'TK DETHI'!$L:$L)) | J16: =IF($C16="","",SUMIF('TK DETHI'!$M:$M,$C16,'TK DETHI'!$N:$N)) | K16: =IF($C16="","",SUMIF('TK DETHI'!$O:$O,$C16,'TK DETHI'!$P:$P)) | L16: =IF($C16="","",($D16+$E16*1.5+$F16*0.25+$G16*0.5+$H16*2+$I16*2.5+$J16*0.5+$K16*1.5)) | M16: =IF($C16="","",SUMIF('TK COITHI KTHP va Thi TN'!$A:$A,$C16,'TK COITHI KTHP va Thi TN'!$D:$D)) | N16: =IF($C16="","",SUMIF('TK COITHI KTHP va Thi TN'!$B:$B,$C16,'TK COITHI KTHP va Thi TN'!$D:$D)) | O16: =IF($C16="","",SUMIF('TK COITHI KTHP va Thi TN'!$E:$E,$C16,'TK COITHI KTHP va Thi TN'!$H:$H)) | P16: =IF($C16="","",SUMIF('TK COITHI KTHP va Thi TN'!$F:$F,$C16,'TK COITHI KTHP va Thi TN'!$H:$H)) | Q16: =IF($C16="","",SUM($M16:$P16)) | R16: =IF($C16="","",SUMIF('TK CHAMTHI'!$A:$A,$C16,'TK CHAMTHI'!$C:$C)) | S16: =IF($C16="","",SUMIF('TK CHAMTHI'!$B:$B,$C16,'TK CHAMTHI'!$C:$C)) | T16: =IF(C16="","",SUMIF('CHAM NV'!B:B,C16,'CHAM NV'!C:C)) | U16: =IF($C16="","",(SUM($R16:$S16))*0.1) | V16: =IF($C16="","",SUMIF('TK CHAMTHI'!$D:$D,$C16,'TK CHAMTHI'!$F:$F)) | W16: =IF($C16="","",SUMIF('TK CHAMTHI'!$E:$E,$C16,'TK CHAMTHI'!$F:$F)) | X16: =IF(C16="","",SUMIF('CHAM NV'!G:G,C16,'CHAM NV'!H:H)) | Y16: =IF($C16="","",(SUM($V16:$W16))*0.2) | Z16: =IF($C16="","",SUMIF('TK CHAMTHI'!$G:$G,$C16,'TK CHAMTHI'!$I:$I)) | AA16: =IF($C16="","",SUMIF('TK CHAMTHI'!$H:$H,$C16,'TK CHAMTHI'!$I:$I)) | AB16: =IF(C16="","",SUMIF('CHAM NV'!E:E,C16,'CHAM NV'!F:F)) | AC16: =IF($C16="","",(SUM($Z16:$AA16))*0.2) | AD16: =IF($C16="","",SUMIF('TK CHAMTHI'!$J:$J,$C16,'TK CHAMTHI'!$L:$L)) | AE16: =IF($C16="","",SUMIF('TK CHAMTHI'!$K:$K,$C16,'TK CHAMTHI'!$L:$L)) | AF16: =IF(C16="","",SUMIF('CHAM NV'!I:I,C16,'CHAM NV'!J:J)) | AG16: =IF($C16="","",(SUM($AD16:$AE16))*0.2) | AH16: =IF($C16="","",SUMIF('TK CHAMTHI'!$M:$M,$C16,'TK CHAMTHI'!$O:$O)) | AI16: =IF($C16="","",SUMIF('TK CHAMTHI'!$N:$N,$C16,'TK CHAMTHI'!$O:$O)) | AJ16: =IF($C16="","",(SUM($AH16:$AI16))*0.2) | AK16: =IF($C16="","",SUMIF('TK CHAMTHI'!$P:$P,$C16,'TK CHAMTHI'!$R:$R)) | AL16: =IF($C16="","",SUMIF('TK CHAMTHI'!$Q:$Q,$C16,'TK CHAMTHI'!$R:$R)) | AM16: =IF($C16="","",(SUM($AK16:$AL16))*0.4) | AN16: =IF(C16="","",SUMIF('TK CHAMTHI'!S:S,C16,'TK CHAMTHI'!U:U)) | AO16: =IF(C16="","",SUMIF('TK CHAMTHI'!T:T,C16,'TK CHAMTHI'!U:U)) | AP16: =IF(C16="","",SUM(AN16:AO16)/10) | AQ16: =IF(C16="","",ROUND(SUMIF('QL THI'!G:G,C16,'QL THI'!H:H),1)) | AR16: =IF(C16="","",ROUND(SUMIF('QL THI'!E:E,C16,'QL THI'!F:F),1)) | AS16: =IF(C16="","",ROUND(L16+Q16+U16+Y16+AC16+AG16+AJ16+AM16+AP16+SUM(AQ16:AR16),1))
A17: =IF(C17="","",SUBTOTAL(3,$C$11:C17)) | D17: =IF($C17="","",SUMIF('TK DETHI'!$A:$A,$C17,'TK DETHI'!$B:$B)) | E17: =IF($C17="","",SUMIF('TK DETHI'!$C:$C,$C17,'TK DETHI'!$D:$D)) | F17: =IF($C17="","",SUMIF('TK DETHI'!$E:$E,$C17,'TK DETHI'!$F:$F)) | G17: =IF($C17="","",SUMIF('TK DETHI'!$G:$G,$C17,'TK DETHI'!$H:$H)) | H17: =IF($C17="","",SUMIF('TK DETHI'!$I:$I,$C17,'TK DETHI'!$J:$J)) | I17: =IF($C17="","",SUMIF('TK DETHI'!$K:$K,$C17,'TK DETHI'!$L:$L)) | J17: =IF($C17="","",SUMIF('TK DETHI'!$M:$M,$C17,'TK DETHI'!$N:$N)) | K17: =IF($C17="","",SUMIF('TK DETHI'!$O:$O,$C17,'TK DETHI'!$P:$P)) | L17: =IF($C17="","",($D17+$E17*1.5+$F17*0.25+$G17*0.5+$H17*2+$I17*2.5+$J17*0.5+$K17*1.5)) | M17: =IF($C17="","",SUMIF('TK COITHI KTHP va Thi TN'!$A:$A,$C17,'TK COITHI KTHP va Thi TN'!$D:$D)) | N17: =IF($C17="","",SUMIF('TK COITHI KTHP va Thi TN'!$B:$B,$C17,'TK COITHI KTHP va Thi TN'!$D:$D)) | O17: =IF($C17="","",SUMIF('TK COITHI KTHP va Thi TN'!$E:$E,$C17,'TK COITHI KTHP va Thi TN'!$H:$H)) | P17: =IF($C17="","",SUMIF('TK COITHI KTHP va Thi TN'!$F:$F,$C17,'TK COITHI KTHP va Thi TN'!$H:$H)) | Q17: =IF($C17="","",SUM($M17:$P17)) | R17: =IF($C17="","",SUMIF('TK CHAMTHI'!$A:$A,$C17,'TK CHAMTHI'!$C:$C)) | S17: =IF($C17="","",SUMIF('TK CHAMTHI'!$B:$B,$C17,'TK CHAMTHI'!$C:$C)) | T17: =IF(C17="","",SUMIF('CHAM NV'!B:B,C17,'CHAM NV'!C:C)) | U17: =IF($C17="","",(SUM($R17:$S17))*0.1) | V17: =IF($C17="","",SUMIF('TK CHAMTHI'!$D:$D,$C17,'TK CHAMTHI'!$F:$F)) | W17: =IF($C17="","",SUMIF('TK CHAMTHI'!$E:$E,$C17,'TK CHAMTHI'!$F:$F)) | X17: =IF(C17="","",SUMIF('CHAM NV'!G:G,C17,'CHAM NV'!H:H)) | Y17: =IF($C17="","",(SUM($V17:$W17))*0.2) | Z17: =IF($C17="","",SUMIF('TK CHAMTHI'!$G:$G,$C17,'TK CHAMTHI'!$I:$I)) | AA17: =IF($C17="","",SUMIF('TK CHAMTHI'!$H:$H,$C17,'TK CHAMTHI'!$I:$I)) | AB17: =IF(C17="","",SUMIF('CHAM NV'!E:E,C17,'CHAM NV'!F:F)) | AC17: =IF($C17="","",(SUM($Z17:$AA17))*0.2) | AD17: =IF($C17="","",SUMIF('TK CHAMTHI'!$J:$J,$C17,'TK CHAMTHI'!$L:$L)) | AE17: =IF($C17="","",SUMIF('TK CHAMTHI'!$K:$K,$C17,'TK CHAMTHI'!$L:$L)) | AF17: =IF(C17="","",SUMIF('CHAM NV'!I:I,C17,'CHAM NV'!J:J)) | AG17: =IF($C17="","",(SUM($AD17:$AE17))*0.2) | AH17: =IF($C17="","",SUMIF('TK CHAMTHI'!$M:$M,$C17,'TK CHAMTHI'!$O:$O)) | AI17: =IF($C17="","",SUMIF('TK CHAMTHI'!$N:$N,$C17,'TK CHAMTHI'!$O:$O)) | AJ17: =IF($C17="","",(SUM($AH17:$AI17))*0.2) | AK17: =IF($C17="","",SUMIF('TK CHAMTHI'!$P:$P,$C17,'TK CHAMTHI'!$R:$R)) | AL17: =IF($C17="","",SUMIF('TK CHAMTHI'!$Q:$Q,$C17,'TK CHAMTHI'!$R:$R)) | AM17: =IF($C17="","",(SUM($AK17:$AL17))*0.4) | AN17: =IF(C17="","",SUMIF('TK CHAMTHI'!S:S,C17,'TK CHAMTHI'!U:U)) | AO17: =IF(C17="","",SUMIF('TK CHAMTHI'!T:T,C17,'TK CHAMTHI'!U:U)) | AP17: =IF(C17="","",SUM(AN17:AO17)/10) | AQ17: =IF(C17="","",ROUND(SUMIF('QL THI'!G:G,C17,'QL THI'!H:H),1)) | AR17: =IF(C17="","",ROUND(SUMIF('QL THI'!E:E,C17,'QL THI'!F:F),1)) | AS17: =IF(C17="","",ROUND(L17+Q17+U17+Y17+AC17+AG17+AJ17+AM17+AP17+SUM(AQ17:AR17),1))
A18: =IF(C18="","",SUBTOTAL(3,$C$11:C18)) | D18: =IF($C18="","",SUMIF('TK DETHI'!$A:$A,$C18,'TK DETHI'!$B:$B)) | E18: =IF($C18="","",SUMIF('TK DETHI'!$C:$C,$C18,'TK DETHI'!$D:$D)) | F18: =IF($C18="","",SUMIF('TK DETHI'!$E:$E,$C18,'TK DETHI'!$F:$F)) | G18: =IF($C18="","",SUMIF('TK DETHI'!$G:$G,$C18,'TK DETHI'!$H:$H)) | H18: =IF($C18="","",SUMIF('TK DETHI'!$I:$I,$C18,'TK DETHI'!$J:$J)) | I18: =IF($C18="","",SUMIF('TK DETHI'!$K:$K,$C18,'TK DETHI'!$L:$L)) | J18: =IF($C18="","",SUMIF('TK DETHI'!$M:$M,$C18,'TK DETHI'!$N:$N)) | K18: =IF($C18="","",SUMIF('TK DETHI'!$O:$O,$C18,'TK DETHI'!$P:$P)) | L18: =IF($C18="","",($D18+$E18*1.5+$F18*0.25+$G18*0.5+$H18*2+$I18*2.5+$J18*0.5+$K18*1.5)) | M18: =IF($C18="","",SUMIF('TK COITHI KTHP va Thi TN'!$A:$A,$C18,'TK COITHI KTHP va Thi TN'!$D:$D)) | N18: =IF($C18="","",SUMIF('TK COITHI KTHP va Thi TN'!$B:$B,$C18,'TK COITHI KTHP va Thi TN'!$D:$D)) | O18: =IF($C18="","",SUMIF('TK COITHI KTHP va Thi TN'!$E:$E,$C18,'TK COITHI KTHP va Thi TN'!$H:$H)) | P18: =IF($C18="","",SUMIF('TK COITHI KTHP va Thi TN'!$F:$F,$C18,'TK COITHI KTHP va Thi TN'!$H:$H)) | Q18: =IF($C18="","",SUM($M18:$P18)) | R18: =IF($C18="","",SUMIF('TK CHAMTHI'!$A:$A,$C18,'TK CHAMTHI'!$C:$C)) | S18: =IF($C18="","",SUMIF('TK CHAMTHI'!$B:$B,$C18,'TK CHAMTHI'!$C:$C)) | T18: =IF(C18="","",SUMIF('CHAM NV'!B:B,C18,'CHAM NV'!C:C)) | U18: =IF($C18="","",(SUM($R18:$S18))*0.1) | V18: =IF($C18="","",SUMIF('TK CHAMTHI'!$D:$D,$C18,'TK CHAMTHI'!$F:$F)) | W18: =IF($C18="","",SUMIF('TK CHAMTHI'!$E:$E,$C18,'TK CHAMTHI'!$F:$F)) | X18: =IF(C18="","",SUMIF('CHAM NV'!G:G,C18,'CHAM NV'!H:H)) | Y18: =IF($C18="","",(SUM($V18:$W18))*0.2) | Z18: =IF($C18="","",SUMIF('TK CHAMTHI'!$G:$G,$C18,'TK CHAMTHI'!$I:$I)) | AA18: =IF($C18="","",SUMIF('TK CHAMTHI'!$H:$H,$C18,'TK CHAMTHI'!$I:$I)) | AB18: =IF(C18="","",SUMIF('CHAM NV'!E:E,C18,'CHAM NV'!F:F)) | AC18: =IF($C18="","",(SUM($Z18:$AA18))*0.2) | AD18: =IF($C18="","",SUMIF('TK CHAMTHI'!$J:$J,$C18,'TK CHAMTHI'!$L:$L)) | AE18: =IF($C18="","",SUMIF('TK CHAMTHI'!$K:$K,$C18,'TK CHAMTHI'!$L:$L)) | AF18: =IF(C18="","",SUMIF('CHAM NV'!I:I,C18,'CHAM NV'!J:J)) | AG18: =IF($C18="","",(SUM($AD18:$AE18))*0.2) | AH18: =IF($C18="","",SUMIF('TK CHAMTHI'!$M:$M,$C18,'TK CHAMTHI'!$O:$O)) | AI18: =IF($C18="","",SUMIF('TK CHAMTHI'!$N:$N,$C18,'TK CHAMTHI'!$O:$O)) | AJ18: =IF($C18="","",(SUM($AH18:$AI18))*0.2) | AK18: =IF($C18="","",SUMIF('TK CHAMTHI'!$P:$P,$C18,'TK CHAMTHI'!$R:$R)) | AL18: =IF($C18="","",SUMIF('TK CHAMTHI'!$Q:$Q,$C18,'TK CHAMTHI'!$R:$R)) | AM18: =IF($C18="","",(SUM($AK18:$AL18))*0.4) | AN18: =IF(C18="","",SUMIF('TK CHAMTHI'!S:S,C18,'TK CHAMTHI'!U:U)) | AO18: =IF(C18="","",SUMIF('TK CHAMTHI'!T:T,C18,'TK CHAMTHI'!U:U)) | AP18: =IF(C18="","",SUM(AN18:AO18)/10) | AQ18: =IF(C18="","",ROUND(SUMIF('QL THI'!G:G,C18,'QL THI'!H:H),1)) | AR18: =IF(C18="","",ROUND(SUMIF('QL THI'!E:E,C18,'QL THI'!F:F),1)) | AS18: =IF(C18="","",ROUND(L18+Q18+U18+Y18+AC18+AG18+AJ18+AM18+AP18+SUM(AQ18:AR18),1))
A19: =IF(C19="","",SUBTOTAL(3,$C$11:C19)) | D19: =IF($C19="","",SUMIF('TK DETHI'!$A:$A,$C19,'TK DETHI'!$B:$B)) | E19: =IF($C19="","",SUMIF('TK DETHI'!$C:$C,$C19,'TK DETHI'!$D:$D)) | F19: =IF($C19="","",SUMIF('TK DETHI'!$E:$E,$C19,'TK DETHI'!$F:$F)) | G19: =IF($C19="","",SUMIF('TK DETHI'!$G:$G,$C19,'TK DETHI'!$H:$H)) | H19: =IF($C19="","",SUMIF('TK DETHI'!$I:$I,$C19,'TK DETHI'!$J:$J)) | I19: =IF($C19="","",SUMIF('TK DETHI'!$K:$K,$C19,'TK DETHI'!$L:$L)) | J19: =IF($C19="","",SUMIF('TK DETHI'!$M:$M,$C19,'TK DETHI'!$N:$N)) | K19: =IF($C19="","",SUMIF('TK DETHI'!$O:$O,$C19,'TK DETHI'!$P:$P)) | L19: =IF($C19="","",($D19+$E19*1.5+$F19*0.25+$G19*0.5+$H19*2+$I19*2.5+$J19*0.5+$K19*1.5)) | M19: =IF($C19="","",SUMIF('TK COITHI KTHP va Thi TN'!$A:$A,$C19,'TK COITHI KTHP va Thi TN'!$D:$D)) | N19: =IF($C19="","",SUMIF('TK COITHI KTHP va Thi TN'!$B:$B,$C19,'TK COITHI KTHP va Thi TN'!$D:$D)) | O19: =IF($C19="","",SUMIF('TK COITHI KTHP va Thi TN'!$E:$E,$C19,'TK COITHI KTHP va Thi TN'!$H:$H)) | P19: =IF($C19="","",SUMIF('TK COITHI KTHP va Thi TN'!$F:$F,$C19,'TK COITHI KTHP va Thi TN'!$H:$H)) | Q19: =IF($C19="","",SUM($M19:$P19)) | R19: =IF($C19="","",SUMIF('TK CHAMTHI'!$A:$A,$C19,'TK CHAMTHI'!$C:$C)) | S19: =IF($C19="","",SUMIF('TK CHAMTHI'!$B:$B,$C19,'TK CHAMTHI'!$C:$C)) | T19: =IF(C19="","",SUMIF('CHAM NV'!B:B,C19,'CHAM NV'!C:C)) | U19: =IF($C19="","",(SUM($R19:$S19))*0.1) | V19: =IF($C19="","",SUMIF('TK CHAMTHI'!$D:$D,$C19,'TK CHAMTHI'!$F:$F)) | W19: =IF($C19="","",SUMIF('TK CHAMTHI'!$E:$E,$C19,'TK CHAMTHI'!$F:$F)) | X19: =IF(C19="","",SUMIF('CHAM NV'!G:G,C19,'CHAM NV'!H:H)) | Y19: =IF($C19="","",(SUM($V19:$W19))*0.2) | Z19: =IF($C19="","",SUMIF('TK CHAMTHI'!$G:$G,$C19,'TK CHAMTHI'!$I:$I)) | AA19: =IF($C19="","",SUMIF('TK CHAMTHI'!$H:$H,$C19,'TK CHAMTHI'!$I:$I)) | AB19: =IF(C19="","",SUMIF('CHAM NV'!E:E,C19,'CHAM NV'!F:F)) | AC19: =IF($C19="","",(SUM($Z19:$AA19))*0.2) | AD19: =IF($C19="","",SUMIF('TK CHAMTHI'!$J:$J,$C19,'TK CHAMTHI'!$L:$L)) | AE19: =IF($C19="","",SUMIF('TK CHAMTHI'!$K:$K,$C19,'TK CHAMTHI'!$L:$L)) | AF19: =IF(C19="","",SUMIF('CHAM NV'!I:I,C19,'CHAM NV'!J:J)) | AG19: =IF($C19="","",(SUM($AD19:$AE19))*0.2) | AH19: =IF($C19="","",SUMIF('TK CHAMTHI'!$M:$M,$C19,'TK CHAMTHI'!$O:$O)) | AI19: =IF($C19="","",SUMIF('TK CHAMTHI'!$N:$N,$C19,'TK CHAMTHI'!$O:$O)) | AJ19: =IF($C19="","",(SUM($AH19:$AI19))*0.2) | AK19: =IF($C19="","",SUMIF('TK CHAMTHI'!$P:$P,$C19,'TK CHAMTHI'!$R:$R)) | AL19: =IF($C19="","",SUMIF('TK CHAMTHI'!$Q:$Q,$C19,'TK CHAMTHI'!$R:$R)) | AM19: =IF($C19="","",(SUM($AK19:$AL19))*0.4) | AN19: =IF(C19="","",SUMIF('TK CHAMTHI'!S:S,C19,'TK CHAMTHI'!U:U)) | AO19: =IF(C19="","",SUMIF('TK CHAMTHI'!T:T,C19,'TK CHAMTHI'!U:U)) | AP19: =IF(C19="","",SUM(AN19:AO19)/10) | AQ19: =IF(C19="","",ROUND(SUMIF('QL THI'!G:G,C19,'QL THI'!H:H),1)) | AR19: =IF(C19="","",ROUND(SUMIF('QL THI'!E:E,C19,'QL THI'!F:F),1)) | AS19: =IF(C19="","",ROUND(L19+Q19+U19+Y19+AC19+AG19+AJ19+AM19+AP19+SUM(AQ19:AR19),1))
A20: =IF(C20="","",SUBTOTAL(3,$C$11:C20)) | D20: =IF($C20="","",SUMIF('TK DETHI'!$A:$A,$C20,'TK DETHI'!$B:$B)) | E20: =IF($C20="","",SUMIF('TK DETHI'!$C:$C,$C20,'TK DETHI'!$D:$D)) | F20: =IF($C20="","",SUMIF('TK DETHI'!$E:$E,$C20,'TK DETHI'!$F:$F)) | G20: =IF($C20="","",SUMIF('TK DETHI'!$G:$G,$C20,'TK DETHI'!$H:$H)) | H20: =IF($C20="","",SUMIF('TK DETHI'!$I:$I,$C20,'TK DETHI'!$J:$J)) | I20: =IF($C20="","",SUMIF('TK DETHI'!$K:$K,$C20,'TK DETHI'!$L:$L)) | J20: =IF($C20="","",SUMIF('TK DETHI'!$M:$M,$C20,'TK DETHI'!$N:$N)) | K20: =IF($C20="","",SUMIF('TK DETHI'!$O:$O,$C20,'TK DETHI'!$P:$P)) | L20: =IF($C20="","",($D20+$E20*1.5+$F20*0.25+$G20*0.5+$H20*2+$I20*2.5+$J20*0.5+$K20*1.5)) | M20: =IF($C20="","",SUMIF('TK COITHI KTHP va Thi TN'!$A:$A,$C20,'TK COITHI KTHP va Thi TN'!$D:$D)) | N20: =IF($C20="","",SUMIF('TK COITHI KTHP va Thi TN'!$B:$B,$C20,'TK COITHI KTHP va Thi TN'!$D:$D)) | O20: =IF($C20="","",SUMIF('TK COITHI KTHP va Thi TN'!$E:$E,$C20,'TK COITHI KTHP va Thi TN'!$H:$H)) | P20: =IF($C20="","",SUMIF('TK COITHI KTHP va Thi TN'!$F:$F,$C20,'TK COITHI KTHP va Thi TN'!$H:$H)) | Q20: =IF($C20="","",SUM($M20:$P20)) | R20: =IF($C20="","",SUMIF('TK CHAMTHI'!$A:$A,$C20,'TK CHAMTHI'!$C:$C)) | S20: =IF($C20="","",SUMIF('TK CHAMTHI'!$B:$B,$C20,'TK CHAMTHI'!$C:$C)) | T20: =IF(C20="","",SUMIF('CHAM NV'!B:B,C20,'CHAM NV'!C:C)) | U20: =IF($C20="","",(SUM($R20:$S20))*0.1) | V20: =IF($C20="","",SUMIF('TK CHAMTHI'!$D:$D,$C20,'TK CHAMTHI'!$F:$F)) | W20: =IF($C20="","",SUMIF('TK CHAMTHI'!$E:$E,$C20,'TK CHAMTHI'!$F:$F)) | X20: =IF(C20="","",SUMIF('CHAM NV'!G:G,C20,'CHAM NV'!H:H)) | Y20: =IF($C20="","",(SUM($V20:$W20))*0.2) | Z20: =IF($C20="","",SUMIF('TK CHAMTHI'!$G:$G,$C20,'TK CHAMTHI'!$I:$I)) | AA20: =IF($C20="","",SUMIF('TK CHAMTHI'!$H:$H,$C20,'TK CHAMTHI'!$I:$I)) | AB20: =IF(C20="","",SUMIF('CHAM NV'!E:E,C20,'CHAM NV'!F:F)) | AC20: =IF($C20="","",(SUM($Z20:$AA20))*0.2) | AD20: =IF($C20="","",SUMIF('TK CHAMTHI'!$J:$J,$C20,'TK CHAMTHI'!$L:$L)) | AE20: =IF($C20="","",SUMIF('TK CHAMTHI'!$K:$K,$C20,'TK CHAMTHI'!$L:$L)) | AF20: =IF(C20="","",SUMIF('CHAM NV'!I:I,C20,'CHAM NV'!J:J)) | AG20: =IF($C20="","",(SUM($AD20:$AE20))*0.2) | AH20: =IF($C20="","",SUMIF('TK CHAMTHI'!$M:$M,$C20,'TK CHAMTHI'!$O:$O)) | AI20: =IF($C20="","",SUMIF('TK CHAMTHI'!$N:$N,$C20,'TK CHAMTHI'!$O:$O)) | AJ20: =IF($C20="","",(SUM($AH20:$AI20))*0.2) | AK20: =IF($C20="","",SUMIF('TK CHAMTHI'!$P:$P,$C20,'TK CHAMTHI'!$R:$R)) | AL20: =IF($C20="","",SUMIF('TK CHAMTHI'!$Q:$Q,$C20,'TK CHAMTHI'!$R:$R)) | AM20: =IF($C20="","",(SUM($AK20:$AL20))*0.4) | AN20: =IF(C20="","",SUMIF('TK CHAMTHI'!S:S,C20,'TK CHAMTHI'!U:U)) | AO20: =IF(C20="","",SUMIF('TK CHAMTHI'!T:T,C20,'TK CHAMTHI'!U:U)) | AP20: =IF(C20="","",SUM(AN20:AO20)/10) | AQ20: =IF(C20="","",ROUND(SUMIF('QL THI'!G:G,C20,'QL THI'!H:H),1)) | AR20: =IF(C20="","",ROUND(SUMIF('QL THI'!E:E,C20,'QL THI'!F:F),1)) | AS20: =IF(C20="","",ROUND(L20+Q20+U20+Y20+AC20+AG20+AJ20+AM20+AP20+SUM(AQ20:AR20),1))
A21: =IF(C21="","",SUBTOTAL(3,$C$11:C21)) | D21: =IF($C21="","",SUMIF('TK DETHI'!$A:$A,$C21,'TK DETHI'!$B:$B)) | E21: =IF($C21="","",SUMIF('TK DETHI'!$C:$C,$C21,'TK DETHI'!$D:$D)) | F21: =IF($C21="","",SUMIF('TK DETHI'!$E:$E,$C21,'TK DETHI'!$F:$F)) | G21: =IF($C21="","",SUMIF('TK DETHI'!$G:$G,$C21,'TK DETHI'!$H:$H)) | H21: =IF($C21="","",SUMIF('TK DETHI'!$I:$I,$C21,'TK DETHI'!$J:$J)) | I21: =IF($C21="","",SUMIF('TK DETHI'!$K:$K,$C21,'TK DETHI'!$L:$L)) | J21: =IF($C21="","",SUMIF('TK DETHI'!$M:$M,$C21,'TK DETHI'!$N:$N)) | K21: =IF($C21="","",SUMIF('TK DETHI'!$O:$O,$C21,'TK DETHI'!$P:$P)) | L21: =IF($C21="","",($D21+$E21*1.5+$F21*0.25+$G21*0.5+$H21*2+$I21*2.5+$J21*0.5+$K21*1.5)) | M21: =IF($C21="","",SUMIF('TK COITHI KTHP va Thi TN'!$A:$A,$C21,'TK COITHI KTHP va Thi TN'!$D:$D)) | N21: =IF($C21="","",SUMIF('TK COITHI KTHP va Thi TN'!$B:$B,$C21,'TK COITHI KTHP va Thi TN'!$D:$D)) | O21: =IF($C21="","",SUMIF('TK COITHI KTHP va Thi TN'!$E:$E,$C21,'TK COITHI KTHP va Thi TN'!$H:$H)) | P21: =IF($C21="","",SUMIF('TK COITHI KTHP va Thi TN'!$F:$F,$C21,'TK COITHI KTHP va Thi TN'!$H:$H)) | Q21: =IF($C21="","",SUM($M21:$P21)) | R21: =IF($C21="","",SUMIF('TK CHAMTHI'!$A:$A,$C21,'TK CHAMTHI'!$C:$C)) | S21: =IF($C21="","",SUMIF('TK CHAMTHI'!$B:$B,$C21,'TK CHAMTHI'!$C:$C)) | T21: =IF(C21="","",SUMIF('CHAM NV'!B:B,C21,'CHAM NV'!C:C)) | U21: =IF($C21="","",(SUM($R21:$S21))*0.1) | V21: =IF($C21="","",SUMIF('TK CHAMTHI'!$D:$D,$C21,'TK CHAMTHI'!$F:$F)) | W21: =IF($C21="","",SUMIF('TK CHAMTHI'!$E:$E,$C21,'TK CHAMTHI'!$F:$F)) | X21: =IF(C21="","",SUMIF('CHAM NV'!G:G,C21,'CHAM NV'!H:H)) | Y21: =IF($C21="","",(SUM($V21:$W21))*0.2) | Z21: =IF($C21="","",SUMIF('TK CHAMTHI'!$G:$G,$C21,'TK CHAMTHI'!$I:$I)) | AA21: =IF($C21="","",SUMIF('TK CHAMTHI'!$H:$H,$C21,'TK CHAMTHI'!$I:$I)) | AB21: =IF(C21="","",SUMIF('CHAM NV'!E:E,C21,'CHAM NV'!F:F)) | AC21: =IF($C21="","",(SUM($Z21:$AA21))*0.2) | AD21: =IF($C21="","",SUMIF('TK CHAMTHI'!$J:$J,$C21,'TK CHAMTHI'!$L:$L)) | AE21: =IF($C21="","",SUMIF('TK CHAMTHI'!$K:$K,$C21,'TK CHAMTHI'!$L:$L)) | AF21: =IF(C21="","",SUMIF('CHAM NV'!I:I,C21,'CHAM NV'!J:J)) | AG21: =IF($C21="","",(SUM($AD21:$AE21))*0.2) | AH21: =IF($C21="","",SUMIF('TK CHAMTHI'!$M:$M,$C21,'TK CHAMTHI'!$O:$O)) | AI21: =IF($C21="","",SUMIF('TK CHAMTHI'!$N:$N,$C21,'TK CHAMTHI'!$O:$O)) | AJ21: =IF($C21="","",(SUM($AH21:$AI21))*0.2) | AK21: =IF($C21="","",SUMIF('TK CHAMTHI'!$P:$P,$C21,'TK CHAMTHI'!$R:$R)) | AL21: =IF($C21="","",SUMIF('TK CHAMTHI'!$Q:$Q,$C21,'TK CHAMTHI'!$R:$R)) | AM21: =IF($C21="","",(SUM($AK21:$AL21))*0.4) | AN21: =IF(C21="","",SUMIF('TK CHAMTHI'!S:S,C21,'TK CHAMTHI'!U:U)) | AO21: =IF(C21="","",SUMIF('TK CHAMTHI'!T:T,C21,'TK CHAMTHI'!U:U)) | AP21: =IF(C21="","",SUM(AN21:AO21)/10) | AQ21: =IF(C21="","",ROUND(SUMIF('QL THI'!G:G,C21,'QL THI'!H:H),1)) | AR21: =IF(C21="","",ROUND(SUMIF('QL THI'!E:E,C21,'QL THI'!F:F),1)) | AS21: =IF(C21="","",ROUND(L21+Q21+U21+Y21+AC21+AG21+AJ21+AM21+AP21+SUM(AQ21:AR21),1))
A22: =IF(C22="","",SUBTOTAL(3,$C$11:C22)) | D22: =IF($C22="","",SUMIF('TK DETHI'!$A:$A,$C22,'TK DETHI'!$B:$B)) | E22: =IF($C22="","",SUMIF('TK DETHI'!$C:$C,$C22,'TK DETHI'!$D:$D)) | F22: =IF($C22="","",SUMIF('TK DETHI'!$E:$E,$C22,'TK DETHI'!$F:$F)) | G22: =IF($C22="","",SUMIF('TK DETHI'!$G:$G,$C22,'TK DETHI'!$H:$H)) | H22: =IF($C22="","",SUMIF('TK DETHI'!$I:$I,$C22,'TK DETHI'!$J:$J)) | I22: =IF($C22="","",SUMIF('TK DETHI'!$K:$K,$C22,'TK DETHI'!$L:$L)) | J22: =IF($C22="","",SUMIF('TK DETHI'!$M:$M,$C22,'TK DETHI'!$N:$N)) | K22: =IF($C22="","",SUMIF('TK DETHI'!$O:$O,$C22,'TK DETHI'!$P:$P)) | L22: =IF($C22="","",($D22+$E22*1.5+$F22*0.25+$G22*0.5+$H22*2+$I22*2.5+$J22*0.5+$K22*1.5)) | M22: =IF($C22="","",SUMIF('TK COITHI KTHP va Thi TN'!$A:$A,$C22,'TK COITHI KTHP va Thi TN'!$D:$D)) | N22: =IF($C22="","",SUMIF('TK COITHI KTHP va Thi TN'!$B:$B,$C22,'TK COITHI KTHP va Thi TN'!$D:$D)) | O22: =IF($C22="","",SUMIF('TK COITHI KTHP va Thi TN'!$E:$E,$C22,'TK COITHI KTHP va Thi TN'!$H:$H)) | P22: =IF($C22="","",SUMIF('TK COITHI KTHP va Thi TN'!$F:$F,$C22,'TK COITHI KTHP va Thi TN'!$H:$H)) | Q22: =IF($C22="","",SUM($M22:$P22)) | R22: =IF($C22="","",SUMIF('TK CHAMTHI'!$A:$A,$C22,'TK CHAMTHI'!$C:$C)) | S22: =IF($C22="","",SUMIF('TK CHAMTHI'!$B:$B,$C22,'TK CHAMTHI'!$C:$C)) | T22: =IF(C22="","",SUMIF('CHAM NV'!B:B,C22,'CHAM NV'!C:C)) | U22: =IF($C22="","",(SUM($R22:$S22))*0.1) | V22: =IF($C22="","",SUMIF('TK CHAMTHI'!$D:$D,$C22,'TK CHAMTHI'!$F:$F)) | W22: =IF($C22="","",SUMIF('TK CHAMTHI'!$E:$E,$C22,'TK CHAMTHI'!$F:$F)) | X22: =IF(C22="","",SUMIF('CHAM NV'!G:G,C22,'CHAM NV'!H:H)) | Y22: =IF($C22="","",(SUM($V22:$W22))*0.2) | Z22: =IF($C22="","",SUMIF('TK CHAMTHI'!$G:$G,$C22,'TK CHAMTHI'!$I:$I)) | AA22: =IF($C22="","",SUMIF('TK CHAMTHI'!$H:$H,$C22,'TK CHAMTHI'!$I:$I)) | AB22: =IF(C22="","",SUMIF('CHAM NV'!E:E,C22,'CHAM NV'!F:F)) | AC22: =IF($C22="","",(SUM($Z22:$AA22))*0.2) | AD22: =IF($C22="","",SUMIF('TK CHAMTHI'!$J:$J,$C22,'TK CHAMTHI'!$L:$L)) | AE22: =IF($C22="","",SUMIF('TK CHAMTHI'!$K:$K,$C22,'TK CHAMTHI'!$L:$L)) | AF22: =IF(C22="","",SUMIF('CHAM NV'!I:I,C22,'CHAM NV'!J:J)) | AG22: =IF($C22="","",(SUM($AD22:$AE22))*0.2) | AH22: =IF($C22="","",SUMIF('TK CHAMTHI'!$M:$M,$C22,'TK CHAMTHI'!$O:$O)) | AI22: =IF($C22="","",SUMIF('TK CHAMTHI'!$N:$N,$C22,'TK CHAMTHI'!$O:$O)) | AJ22: =IF($C22="","",(SUM($AH22:$AI22))*0.2) | AK22: =IF($C22="","",SUMIF('TK CHAMTHI'!$P:$P,$C22,'TK CHAMTHI'!$R:$R)) | AL22: =IF($C22="","",SUMIF('TK CHAMTHI'!$Q:$Q,$C22,'TK CHAMTHI'!$R:$R)) | AM22: =IF($C22="","",(SUM($AK22:$AL22))*0.4) | AN22: =IF(C22="","",SUMIF('TK CHAMTHI'!S:S,C22,'TK CHAMTHI'!U:U)) | AO22: =IF(C22="","",SUMIF('TK CHAMTHI'!T:T,C22,'TK CHAMTHI'!U:U)) | AP22: =IF(C22="","",SUM(AN22:AO22)/10) | AQ22: =IF(C22="","",ROUND(SUMIF('QL THI'!G:G,C22,'QL THI'!H:H),1)) | AR22: =IF(C22="","",ROUND(SUMIF('QL THI'!E:E,C22,'QL THI'!F:F),1)) | AS22: =IF(C22="","",ROUND(L22+Q22+U22+Y22+AC22+AG22+AJ22+AM22+AP22+SUM(AQ22:AR22),1))
A23: =IF(C23="","",SUBTOTAL(3,$C$11:C23)) | D23: =IF($C23="","",SUMIF('TK DETHI'!$A:$A,$C23,'TK DETHI'!$B:$B)) | E23: =IF($C23="","",SUMIF('TK DETHI'!$C:$C,$C23,'TK DETHI'!$D:$D)) | F23: =IF($C23="","",SUMIF('TK DETHI'!$E:$E,$C23,'TK DETHI'!$F:$F)) | G23: =IF($C23="","",SUMIF('TK DETHI'!$G:$G,$C23,'TK DETHI'!$H:$H)) | H23: =IF($C23="","",SUMIF('TK DETHI'!$I:$I,$C23,'TK DETHI'!$J:$J)) | I23: =IF($C23="","",SUMIF('TK DETHI'!$K:$K,$C23,'TK DETHI'!$L:$L)) | J23: =IF($C23="","",SUMIF('TK DETHI'!$M:$M,$C23,'TK DETHI'!$N:$N)) | K23: =IF($C23="","",SUMIF('TK DETHI'!$O:$O,$C23,'TK DETHI'!$P:$P)) | L23: =IF($C23="","",($D23+$E23*1.5+$F23*0.25+$G23*0.5+$H23*2+$I23*2.5+$J23*0.5+$K23*1.5)) | M23: =IF($C23="","",SUMIF('TK COITHI KTHP va Thi TN'!$A:$A,$C23,'TK COITHI KTHP va Thi TN'!$D:$D)) | N23: =IF($C23="","",SUMIF('TK COITHI KTHP va Thi TN'!$B:$B,$C23,'TK COITHI KTHP va Thi TN'!$D:$D)) | O23: =IF($C23="","",SUMIF('TK COITHI KTHP va Thi TN'!$E:$E,$C23,'TK COITHI KTHP va Thi TN'!$H:$H)) | P23: =IF($C23="","",SUMIF('TK COITHI KTHP va Thi TN'!$F:$F,$C23,'TK COITHI KTHP va Thi TN'!$H:$H)) | Q23: =IF($C23="","",SUM($M23:$P23)) | R23: =IF($C23="","",SUMIF('TK CHAMTHI'!$A:$A,$C23,'TK CHAMTHI'!$C:$C)) | S23: =IF($C23="","",SUMIF('TK CHAMTHI'!$B:$B,$C23,'TK CHAMTHI'!$C:$C)) | T23: =IF(C23="","",SUMIF('CHAM NV'!B:B,C23,'CHAM NV'!C:C)) | U23: =IF($C23="","",(SUM($R23:$S23))*0.1) | V23: =IF($C23="","",SUMIF('TK CHAMTHI'!$D:$D,$C23,'TK CHAMTHI'!$F:$F)) | W23: =IF($C23="","",SUMIF('TK CHAMTHI'!$E:$E,$C23,'TK CHAMTHI'!$F:$F)) | X23: =IF(C23="","",SUMIF('CHAM NV'!G:G,C23,'CHAM NV'!H:H)) | Y23: =IF($C23="","",(SUM($V23:$W23))*0.2) | Z23: =IF($C23="","",SUMIF('TK CHAMTHI'!$G:$G,$C23,'TK CHAMTHI'!$I:$I)) | AA23: =IF($C23="","",SUMIF('TK CHAMTHI'!$H:$H,$C23,'TK CHAMTHI'!$I:$I)) | AB23: =IF(C23="","",SUMIF('CHAM NV'!E:E,C23,'CHAM NV'!F:F)) | AC23: =IF($C23="","",(SUM($Z23:$AA23))*0.2) | AD23: =IF($C23="","",SUMIF('TK CHAMTHI'!$J:$J,$C23,'TK CHAMTHI'!$L:$L)) | AE23: =IF($C23="","",SUMIF('TK CHAMTHI'!$K:$K,$C23,'TK CHAMTHI'!$L:$L)) | AF23: =IF(C23="","",SUMIF('CHAM NV'!I:I,C23,'CHAM NV'!J:J)) | AG23: =IF($C23="","",(SUM($AD23:$AE23))*0.2) | AH23: =IF($C23="","",SUMIF('TK CHAMTHI'!$M:$M,$C23,'TK CHAMTHI'!$O:$O)) | AI23: =IF($C23="","",SUMIF('TK CHAMTHI'!$N:$N,$C23,'TK CHAMTHI'!$O:$O)) | AJ23: =IF($C23="","",(SUM($AH23:$AI23))*0.2) | AK23: =IF($C23="","",SUMIF('TK CHAMTHI'!$P:$P,$C23,'TK CHAMTHI'!$R:$R)) | AL23: =IF($C23="","",SUMIF('TK CHAMTHI'!$Q:$Q,$C23,'TK CHAMTHI'!$R:$R)) | AM23: =IF($C23="","",(SUM($AK23:$AL23))*0.4) | AN23: =IF(C23="","",SUMIF('TK CHAMTHI'!S:S,C23,'TK CHAMTHI'!U:U)) | AO23: =IF(C23="","",SUMIF('TK CHAMTHI'!T:T,C23,'TK CHAMTHI'!U:U)) | AP23: =IF(C23="","",SUM(AN23:AO23)/10) | AQ23: =IF(C23="","",ROUND(SUMIF('QL THI'!G:G,C23,'QL THI'!H:H),1)) | AR23: =IF(C23="","",ROUND(SUMIF('QL THI'!E:E,C23,'QL THI'!F:F),1)) | AS23: =IF(C23="","",ROUND(L23+Q23+U23+Y23+AC23+AG23+AJ23+AM23+AP23+SUM(AQ23:AR23),1))
... A80: =IF(C80="","",SUBTOTAL(3,$C$11:C80)) | D80: =IF($C80="","",SUMIF('TK DETHI'!$A:$A,$C80,'TK DETHI'!$B:$B)) | E80: =IF($C80="","",SUMIF('TK DETHI'!$C:$C,$C80,'TK DETHI'!$D:$D)) | F80: =IF($C80="","",SUMIF('TK DETHI'!$E:$E,$C80,'TK DETHI'!$F:$F)) | G80: =IF($C80="","",SUMIF('TK DETHI'!$G:$G,$C80,'TK DETHI'!$H:$H)) | H80: =IF($C80="","",SUMIF('TK DETHI'!$I:$I,$C80,'TK DETHI'!$J:$J)) | I80: =IF($C80="","",SUMIF('TK DETHI'!$K:$K,$C80,'TK DETHI'!$L:$L)) | J80: =IF($C80="","",SUMIF('TK DETHI'!$M:$M,$C80,'TK DETHI'!$N:$N)) | K80: =IF($C80="","",SUMIF('TK DETHI'!$O:$O,$C80,'TK DETHI'!$P:$P)) | L80: =IF($C80="","",($D80+$E80*1.5+$F80*0.25+$G80*0.5+$H80*2+$I80*2.5+$J80*0.5+$K80*1.5)) | M80: =IF($C80="","",SUMIF('TK COITHI KTHP va Thi TN'!$A:$A,$C80,'TK COITHI KTHP va Thi TN'!$D:$D)) | N80: =IF($C80="","",SUMIF('TK COITHI KTHP va Thi TN'!$B:$B,$C80,'TK COITHI KTHP va Thi TN'!$D:$D)) | O80: =IF($C80="","",SUMIF('TK COITHI KTHP va Thi TN'!$E:$E,$C80,'TK COITHI KTHP va Thi TN'!$H:$H)) | P80: =IF($C80="","",SUMIF('TK COITHI KTHP va Thi TN'!$F:$F,$C80,'TK COITHI KTHP va Thi TN'!$H:$H)) | Q80: =IF($C80="","",SUM($M80:$P80)) | R80: =IF($C80="","",SUMIF('TK CHAMTHI'!$A:$A,$C80,'TK CHAMTHI'!$C:$C)) | S80: =IF($C80="","",SUMIF('TK CHAMTHI'!$B:$B,$C80,'TK CHAMTHI'!$C:$C)) | T80: =IF(C80="","",SUMIF('CHAM NV'!B:B,C80,'CHAM NV'!C:C)) | U80: =IF($C80="","",(SUM($R80:$S80))*0.1) | V80: =IF($C80="","",SUMIF('TK CHAMTHI'!$D:$D,$C80,'TK CHAMTHI'!$F:$F)) | W80: =IF($C80="","",SUMIF('TK CHAMTHI'!$E:$E,$C80,'TK CHAMTHI'!$F:$F)) | X80: =IF(C80="","",SUMIF('CHAM NV'!G:G,C80,'CHAM NV'!H:H)) | Y80: =IF($C80="","",(SUM($V80:$W80))*0.2) | Z80: =IF($C80="","",SUMIF('TK CHAMTHI'!$G:$G,$C80,'TK CHAMTHI'!$I:$I)) | AA80: =IF($C80="","",SUMIF('TK CHAMTHI'!$H:$H,$C80,'TK CHAMTHI'!$I:$I)) | AB80: =IF(C80="","",SUMIF('CHAM NV'!E:E,C80,'CHAM NV'!F:F)) | AC80: =IF($C80="","",(SUM($Z80:$AA80))*0.2) | AD80: =IF($C80="","",SUMIF('TK CHAMTHI'!$J:$J,$C80,'TK CHAMTHI'!$L:$L)) | AE80: =IF($C80="","",SUMIF('TK CHAMTHI'!$K:$K,$C80,'TK CHAMTHI'!$L:$L)) | AF80: =IF(C80="","",SUMIF('CHAM NV'!I:I,C80,'CHAM NV'!J:J)) | AG80: =IF($C80="","",(SUM($AD80:$AE80))*0.2) | AH80: =IF($C80="","",SUMIF('TK CHAMTHI'!$M:$M,$C80,'TK CHAMTHI'!$O:$O)) | AI80: =IF($C80="","",SUMIF('TK CHAMTHI'!$N:$N,$C80,'TK CHAMTHI'!$O:$O)) | AJ80: =IF($C80="","",(SUM($AH80:$AI80))*0.2) | AK80: =IF($C80="","",SUMIF('TK CHAMTHI'!$P:$P,$C80,'TK CHAMTHI'!$R:$R)) | AL80: =IF($C80="","",SUMIF('TK CHAMTHI'!$Q:$Q,$C80,'TK CHAMTHI'!$R:$R)) | AM80: =IF($C80="","",(SUM($AK80:$AL80))*0.4) | AN80: =IF(C80="","",SUMIF('TK CHAMTHI'!S:S,C80,'TK CHAMTHI'!U:U)) | AO80: =IF(C80="","",SUMIF('TK CHAMTHI'!T:T,C80,'TK CHAMTHI'!U:U)) | AP80: =IF(C80="","",SUM(AN80:AO80)/10) | AQ80: =IF(C80="","",ROUND(SUMIF('QL THI'!G:G,C80,'QL THI'!H:H),1)) | AR80: =IF(C80="","",ROUND(SUMIF('QL THI'!E:E,C80,'QL THI'!F:F),1)) | AS80: =IF(C80="","",ROUND(L80+Q80+U80+Y80+AC80+AG80+AJ80+AM80+AP80+SUM(AQ80:AR80),1))
A81: Tổng | D81: =SUM(D11:D80) -> 0 | E81: =SUM(E11:E80) -> 0 | F81: =SUM(F11:F80) -> 0 | G81: =SUM(G11:G80) -> 0 | H81: =SUM(H11:H80) -> 0 | I81: =SUM(I11:I80) -> 0 | J81: =SUM(J11:J80) -> 0 | K81: =SUM(K11:K80) -> 0 | ... S81: =SUM(S11:S80) -> 0 | U81: =SUM(U11:U80) -> 6.4 | V81: =SUM(V11:V80) -> 0 | W81: =SUM(W11:W80) -> 0 | Y81: =SUM(Y11:Y80) -> 0 | Z81: =SUM(Z11:Z80) -> 0 | AA81: =SUM(AA11:AA80) -> 0 | AC81: =SUM(AC11:AC80) -> 0 | AD81: =SUM(AD11:AD80) -> 0 | AE81: =SUM(AE11:AE80) -> 0 | AG81: =SUM(AG11:AG80) -> 0 | AH81: =SUM(AH11:AH80) -> 0 | AI81: =SUM(AI11:AI80) -> 0 | AJ81: =SUM(AJ11:AJ80) -> 0 | AK81: =SUM(AK11:AK80) -> 0 | AL81: =SUM(AL11:AL80) -> 0 | AM81: =SUM(AM11:AM80) -> 0 | AN81: =SUM(AN11:AN80) -> 0 | ... AS81: =SUM(AS11:AS80) -> 12.6
A83: HIỆU TRƯỞNG TRƯỞNG PHÒNG KT&ĐBCL TRƯỞNG KHOA NGƯỜI LẬP BẢNG

Sheet ĐÃ NGHỈ
A1: UBND THÀNH PHỐ HỒ CHÍ MINH | R1: CỘNG HOÀ XÃ HỘI CHỦ NGHĨA VIỆT NAM
A2: TRƯỜNG CAO ĐẲNG LÝ TỰ TRỌNG | R2: Độc lập - Tự do - Hạnh phúc
A3: THÀNH PHỐ HỒ CHÍ MINH | R3: ¯¯¯¯¯¯¯¯¯¯¯¯¯¯¯¯¯¯¯¯¯
A4: ¯¯¯¯¯¯¯¯¯¯¯¯¯¯¯¯¯¯¯¯¯¯¯¯ | U4: Thành phố Hồ Chí Minh, ngày tháng năm 201
A5: BẢNG TÍNH KHỐI LƯỢNG TỔ CHỨC THI HỌC KỲ I NĂM HỌC 2016 - 2017
A6: ĐƠN VỊ: ĐÃ NGHỈ HƯU, NGHỈ VIỆC
A8: STT | B8: Mã nhân sự | C8: HỌ VÀ TÊN GIẢNG VIÊN | D8: ĐỀ THI | I8: COI THI | N8: CHẤM THI KTHP | V8: CHẤM THI TỐT NGHIỆP | AE8: DỰ PHÒNG KỲ THI | AF8: GIÁM SÁT | AG8: TỔNG KHỐI LƯỢNG
N9: LÝ THUYẾT | R9: TIỂU LUẬN | V9: LÝ THUYẾT | Y9: T.HÀNH CHUNG | AB9: T.HÀNH RIÊNG
D10: SL ĐỀ LT KTHP | E10: SL ĐỀ TN KTHP | F10: SL ĐỀ LT TN | G10: SL ĐỀ TH TN | H10: KL SOẠN ĐỀ (tiết) | I10: KTHPLT COITHI 1 | J10: KTHPLT COITHI 2 | K10: ThiTN COITHI 1 | L10: ThiTN COITHI 2 | M10: KL COITHI (tiết) | N10: SL BÀI LT CHẤM 1 | O10: SL BÀI LT CHẤM 2 | P10: SL CHẤM LT NGHĨA VỤ | Q10: KL CHẤM LT (tiết) | R10: SL BÀI TL CHẤM 1 | S10: SL BÀI TL CHẤM 2 | T10: SL CHẤM TL NGHĨA VỤ | U10: KL CHẤM TL (tiết) | V10: SL BÀI LT CHẤM 1 | W10: SL BÀI LT CHẤM 2 | X10: KL CHẤM LT (tiết) | Y10: SL BÀI TL CHẤM 1 | Z10: SL BÀI TL CHẤM 2 | AA10: KL CHẤM TL (tiết) | AB10: SL BÀI TL CHẤM 1 | AC10: SL BÀI TL CHẤM 2 | AD10: KL CHẤM TL (tiết)
A11: =IF(C11="","",SUBTOTAL(3,$C$11:C11)) -> 1 | B11: 01014011 | C11: Nguyễn Trọng Trí | D11: =IF(C11="","",SUMIF('TK DETHI'!A:A,C11,'TK DETHI'!B:B)) -> 0 | E11: =IF(C11="","",SUMIF('TK DETHI'!C:C,C11,'TK DETHI'!D:D)) -> 0 | F11: =IF(C11="","",SUMIF('TK DETHI'!I:I,C11,'TK DETHI'!J:J)) -> 0 | G11: =IF(C11="","",SUMIF('TK DETHI'!O:O,C11,'TK DETHI'!P:P)) -> 0 | H11: =IF(C11="","",(D11+E11*2+F11*3+G11*2)) -> 0 | I11: =IF(C11="","",SUMIF('TK COITHI KTHP va Thi TN'!A:A,C11,'TK COITHI KTHP va Thi TN'!D:D)+SUMIF('TK COITHI KTHP va Thi TN'!#REF!,C11,'TK COITHI KTHP va Thi TN'!#REF!)+SUMIF('TK COITHI KTHP va Thi TN'!#REF!,C11,'TK COITHI KTHP va Thi TN'!#REF!)+SUMIF('TK COITHI KTHP va Thi TN'!#REF!,C11,'TK COITHI KTHP va Thi TN'!#REF!)) -> #REF! | J11: =IF(C11="","",SUMIF('TK COITHI KTHP va Thi TN'!B:B,C11,'TK COITHI KTHP va Thi TN'!D:D)+SUMIF('TK COITHI KTHP va Thi TN'!#REF!,C11,'TK COITHI KTHP va Thi TN'!#REF!)+SUMIF('TK COITHI KTHP va Thi TN'!#REF!,C11,'TK COITHI KTHP va Thi TN'!#REF!)+SUMIF('TK COITHI KTHP va Thi TN'!#REF!,C11,'TK COITHI KTHP va Thi TN'!#REF!)) -> #REF! | K11: =IF(C11="","",SUMIF(#REF!,C11,#REF!)+SUMIF(#REF!,C11,#REF!)+SUMIF(#REF!,C11,#REF!)+SUMIF(#REF!,C11,#REF!)) -> #REF! | L11: =IF(C11="","",SUMIF(#REF!,C11,#REF!)+SUMIF(#REF!,C11,#REF!)+SUMIF(#REF!,C11,#REF!)+SUMIF(#REF!,C11,#REF!)) -> #REF! | M11: =IF(C11="","",SUM(I11:L11)) -> #REF! | N11: =IF(C11="","",SUMIF('TK CHAMTHI'!A:A,C11,'TK CHAMTHI'!C:C)) -> 0 | O11: =IF(C11="","",SUMIF('TK CHAMTHI'!B:B,C11,'TK CHAMTHI'!C:C)) -> 0 | P11: =IF(C11="","",SUMIF('CHAM NV'!B:B,C11,'CHAM NV'!C:C)) -> 0 | Q11: =IF(C11="","",(SUM(N11:O11)-P11)/20) -> 0 | R11: =IF(C11="","",SUMIF('TK CHAMTHI'!J:J,C11,'TK CHAMTHI'!L:L)) -> 0 | S11: =IF(C11="","",SUMIF('TK CHAMTHI'!K:K,C11,'TK CHAMTHI'!L:L)) -> 0 | T11: =IF(C11="","",SUMIF('CHAM NV'!E:E,C11,'CHAM NV'!F:F)) -> 0 | U11: =IF(C11="","",(SUM(R11:S11)-T11)/10) -> 0 | V11: =IF(C11="","",SUMIF('TK CHAMTHI'!M:M,C11,'TK CHAMTHI'!O:O)) -> 0 | W11: =IF(C11="","",SUMIF('TK CHAMTHI'!N:N,C11,'TK CHAMTHI'!O:O)) -> 0 | X11: =IF(C11="","",SUM(V11:W11)/14) -> 0 | Y11: =IF(C11="","",SUMIF('TK CHAMTHI'!S:S,C11,'TK CHAMTHI'!U:U)) -> 0 | Z11: =IF(C11="","",SUMIF('TK CHAMTHI'!T:T,C11,'TK CHAMTHI'!U:U)) -> 0 | AA11: =IF(C11="","",SUM(Y11:Z11)/10) -> 0 | AB11: =IF(C11="","",SUMIF('TK CHAMTHI'!#REF!,C11,'TK CHAMTHI'!#REF!)) -> #REF! | AC11: =IF(C11="","",SUMIF('TK CHAMTHI'!#REF!,C11,'TK CHAMTHI'!#REF!)) -> #REF! | AD11: =IF(C11="","",SUM(AB11:AC11)/20) -> #REF! | AE11: =IF(C11="","",ROUND(SUMIF('QL THI'!G:G,C11,'QL THI'!H:H),1)) -> 0 | AF11: =IF(C11="","",ROUND(SUMIF('QL THI'!E:E,C11,'QL THI'!F:F),1)) -> 0 | AG11: =IF(C11="","",ROUND(H11+M11+Q11+U11+X11+AA11+AD11+SUM(AE11:AF11),1)) -> #REF!
A12: =IF(D12="","",SUBTOTAL(3,$D$11:D12)) -> 2 | B12: 01012024 | C12: Nguyễn Chí Ngãi | D12: =IF(C12="","",SUMIF('TK DETHI'!A:A,C12,'TK DETHI'!B:B)) -> 0 | E12: =IF(C12="","",SUMIF('TK DETHI'!C:C,C12,'TK DETHI'!D:D)) -> 0 | F12: =IF(C12="","",SUMIF('TK DETHI'!I:I,C12,'TK DETHI'!J:J)) -> 0 | G12: =IF(C12="","",SUMIF('TK DETHI'!O:O,C12,'TK DETHI'!P:P)) -> 0 | H12: =IF(C12="","",(D12+E12*2+F12*3+G12*2)) -> 0 | I12: =IF(C12="","",SUMIF('TK COITHI KTHP va Thi TN'!A:A,C12,'TK COITHI KTHP va Thi TN'!D:D)+SUMIF('TK COITHI KTHP va Thi TN'!#REF!,C12,'TK COITHI KTHP va Thi TN'!#REF!)+SUMIF('TK COITHI KTHP va Thi TN'!#REF!,C12,'TK COITHI KTHP va Thi TN'!#REF!)+SUMIF('TK COITHI KTHP va Thi TN'!#REF!,C12,'TK COITHI KTHP va Thi TN'!#REF!)) -> #REF! | J12: =IF(C12="","",SUMIF('TK COITHI KTHP va Thi TN'!B:B,C12,'TK COITHI KTHP va Thi TN'!D:D)+SUMIF('TK COITHI KTHP va Thi TN'!#REF!,C12,'TK COITHI KTHP va Thi TN'!#REF!)+SUMIF('TK COITHI KTHP va Thi TN'!#REF!,C12,'TK COITHI KTHP va Thi TN'!#REF!)+SUMIF('TK COITHI KTHP va Thi TN'!#REF!,C12,'TK COITHI KTHP va Thi TN'!#REF!)) -> #REF! | K12: =IF(C12="","",SUMIF(#REF!,C12,#REF!)+SUMIF(#REF!,C12,#REF!)+SUMIF(#REF!,C12,#REF!)+SUMIF(#REF!,C12,#REF!)) -> #REF! | L12: =IF(C12="","",SUMIF(#REF!,C12,#REF!)+SUMIF(#REF!,C12,#REF!)+SUMIF(#REF!,C12,#REF!)+SUMIF(#REF!,C12,#REF!)) -> #REF! | M12: =IF(C12="","",SUM(I12:L12)) -> #REF! | N12: =IF(C12="","",SUMIF('TK CHAMTHI'!A:A,C12,'TK CHAMTHI'!C:C)) -> 0 | O12: =IF(C12="","",SUMIF('TK CHAMTHI'!B:B,C12,'TK CHAMTHI'!C:C)) -> 0 | P12: =IF(C12="","",SUMIF('CHAM NV'!B:B,C12,'CHAM NV'!C:C)) -> 114 | Q12: =IF(C12="","",(SUM(N12:O12)-P12)/20) -> -5.7 | R12: =IF(C12="","",SUMIF('TK CHAMTHI'!J:J,C12,'TK CHAMTHI'!L:L)) -> 0 | S12: =IF(C12="","",SUMIF('TK CHAMTHI'!K:K,C12,'TK CHAMTHI'!L:L)) -> 0 | T12: =IF(C12="","",SUMIF('CHAM NV'!E:E,C12,'CHAM NV'!F:F)) -> 0 | U12: =IF(C12="","",(SUM(R12:S12)-T12)/10) -> 0 | V12: =IF(C12="","",SUMIF('TK CHAMTHI'!M:M,C12,'TK CHAMTHI'!O:O)) -> 0 | W12: =IF(C12="","",SUMIF('TK CHAMTHI'!N:N,C12,'TK CHAMTHI'!O:O)) -> 0 | X12: =IF(C12="","",SUM(V12:W12)/14) -> 0 | Y12: =IF(C12="","",SUMIF('TK CHAMTHI'!S:S,C12,'TK CHAMTHI'!U:U)) -> 0 | Z12: =IF(C12="","",SUMIF('TK CHAMTHI'!T:T,C12,'TK CHAMTHI'!U:U)) -> 0 | AA12: =IF(C12="","",SUM(Y12:Z12)/10) -> 0 | AB12: =IF(C12="","",SUMIF('TK CHAMTHI'!#REF!,C12,'TK CHAMTHI'!#REF!)) -> #REF! | AC12: =IF(C12="","",SUMIF('TK CHAMTHI'!#REF!,C12,'TK CHAMTHI'!#REF!)) -> #REF! | AD12: =IF(C12="","",SUM(AB12:AC12)/20) -> #REF! | AE12: =IF(C12="","",ROUND(SUMIF('QL THI'!G:G,C12,'QL THI'!H:H),1)) -> 0 | AF12: =IF(C12="","",ROUND(SUMIF('QL THI'!E:E,C12,'QL THI'!F:F),1)) -> 0 | AG12: =IF(C12="","",ROUND(H12+M12+Q12+U12+X12+AA12+AD12+SUM(AE12:AF12),1)) -> #REF!
A13: =IF(D13="","",SUBTOTAL(3,$D$11:D13)) -> 3 | B13: 01012009 | C13: Võ Thúy Phương | D13: =IF(C13="","",SUMIF('TK DETHI'!A:A,C13,'TK DETHI'!B:B)) -> 0 | E13: =IF(C13="","",SUMIF('TK DETHI'!C:C,C13,'TK DETHI'!D:D)) -> 0 | F13: =IF(C13="","",SUMIF('TK DETHI'!I:I,C13,'TK DETHI'!J:J)) -> 0 | G13: =IF(C13="","",SUMIF('TK DETHI'!O:O,C13,'TK DETHI'!P:P)) -> 0 | H13: =IF(C13="","",(D13+E13*2+F13*3+G13*2)) -> 0 | I13: =IF(C13="","",SUMIF('TK COITHI KTHP va Thi TN'!A:A,C13,'TK COITHI KTHP va Thi TN'!D:D)+SUMIF('TK COITHI KTHP va Thi TN'!#REF!,C13,'TK COITHI KTHP va Thi TN'!#REF!)+SUMIF('TK COITHI KTHP va Thi TN'!#REF!,C13,'TK COITHI KTHP va Thi TN'!#REF!)+SUMIF('TK COITHI KTHP va Thi TN'!#REF!,C13,'TK COITHI KTHP va Thi TN'!#REF!)) -> #REF! | J13: =IF(C13="","",SUMIF('TK COITHI KTHP va Thi TN'!B:B,C13,'TK COITHI KTHP va Thi TN'!D:D)+SUMIF('TK COITHI KTHP va Thi TN'!#REF!,C13,'TK COITHI KTHP va Thi TN'!#REF!)+SUMIF('TK COITHI KTHP va Thi TN'!#REF!,C13,'TK COITHI KTHP va Thi TN'!#REF!)+SUMIF('TK COITHI KTHP va Thi TN'!#REF!,C13,'TK COITHI KTHP va Thi TN'!#REF!)) -> #REF! | K13: =IF(C13="","",SUMIF(#REF!,C13,#REF!)+SUMIF(#REF!,C13,#REF!)+SUMIF(#REF!,C13,#REF!)+SUMIF(#REF!,C13,#REF!)) -> #REF! | L13: =IF(C13="","",SUMIF(#REF!,C13,#REF!)+SUMIF(#REF!,C13,#REF!)+SUMIF(#REF!,C13,#REF!)+SUMIF(#REF!,C13,#REF!)) -> #REF! | M13: =IF(C13="","",SUM(I13:L13)) -> #REF! | N13: =IF(C13="","",SUMIF('TK CHAMTHI'!A:A,C13,'TK CHAMTHI'!C:C)) -> 0 | O13: =IF(C13="","",SUMIF('TK CHAMTHI'!B:B,C13,'TK CHAMTHI'!C:C)) -> 0 | P13: =IF(C13="","",SUMIF('CHAM NV'!B:B,C13,'CHAM NV'!C:C)) -> 0 | Q13: =IF(C13="","",(SUM(N13:O13)-P13)/20) -> 0 | R13: =IF(C13="","",SUMIF('TK CHAMTHI'!J:J,C13,'TK CHAMTHI'!L:L)) -> 0 | S13: =IF(C13="","",SUMIF('TK CHAMTHI'!K:K,C13,'TK CHAMTHI'!L:L)) -> 0 | T13: =IF(C13="","",SUMIF('CHAM NV'!E:E,C13,'CHAM NV'!F:F)) -> 0 | U13: =IF(C13="","",(SUM(R13:S13)-T13)/10) -> 0 | V13: =IF(C13="","",SUMIF('TK CHAMTHI'!M:M,C13,'TK CHAMTHI'!O:O)) -> 0 | W13: =IF(C13="","",SUMIF('TK CHAMTHI'!N:N,C13,'TK CHAMTHI'!O:O)) -> 0 | X13: =IF(C13="","",SUM(V13:W13)/14) -> 0 | Y13: =IF(C13="","",SUMIF('TK CHAMTHI'!S:S,C13,'TK CHAMTHI'!U:U)) -> 0 | Z13: =IF(C13="","",SUMIF('TK CHAMTHI'!T:T,C13,'TK CHAMTHI'!U:U)) -> 0 | AA13: =IF(C13="","",SUM(Y13:Z13)/10) -> 0 | AB13: =IF(C13="","",SUMIF('TK CHAMTHI'!#REF!,C13,'TK CHAMTHI'!#REF!)) -> #REF! | AC13: =IF(C13="","",SUMIF('TK CHAMTHI'!#REF!,C13,'TK CHAMTHI'!#REF!)) -> #REF! | AD13: =IF(C13="","",SUM(AB13:AC13)/20) -> #REF! | AE13: =IF(C13="","",ROUND(SUMIF('QL THI'!G:G,C13,'QL THI'!H:H),1)) -> 0 | AF13: =IF(C13="","",ROUND(SUMIF('QL THI'!E:E,C13,'QL THI'!F:F),1)) -> 0 | AG13: =IF(C13="","",ROUND(H13+M13+Q13+U13+X13+AA13+AD13+SUM(AE13:AF13),1)) -> #REF!
A14: =IF(D14="","",SUBTOTAL(3,$D$11:D14)) -> 4 | B14: 01011004 | C14: Lương Thị Thanh Hà | D14: =IF(C14="","",SUMIF('TK DETHI'!A:A,C14,'TK DETHI'!B:B)) -> 0 | E14: =IF(C14="","",SUMIF('TK DETHI'!C:C,C14,'TK DETHI'!D:D)) -> 0 | F14: =IF(C14="","",SUMIF('TK DETHI'!I:I,C14,'TK DETHI'!J:J)) -> 0 | G14: =IF(C14="","",SUMIF('TK DETHI'!O:O,C14,'TK DETHI'!P:P)) -> 0 | H14: =IF(C14="","",(D14+E14*2+F14*3+G14*2)) -> 0 | I14: =IF(C14="","",SUMIF('TK COITHI KTHP va Thi TN'!A:A,C14,'TK COITHI KTHP va Thi TN'!D:D)+SUMIF('TK COITHI KTHP va Thi TN'!#REF!,C14,'TK COITHI KTHP va Thi TN'!#REF!)+SUMIF('TK COITHI KTHP va Thi TN'!#REF!,C14,'TK COITHI KTHP va Thi TN'!#REF!)+SUMIF('TK COITHI KTHP va Thi TN'!#REF!,C14,'TK COITHI KTHP va Thi TN'!#REF!)) -> #REF! | J14: =IF(C14="","",SUMIF('TK COITHI KTHP va Thi TN'!B:B,C14,'TK COITHI KTHP va Thi TN'!D:D)+SUMIF('TK COITHI KTHP va Thi TN'!#REF!,C14,'TK COITHI KTHP va Thi TN'!#REF!)+SUMIF('TK COITHI KTHP va Thi TN'!#REF!,C14,'TK COITHI KTHP va Thi TN'!#REF!)+SUMIF('TK COITHI KTHP va Thi TN'!#REF!,C14,'TK COITHI KTHP va Thi TN'!#REF!)) -> #REF! | K14: =IF(C14="","",SUMIF(#REF!,C14,#REF!)+SUMIF(#REF!,C14,#REF!)+SUMIF(#REF!,C14,#REF!)+SUMIF(#REF!,C14,#REF!)) -> #REF! | L14: =IF(C14="","",SUMIF(#REF!,C14,#REF!)+SUMIF(#REF!,C14,#REF!)+SUMIF(#REF!,C14,#REF!)+SUMIF(#REF!,C14,#REF!)) -> #REF! | M14: =IF(C14="","",SUM(I14:L14)) -> #REF! | N14: =IF(C14="","",SUMIF('TK CHAMTHI'!A:A,C14,'TK CHAMTHI'!C:C)) -> 0 | O14: =IF(C14="","",SUMIF('TK CHAMTHI'!B:B,C14,'TK CHAMTHI'!C:C)) -> 0 | P14: =IF(C14="","",SUMIF('CHAM NV'!B:B,C14,'CHAM NV'!C:C)) -> 0 | Q14: =IF(C14="","",(SUM(N14:O14)-P14)/20) -> 0 | R14: =IF(C14="","",SUMIF('TK CHAMTHI'!J:J,C14,'TK CHAMTHI'!L:L)) -> 0 | S14: =IF(C14="","",SUMIF('TK CHAMTHI'!K:K,C14,'TK CHAMTHI'!L:L)) -> 0 | T14: =IF(C14="","",SUMIF('CHAM NV'!E:E,C14,'CHAM NV'!F:F)) -> 0 | U14: =IF(C14="","",(SUM(R14:S14)-T14)/10) -> 0 | V14: =IF(C14="","",SUMIF('TK CHAMTHI'!M:M,C14,'TK CHAMTHI'!O:O)) -> 0 | W14: =IF(C14="","",SUMIF('TK CHAMTHI'!N:N,C14,'TK CHAMTHI'!O:O)) -> 0 | X14: =IF(C14="","",SUM(V14:W14)/14) -> 0 | Y14: =IF(C14="","",SUMIF('TK CHAMTHI'!S:S,C14,'TK CHAMTHI'!U:U)) -> 0 | Z14: =IF(C14="","",SUMIF('TK CHAMTHI'!T:T,C14,'TK CHAMTHI'!U:U)) -> 0 | AA14: =IF(C14="","",SUM(Y14:Z14)/10) -> 0 | AB14: =IF(C14="","",SUMIF('TK CHAMTHI'!#REF!,C14,'TK CHAMTHI'!#REF!)) -> #REF! | AC14: =IF(C14="","",SUMIF('TK CHAMTHI'!#REF!,C14,'TK CHAMTHI'!#REF!)) -> #REF! | AD14: =IF(C14="","",SUM(AB14:AC14)/20) -> #REF! | AE14: =IF(C14="","",ROUND(SUMIF('QL THI'!G:G,C14,'QL THI'!H:H),1)) -> 0 | AF14: =IF(C14="","",ROUND(SUMIF('QL THI'!E:E,C14,'QL THI'!F:F),1)) -> 0 | AG14: =IF(C14="","",ROUND(H14+M14+Q14+U14+X14+AA14+AD14+SUM(AE14:AF14),1)) -> #REF!
A15: =IF(D15="","",SUBTOTAL(3,$D$11:D15)) -> 5 | B15: 01011003 | C15: Nguyễn Thị Mai | D15: =IF(C15="","",SUMIF('TK DETHI'!A:A,C15,'TK DETHI'!B:B)) -> 0 | E15: =IF(C15="","",SUMIF('TK DETHI'!C:C,C15,'TK DETHI'!D:D)) -> 0 | F15: =IF(C15="","",SUMIF('TK DETHI'!I:I,C15,'TK DETHI'!J:J)) -> 0 | G15: =IF(C15="","",SUMIF('TK DETHI'!O:O,C15,'TK DETHI'!P:P)) -> 0 | H15: =IF(C15="","",(D15+E15*2+F15*3+G15*2)) -> 0 | I15: =IF(C15="","",SUMIF('TK COITHI KTHP va Thi TN'!A:A,C15,'TK COITHI KTHP va Thi TN'!D:D)+SUMIF('TK COITHI KTHP va Thi TN'!#REF!,C15,'TK COITHI KTHP va Thi TN'!#REF!)+SUMIF('TK COITHI KTHP va Thi TN'!#REF!,C15,'TK COITHI KTHP va Thi TN'!#REF!)+SUMIF('TK COITHI KTHP va Thi TN'!#REF!,C15,'TK COITHI KTHP va Thi TN'!#REF!)) -> #REF! | J15: =IF(C15="","",SUMIF('TK COITHI KTHP va Thi TN'!B:B,C15,'TK COITHI KTHP va Thi TN'!D:D)+SUMIF('TK COITHI KTHP va Thi TN'!#REF!,C15,'TK COITHI KTHP va Thi TN'!#REF!)+SUMIF('TK COITHI KTHP va Thi TN'!#REF!,C15,'TK COITHI KTHP va Thi TN'!#REF!)+SUMIF('TK COITHI KTHP va Thi TN'!#REF!,C15,'TK COITHI KTHP va Thi TN'!#REF!)) -> #REF! | K15: =IF(C15="","",SUMIF(#REF!,C15,#REF!)+SUMIF(#REF!,C15,#REF!)+SUMIF(#REF!,C15,#REF!)+SUMIF(#REF!,C15,#REF!)) -> #REF! | L15: =IF(C15="","",SUMIF(#REF!,C15,#REF!)+SUMIF(#REF!,C15,#REF!)+SUMIF(#REF!,C15,#REF!)+SUMIF(#REF!,C15,#REF!)) -> #REF! | M15: =IF(C15="","",SUM(I15:L15)) -> #REF! | N15: =IF(C15="","",SUMIF('TK CHAMTHI'!A:A,C15,'TK CHAMTHI'!C:C)) -> 0 | O15: =IF(C15="","",SUMIF('TK CHAMTHI'!B:B,C15,'TK CHAMTHI'!C:C)) -> 0 | P15: =IF(C15="","",SUMIF('CHAM NV'!B:B,C15,'CHAM NV'!C:C)) -> 0 | Q15: =IF(C15="","",(SUM(N15:O15)-P15)/20) -> 0 | R15: =IF(C15="","",SUMIF('TK CHAMTHI'!J:J,C15,'TK CHAMTHI'!L:L)) -> 0 | S15: =IF(C15="","",SUMIF('TK CHAMTHI'!K:K,C15,'TK CHAMTHI'!L:L)) -> 0 | T15: =IF(C15="","",SUMIF('CHAM NV'!E:E,C15,'CHAM NV'!F:F)) -> 0 | U15: =IF(C15="","",(SUM(R15:S15)-T15)/10) -> 0 | V15: =IF(C15="","",SUMIF('TK CHAMTHI'!M:M,C15,'TK CHAMTHI'!O:O)) -> 0 | W15: =IF(C15="","",SUMIF('TK CHAMTHI'!N:N,C15,'TK CHAMTHI'!O:O)) -> 0 | X15: =IF(C15="","",SUM(V15:W15)/14) -> 0 | Y15: =IF(C15="","",SUMIF('TK CHAMTHI'!S:S,C15,'TK CHAMTHI'!U:U)) -> 0 | Z15: =IF(C15="","",SUMIF('TK CHAMTHI'!T:T,C15,'TK CHAMTHI'!U:U)) -> 0 | AA15: =IF(C15="","",SUM(Y15:Z15)/10) -> 0 | AB15: =IF(C15="","",SUMIF('TK CHAMTHI'!#REF!,C15,'TK CHAMTHI'!#REF!)) -> #REF! | AC15: =IF(C15="","",SUMIF('TK CHAMTHI'!#REF!,C15,'TK CHAMTHI'!#REF!)) -> #REF! | AD15: =IF(C15="","",SUM(AB15:AC15)/20) -> #REF! | AE15: =IF(C15="","",ROUND(SUMIF('QL THI'!G:G,C15,'QL THI'!H:H),1)) -> 0 | AF15: =IF(C15="","",ROUND(SUMIF('QL THI'!E:E,C15,'QL THI'!F:F),1)) -> 0 | AG15: =IF(C15="","",ROUND(H15+M15+Q15+U15+X15+AA15+AD15+SUM(AE15:AF15),1)) -> #REF!
A16: =IF(D16="","",SUBTOTAL(3,$D$11:D16)) | D16: =IF(C16="","",SUMIF('TK DETHI'!A:A,C16,'TK DETHI'!B:B)) | E16: =IF(C16="","",SUMIF('TK DETHI'!C:C,C16,'TK DETHI'!D:D)) | F16: =IF(C16="","",SUMIF('TK DETHI'!I:I,C16,'TK DETHI'!J:J)) | G16: =IF(C16="","",SUMIF('TK DETHI'!O:O,C16,'TK DETHI'!P:P)) | H16: =IF(C16="","",(D16+E16*2+F16*3+G16*2)) | I16: =IF(C16="","",SUMIF('TK COITHI KTHP va Thi TN'!A:A,C16,'TK COITHI KTHP va Thi TN'!D:D)+SUMIF('TK COITHI KTHP va Thi TN'!#REF!,C16,'TK COITHI KTHP va Thi TN'!#REF!)+SUMIF('TK COITHI KTHP va Thi TN'!#REF!,C16,'TK COITHI KTHP va Thi TN'!#REF!)+SUMIF('TK COITHI KTHP va Thi TN'!#REF!,C16,'TK COITHI KTHP va Thi TN'!#REF!)) | J16: =IF(C16="","",SUMIF('TK COITHI KTHP va Thi TN'!B:B,C16,'TK COITHI KTHP va Thi TN'!D:D)+SUMIF('TK COITHI KTHP va Thi TN'!#REF!,C16,'TK COITHI KTHP va Thi TN'!#REF!)+SUMIF('TK COITHI KTHP va Thi TN'!#REF!,C16,'TK COITHI KTHP va Thi TN'!#REF!)+SUMIF('TK COITHI KTHP va Thi TN'!#REF!,C16,'TK COITHI KTHP va Thi TN'!#REF!)) | K16: =IF(C16="","",SUMIF(#REF!,C16,#REF!)+SUMIF(#REF!,C16,#REF!)+SUMIF(#REF!,C16,#REF!)+SUMIF(#REF!,C16,#REF!)) | L16: =IF(C16="","",SUMIF(#REF!,C16,#REF!)+SUMIF(#REF!,C16,#REF!)+SUMIF(#REF!,C16,#REF!)+SUMIF(#REF!,C16,#REF!)) | M16: =IF(C16="","",SUM(I16:L16)) | N16: =IF(C16="","",SUMIF('TK CHAMTHI'!A:A,C16,'TK CHAMTHI'!C:C)) | O16: =IF(C16="","",SUMIF('TK CHAMTHI'!B:B,C16,'TK CHAMTHI'!C:C)) | P16: =IF(C16="","",SUMIF('CHAM NV'!B:B,C16,'CHAM NV'!C:C)) | Q16: =IF(C16="","",(SUM(N16:O16)-P16)/20) | R16: =IF(C16="","",SUMIF('TK CHAMTHI'!J:J,C16,'TK CHAMTHI'!L:L)) | S16: =IF(C16="","",SUMIF('TK CHAMTHI'!K:K,C16,'TK CHAMTHI'!L:L)) | T16: =IF(C16="","",SUMIF('CHAM NV'!E:E,C16,'CHAM NV'!F:F)) | U16: =IF(C16="","",(SUM(R16:S16)-T16)/10) | V16: =IF(C16="","",SUMIF('TK CHAMTHI'!M:M,C16,'TK CHAMTHI'!O:O)) | W16: =IF(C16="","",SUMIF('TK CHAMTHI'!N:N,C16,'TK CHAMTHI'!O:O)) | X16: =IF(C16="","",SUM(V16:W16)/14) | Y16: =IF(C16="","",SUMIF('TK CHAMTHI'!S:S,C16,'TK CHAMTHI'!U:U)) | Z16: =IF(C16="","",SUMIF('TK CHAMTHI'!T:T,C16,'TK CHAMTHI'!U:U)) | AA16: =IF(C16="","",SUM(Y16:Z16)/10) | AB16: =IF(C16="","",SUMIF('TK CHAMTHI'!#REF!,C16,'TK CHAMTHI'!#REF!)) | AC16: =IF(C16="","",SUMIF('TK CHAMTHI'!#REF!,C16,'TK CHAMTHI'!#REF!)) | AD16: =IF(C16="","",SUM(AB16:AC16)/20) | AE16: =IF(C16="","",ROUND(SUMIF('QL THI'!G:G,C16,'QL THI'!H:H),1)) | AF16: =IF(C16="","",ROUND(SUMIF('QL THI'!E:E,C16,'QL THI'!F:F),1)) | AG16: =IF(C16="","",ROUND(H16+M16+Q16+U16+X16+AA16+AD16+SUM(AE16:AF16),1))
A17: =IF(D17="","",SUBTOTAL(3,$D$11:D17)) | D17: =IF(C17="","",SUMIF('TK DETHI'!A:A,C17,'TK DETHI'!B:B)) | E17: =IF(C17="","",SUMIF('TK DETHI'!C:C,C17,'TK DETHI'!D:D)) | F17: =IF(C17="","",SUMIF('TK DETHI'!I:I,C17,'TK DETHI'!J:J)) | G17: =IF(C17="","",SUMIF('TK DETHI'!O:O,C17,'TK DETHI'!P:P)) | H17: =IF(C17="","",(D17+E17*2+F17*3+G17*2)) | I17: =IF(C17="","",SUMIF('TK COITHI KTHP va Thi TN'!A:A,C17,'TK COITHI KTHP va Thi TN'!D:D)+SUMIF('TK COITHI KTHP va Thi TN'!#REF!,C17,'TK COITHI KTHP va Thi TN'!#REF!)+SUMIF('TK COITHI KTHP va Thi TN'!#REF!,C17,'TK COITHI KTHP va Thi TN'!#REF!)+SUMIF('TK COITHI KTHP va Thi TN'!#REF!,C17,'TK COITHI KTHP va Thi TN'!#REF!)) | J17: =IF(C17="","",SUMIF('TK COITHI KTHP va Thi TN'!B:B,C17,'TK COITHI KTHP va Thi TN'!D:D)+SUMIF('TK COITHI KTHP va Thi TN'!#REF!,C17,'TK COITHI KTHP va Thi TN'!#REF!)+SUMIF('TK COITHI KTHP va Thi TN'!#REF!,C17,'TK COITHI KTHP va Thi TN'!#REF!)+SUMIF('TK COITHI KTHP va Thi TN'!#REF!,C17,'TK COITHI KTHP va Thi TN'!#REF!)) | K17: =IF(C17="","",SUMIF(#REF!,C17,#REF!)+SUMIF(#REF!,C17,#REF!)+SUMIF(#REF!,C17,#REF!)+SUMIF(#REF!,C17,#REF!)) | L17: =IF(C17="","",SUMIF(#REF!,C17,#REF!)+SUMIF(#REF!,C17,#REF!)+SUMIF(#REF!,C17,#REF!)+SUMIF(#REF!,C17,#REF!)) | M17: =IF(C17="","",SUM(I17:L17)) | N17: =IF(C17="","",SUMIF('TK CHAMTHI'!A:A,C17,'TK CHAMTHI'!C:C)) | O17: =IF(C17="","",SUMIF('TK CHAMTHI'!B:B,C17,'TK CHAMTHI'!C:C)) | P17: =IF(C17="","",SUMIF('CHAM NV'!B:B,C17,'CHAM NV'!C:C)) | Q17: =IF(C17="","",(SUM(N17:O17)-P17)/20) | R17: =IF(C17="","",SUMIF('TK CHAMTHI'!J:J,C17,'TK CHAMTHI'!L:L)) | S17: =IF(C17="","",SUMIF('TK CHAMTHI'!K:K,C17,'TK CHAMTHI'!L:L)) | T17: =IF(C17="","",SUMIF('CHAM NV'!E:E,C17,'CHAM NV'!F:F)) | U17: =IF(C17="","",(SUM(R17:S17)-T17)/10) | V17: =IF(C17="","",SUMIF('TK CHAMTHI'!M:M,C17,'TK CHAMTHI'!O:O)) | W17: =IF(C17="","",SUMIF('TK CHAMTHI'!N:N,C17,'TK CHAMTHI'!O:O)) | X17: =IF(C17="","",SUM(V17:W17)/14) | Y17: =IF(C17="","",SUMIF('TK CHAMTHI'!S:S,C17,'TK CHAMTHI'!U:U)) | Z17: =IF(C17="","",SUMIF('TK CHAMTHI'!T:T,C17,'TK CHAMTHI'!U:U)) | AA17: =IF(C17="","",SUM(Y17:Z17)/10) | AB17: =IF(C17="","",SUMIF('TK CHAMTHI'!#REF!,C17,'TK CHAMTHI'!#REF!)) | AC17: =IF(C17="","",SUMIF('TK CHAMTHI'!#REF!,C17,'TK CHAMTHI'!#REF!)) | AD17: =IF(C17="","",SUM(AB17:AC17)/20) | AE17: =IF(C17="","",ROUND(SUMIF('QL THI'!G:G,C17,'QL THI'!H:H),1)) | AF17: =IF(C17="","",ROUND(SUMIF('QL THI'!E:E,C17,'QL THI'!F:F),1)) | AG17: =IF(C17="","",ROUND(H17+M17+Q17+U17+X17+AA17+AD17+SUM(AE17:AF17),1))
A18: =IF(D18="","",SUBTOTAL(3,$D$11:D18)) | D18: =IF(C18="","",SUMIF('TK DETHI'!A:A,C18,'TK DETHI'!B:B)) | E18: =IF(C18="","",SUMIF('TK DETHI'!C:C,C18,'TK DETHI'!D:D)) | F18: =IF(C18="","",SUMIF('TK DETHI'!I:I,C18,'TK DETHI'!J:J)) | G18: =IF(C18="","",SUMIF('TK DETHI'!O:O,C18,'TK DETHI'!P:P)) | H18: =IF(C18="","",(D18+E18*2+F18*3+G18*2)) | I18: =IF(C18="","",SUMIF('TK COITHI KTHP va Thi TN'!A:A,C18,'TK COITHI KTHP va Thi TN'!D:D)+SUMIF('TK COITHI KTHP va Thi TN'!#REF!,C18,'TK COITHI KTHP va Thi TN'!#REF!)+SUMIF('TK COITHI KTHP va Thi TN'!#REF!,C18,'TK COITHI KTHP va Thi TN'!#REF!)+SUMIF('TK COITHI KTHP va Thi TN'!#REF!,C18,'TK COITHI KTHP va Thi TN'!#REF!)) | J18: =IF(C18="","",SUMIF('TK COITHI KTHP va Thi TN'!B:B,C18,'TK COITHI KTHP va Thi TN'!D:D)+SUMIF('TK COITHI KTHP va Thi TN'!#REF!,C18,'TK COITHI KTHP va Thi TN'!#REF!)+SUMIF('TK COITHI KTHP va Thi TN'!#REF!,C18,'TK COITHI KTHP va Thi TN'!#REF!)+SUMIF('TK COITHI KTHP va Thi TN'!#REF!,C18,'TK COITHI KTHP va Thi TN'!#REF!)) | K18: =IF(C18="","",SUMIF(#REF!,C18,#REF!)+SUMIF(#REF!,C18,#REF!)+SUMIF(#REF!,C18,#REF!)+SUMIF(#REF!,C18,#REF!)) | L18: =IF(C18="","",SUMIF(#REF!,C18,#REF!)+SUMIF(#REF!,C18,#REF!)+SUMIF(#REF!,C18,#REF!)+SUMIF(#REF!,C18,#REF!)) | M18: =IF(C18="","",SUM(I18:L18)) | N18: =IF(C18="","",SUMIF('TK CHAMTHI'!A:A,C18,'TK CHAMTHI'!C:C)) | O18: =IF(C18="","",SUMIF('TK CHAMTHI'!B:B,C18,'TK CHAMTHI'!C:C)) | P18: =IF(C18="","",SUMIF('CHAM NV'!B:B,C18,'CHAM NV'!C:C)) | Q18: =IF(C18="","",(SUM(N18:O18)-P18)/20) | R18: =IF(C18="","",SUMIF('TK CHAMTHI'!J:J,C18,'TK CHAMTHI'!L:L)) | S18: =IF(C18="","",SUMIF('TK CHAMTHI'!K:K,C18,'TK CHAMTHI'!L:L)) | T18: =IF(C18="","",SUMIF('CHAM NV'!E:E,C18,'CHAM NV'!F:F)) | U18: =IF(C18="","",(SUM(R18:S18)-T18)/10) | V18: =IF(C18="","",SUMIF('TK CHAMTHI'!M:M,C18,'TK CHAMTHI'!O:O)) | W18: =IF(C18="","",SUMIF('TK CHAMTHI'!N:N,C18,'TK CHAMTHI'!O:O)) | X18: =IF(C18="","",SUM(V18:W18)/14) | Y18: =IF(C18="","",SUMIF('TK CHAMTHI'!S:S,C18,'TK CHAMTHI'!U:U)) | Z18: =IF(C18="","",SUMIF('TK CHAMTHI'!T:T,C18,'TK CHAMTHI'!U:U)) | AA18: =IF(C18="","",SUM(Y18:Z18)/10) | AB18: =IF(C18="","",SUMIF('TK CHAMTHI'!#REF!,C18,'TK CHAMTHI'!#REF!)) | AC18: =IF(C18="","",SUMIF('TK CHAMTHI'!#REF!,C18,'TK CHAMTHI'!#REF!)) | AD18: =IF(C18="","",SUM(AB18:AC18)/20) | AE18: =IF(C18="","",ROUND(SUMIF('QL THI'!G:G,C18,'QL THI'!H:H),1)) | AF18: =IF(C18="","",ROUND(SUMIF('QL THI'!E:E,C18,'QL THI'!F:F),1)) | AG18: =IF(C18="","",ROUND(H18+M18+Q18+U18+X18+AA18+AD18+SUM(AE18:AF18),1))
A19: =IF(D19="","",SUBTOTAL(3,$D$11:D19)) | D19: =IF(C19="","",SUMIF('TK DETHI'!A:A,C19,'TK DETHI'!B:B)) | E19: =IF(C19="","",SUMIF('TK DETHI'!C:C,C19,'TK DETHI'!D:D)) | F19: =IF(C19="","",SUMIF('TK DETHI'!I:I,C19,'TK DETHI'!J:J)) | G19: =IF(C19="","",SUMIF('TK DETHI'!O:O,C19,'TK DETHI'!P:P)) | H19: =IF(C19="","",(D19+E19*2+F19*3+G19*2)) | I19: =IF(C19="","",SUMIF('TK COITHI KTHP va Thi TN'!A:A,C19,'TK COITHI KTHP va Thi TN'!D:D)+SUMIF('TK COITHI KTHP va Thi TN'!#REF!,C19,'TK COITHI KTHP va Thi TN'!#REF!)+SUMIF('TK COITHI KTHP va Thi TN'!#REF!,C19,'TK COITHI KTHP va Thi TN'!#REF!)+SUMIF('TK COITHI KTHP va Thi TN'!#REF!,C19,'TK COITHI KTHP va Thi TN'!#REF!)) | J19: =IF(C19="","",SUMIF('TK COITHI KTHP va Thi TN'!B:B,C19,'TK COITHI KTHP va Thi TN'!D:D)+SUMIF('TK COITHI KTHP va Thi TN'!#REF!,C19,'TK COITHI KTHP va Thi TN'!#REF!)+SUMIF('TK COITHI KTHP va Thi TN'!#REF!,C19,'TK COITHI KTHP va Thi TN'!#REF!)+SUMIF('TK COITHI KTHP va Thi TN'!#REF!,C19,'TK COITHI KTHP va Thi TN'!#REF!)) | K19: =IF(C19="","",SUMIF(#REF!,C19,#REF!)+SUMIF(#REF!,C19,#REF!)+SUMIF(#REF!,C19,#REF!)+SUMIF(#REF!,C19,#REF!)) | L19: =IF(C19="","",SUMIF(#REF!,C19,#REF!)+SUMIF(#REF!,C19,#REF!)+SUMIF(#REF!,C19,#REF!)+SUMIF(#REF!,C19,#REF!)) | M19: =IF(C19="","",SUM(I19:L19)) | N19: =IF(C19="","",SUMIF('TK CHAMTHI'!A:A,C19,'TK CHAMTHI'!C:C)) | O19: =IF(C19="","",SUMIF('TK CHAMTHI'!B:B,C19,'TK CHAMTHI'!C:C)) | P19: =IF(C19="","",SUMIF('CHAM NV'!B:B,C19,'CHAM NV'!C:C)) | Q19: =IF(C19="","",(SUM(N19:O19)-P19)/20) | R19: =IF(C19="","",SUMIF('TK CHAMTHI'!J:J,C19,'TK CHAMTHI'!L:L)) | S19: =IF(C19="","",SUMIF('TK CHAMTHI'!K:K,C19,'TK CHAMTHI'!L:L)) | T19: =IF(C19="","",SUMIF('CHAM NV'!E:E,C19,'CHAM NV'!F:F)) | U19: =IF(C19="","",(SUM(R19:S19)-T19)/10) | V19: =IF(C19="","",SUMIF('TK CHAMTHI'!M:M,C19,'TK CHAMTHI'!O:O)) | W19: =IF(C19="","",SUMIF('TK CHAMTHI'!N:N,C19,'TK CHAMTHI'!O:O)) | X19: =IF(C19="","",SUM(V19:W19)/14) | Y19: =IF(C19="","",SUMIF('TK CHAMTHI'!S:S,C19,'TK CHAMTHI'!U:U)) | Z19: =IF(C19="","",SUMIF('TK CHAMTHI'!T:T,C19,'TK CHAMTHI'!U:U)) | AA19: =IF(C19="","",SUM(Y19:Z19)/10) | AB19: =IF(C19="","",SUMIF('TK CHAMTHI'!#REF!,C19,'TK CHAMTHI'!#REF!)) | AC19: =IF(C19="","",SUMIF('TK CHAMTHI'!#REF!,C19,'TK CHAMTHI'!#REF!)) | AD19: =IF(C19="","",SUM(AB19:AC19)/20) | AE19: =IF(C19="","",ROUND(SUMIF('QL THI'!G:G,C19,'QL THI'!H:H),1)) | AF19: =IF(C19="","",ROUND(SUMIF('QL THI'!E:E,C19,'QL THI'!F:F),1)) | AG19: =IF(C19="","",ROUND(H19+M19+Q19+U19+X19+AA19+AD19+SUM(AE19:AF19),1))
A20: =IF(D20="","",SUBTOTAL(3,$D$11:D20)) | D20: =IF(C20="","",SUMIF('TK DETHI'!A:A,C20,'TK DETHI'!B:B)) | E20: =IF(C20="","",SUMIF('TK DETHI'!C:C,C20,'TK DETHI'!D:D)) | F20: =IF(C20="","",SUMIF('TK DETHI'!I:I,C20,'TK DETHI'!J:J)) | G20: =IF(C20="","",SUMIF('TK DETHI'!O:O,C20,'TK DETHI'!P:P)) | H20: =IF(C20="","",(D20+E20*2+F20*3+G20*2)) | I20: =IF(C20="","",SUMIF('TK COITHI KTHP va Thi TN'!A:A,C20,'TK COITHI KTHP va Thi TN'!D:D)+SUMIF('TK COITHI KTHP va Thi TN'!#REF!,C20,'TK COITHI KTHP va Thi TN'!#REF!)+SUMIF('TK COITHI KTHP va Thi TN'!#REF!,C20,'TK COITHI KTHP va Thi TN'!#REF!)+SUMIF('TK COITHI KTHP va Thi TN'!#REF!,C20,'TK COITHI KTHP va Thi TN'!#REF!)) | J20: =IF(C20="","",SUMIF('TK COITHI KTHP va Thi TN'!B:B,C20,'TK COITHI KTHP va Thi TN'!D:D)+SUMIF('TK COITHI KTHP va Thi TN'!#REF!,C20,'TK COITHI KTHP va Thi TN'!#REF!)+SUMIF('TK COITHI KTHP va Thi TN'!#REF!,C20,'TK COITHI KTHP va Thi TN'!#REF!)+SUMIF('TK COITHI KTHP va Thi TN'!#REF!,C20,'TK COITHI KTHP va Thi TN'!#REF!)) | K20: =IF(C20="","",SUMIF(#REF!,C20,#REF!)+SUMIF(#REF!,C20,#REF!)+SUMIF(#REF!,C20,#REF!)+SUMIF(#REF!,C20,#REF!)) | L20: =IF(C20="","",SUMIF(#REF!,C20,#REF!)+SUMIF(#REF!,C20,#REF!)+SUMIF(#REF!,C20,#REF!)+SUMIF(#REF!,C20,#REF!)) | M20: =IF(C20="","",SUM(I20:L20)) | N20: =IF(C20="","",SUMIF('TK CHAMTHI'!A:A,C20,'TK CHAMTHI'!C:C)) | O20: =IF(C20="","",SUMIF('TK CHAMTHI'!B:B,C20,'TK CHAMTHI'!C:C)) | P20: =IF(C20="","",SUMIF('CHAM NV'!B:B,C20,'CHAM NV'!C:C)) | Q20: =IF(C20="","",(SUM(N20:O20)-P20)/20) | R20: =IF(C20="","",SUMIF('TK CHAMTHI'!J:J,C20,'TK CHAMTHI'!L:L)) | S20: =IF(C20="","",SUMIF('TK CHAMTHI'!K:K,C20,'TK CHAMTHI'!L:L)) | T20: =IF(C20="","",SUMIF('CHAM NV'!E:E,C20,'CHAM NV'!F:F)) | U20: =IF(C20="","",(SUM(R20:S20)-T20)/10) | V20: =IF(C20="","",SUMIF('TK CHAMTHI'!M:M,C20,'TK CHAMTHI'!O:O)) | W20: =IF(C20="","",SUMIF('TK CHAMTHI'!N:N,C20,'TK CHAMTHI'!O:O)) | X20: =IF(C20="","",SUM(V20:W20)/14) | Y20: =IF(C20="","",SUMIF('TK CHAMTHI'!S:S,C20,'TK CHAMTHI'!U:U)) | Z20: =IF(C20="","",SUMIF('TK CHAMTHI'!T:T,C20,'TK CHAMTHI'!U:U)) | AA20: =IF(C20="","",SUM(Y20:Z20)/10) | AB20: =IF(C20="","",SUMIF('TK CHAMTHI'!#REF!,C20,'TK CHAMTHI'!#REF!)) | AC20: =IF(C20="","",SUMIF('TK CHAMTHI'!#REF!,C20,'TK CHAMTHI'!#REF!)) | AD20: =IF(C20="","",SUM(AB20:AC20)/20) | AE20: =IF(C20="","",ROUND(SUMIF('QL THI'!G:G,C20,'QL THI'!H:H),1)) | AF20: =IF(C20="","",ROUND(SUMIF('QL THI'!E:E,C20,'QL THI'!F:F),1)) | AG20: =IF(C20="","",ROUND(H20+M20+Q20+U20+X20+AA20+AD20+SUM(AE20:AF20),1))
A21: =IF(D21="","",SUBTOTAL(3,$D$11:D21)) | D21: =IF(C21="","",SUMIF('TK DETHI'!A:A,C21,'TK DETHI'!B:B)) | E21: =IF(C21="","",SUMIF('TK DETHI'!C:C,C21,'TK DETHI'!D:D)) | F21: =IF(C21="","",SUMIF('TK DETHI'!I:I,C21,'TK DETHI'!J:J)) | G21: =IF(C21="","",SUMIF('TK DETHI'!O:O,C21,'TK DETHI'!P:P)) | H21: =IF(C21="","",(D21+E21*2+F21*3+G21*2)) | I21: =IF(C21="","",SUMIF('TK COITHI KTHP va Thi TN'!A:A,C21,'TK COITHI KTHP va Thi TN'!D:D)+SUMIF('TK COITHI KTHP va Thi TN'!#REF!,C21,'TK COITHI KTHP va Thi TN'!#REF!)+SUMIF('TK COITHI KTHP va Thi TN'!#REF!,C21,'TK COITHI KTHP va Thi TN'!#REF!)+SUMIF('TK COITHI KTHP va Thi TN'!#REF!,C21,'TK COITHI KTHP va Thi TN'!#REF!)) | J21: =IF(C21="","",SUMIF('TK COITHI KTHP va Thi TN'!B:B,C21,'TK COITHI KTHP va Thi TN'!D:D)+SUMIF('TK COITHI KTHP va Thi TN'!#REF!,C21,'TK COITHI KTHP va Thi TN'!#REF!)+SUMIF('TK COITHI KTHP va Thi TN'!#REF!,C21,'TK COITHI KTHP va Thi TN'!#REF!)+SUMIF('TK COITHI KTHP va Thi TN'!#REF!,C21,'TK COITHI KTHP va Thi TN'!#REF!)) | K21: =IF(C21="","",SUMIF(#REF!,C21,#REF!)+SUMIF(#REF!,C21,#REF!)+SUMIF(#REF!,C21,#REF!)+SUMIF(#REF!,C21,#REF!)) | L21: =IF(C21="","",SUMIF(#REF!,C21,#REF!)+SUMIF(#REF!,C21,#REF!)+SUMIF(#REF!,C21,#REF!)+SUMIF(#REF!,C21,#REF!)) | M21: =IF(C21="","",SUM(I21:L21)) | N21: =IF(C21="","",SUMIF('TK CHAMTHI'!A:A,C21,'TK CHAMTHI'!C:C)) | O21: =IF(C21="","",SUMIF('TK CHAMTHI'!B:B,C21,'TK CHAMTHI'!C:C)) | P21: =IF(C21="","",SUMIF('CHAM NV'!B:B,C21,'CHAM NV'!C:C)) | Q21: =IF(C21="","",(SUM(N21:O21)-P21)/20) | R21: =IF(C21="","",SUMIF('TK CHAMTHI'!J:J,C21,'TK CHAMTHI'!L:L)) | S21: =IF(C21="","",SUMIF('TK CHAMTHI'!K:K,C21,'TK CHAMTHI'!L:L)) | T21: =IF(C21="","",SUMIF('CHAM NV'!E:E,C21,'CHAM NV'!F:F)) | U21: =IF(C21="","",(SUM(R21:S21)-T21)/10) | V21: =IF(C21="","",SUMIF('TK CHAMTHI'!M:M,C21,'TK CHAMTHI'!O:O)) | W21: =IF(C21="","",SUMIF('TK CHAMTHI'!N:N,C21,'TK CHAMTHI'!O:O)) | X21: =IF(C21="","",SUM(V21:W21)/14) | Y21: =IF(C21="","",SUMIF('TK CHAMTHI'!S:S,C21,'TK CHAMTHI'!U:U)) | Z21: =IF(C21="","",SUMIF('TK CHAMTHI'!T:T,C21,'TK CHAMTHI'!U:U)) | AA21: =IF(C21="","",SUM(Y21:Z21)/10) | AB21: =IF(C21="","",SUMIF('TK CHAMTHI'!#REF!,C21,'TK CHAMTHI'!#REF!)) | AC21: =IF(C21="","",SUMIF('TK CHAMTHI'!#REF!,C21,'TK CHAMTHI'!#REF!)) | AD21: =IF(C21="","",SUM(AB21:AC21)/20) | AE21: =IF(C21="","",ROUND(SUMIF('QL THI'!G:G,C21,'QL THI'!H:H),1)) | AF21: =IF(C21="","",ROUND(SUMIF('QL THI'!E:E,C21,'QL THI'!F:F),1)) | AG21: =IF(C21="","",ROUND(H21+M21+Q21+U21+X21+AA21+AD21+SUM(AE21:AF21),1))
A22: =IF(D22="","",SUBTOTAL(3,$D$11:D22)) | D22: =IF(C22="","",SUMIF('TK DETHI'!A:A,C22,'TK DETHI'!B:B)) | E22: =IF(C22="","",SUMIF('TK DETHI'!C:C,C22,'TK DETHI'!D:D)) | F22: =IF(C22="","",SUMIF('TK DETHI'!I:I,C22,'TK DETHI'!J:J)) | G22: =IF(C22="","",SUMIF('TK DETHI'!O:O,C22,'TK DETHI'!P:P)) | H22: =IF(C22="","",(D22+E22*2+F22*3+G22*2)) | I22: =IF(C22="","",SUMIF('TK COITHI KTHP va Thi TN'!A:A,C22,'TK COITHI KTHP va Thi TN'!D:D)+SUMIF('TK COITHI KTHP va Thi TN'!#REF!,C22,'TK COITHI KTHP va Thi TN'!#REF!)+SUMIF('TK COITHI KTHP va Thi TN'!#REF!,C22,'TK COITHI KTHP va Thi TN'!#REF!)+SUMIF('TK COITHI KTHP va Thi TN'!#REF!,C22,'TK COITHI KTHP va Thi TN'!#REF!)) | J22: =IF(C22="","",SUMIF('TK COITHI KTHP va Thi TN'!B:B,C22,'TK COITHI KTHP va Thi TN'!D:D)+SUMIF('TK COITHI KTHP va Thi TN'!#REF!,C22,'TK COITHI KTHP va Thi TN'!#REF!)+SUMIF('TK COITHI KTHP va Thi TN'!#REF!,C22,'TK COITHI KTHP va Thi TN'!#REF!)+SUMIF('TK COITHI KTHP va Thi TN'!#REF!,C22,'TK COITHI KTHP va Thi TN'!#REF!)) | K22: =IF(C22="","",SUMIF(#REF!,C22,#REF!)+SUMIF(#REF!,C22,#REF!)+SUMIF(#REF!,C22,#REF!)+SUMIF(#REF!,C22,#REF!)) | L22: =IF(C22="","",SUMIF(#REF!,C22,#REF!)+SUMIF(#REF!,C22,#REF!)+SUMIF(#REF!,C22,#REF!)+SUMIF(#REF!,C22,#REF!)) | M22: =IF(C22="","",SUM(I22:L22)) | N22: =IF(C22="","",SUMIF('TK CHAMTHI'!A:A,C22,'TK CHAMTHI'!C:C)) | O22: =IF(C22="","",SUMIF('TK CHAMTHI'!B:B,C22,'TK CHAMTHI'!C:C)) | P22: =IF(C22="","",SUMIF('CHAM NV'!B:B,C22,'CHAM NV'!C:C)) | Q22: =IF(C22="","",(SUM(N22:O22)-P22)/20) | R22: =IF(C22="","",SUMIF('TK CHAMTHI'!J:J,C22,'TK CHAMTHI'!L:L)) | S22: =IF(C22="","",SUMIF('TK CHAMTHI'!K:K,C22,'TK CHAMTHI'!L:L)) | T22: =IF(C22="","",SUMIF('CHAM NV'!E:E,C22,'CHAM NV'!F:F)) | U22: =IF(C22="","",(SUM(R22:S22)-T22)/10) | V22: =IF(C22="","",SUMIF('TK CHAMTHI'!M:M,C22,'TK CHAMTHI'!O:O)) | W22: =IF(C22="","",SUMIF('TK CHAMTHI'!N:N,C22,'TK CHAMTHI'!O:O)) | X22: =IF(C22="","",SUM(V22:W22)/14) | Y22: =IF(C22="","",SUMIF('TK CHAMTHI'!S:S,C22,'TK CHAMTHI'!U:U)) | Z22: =IF(C22="","",SUMIF('TK CHAMTHI'!T:T,C22,'TK CHAMTHI'!U:U)) | AA22: =IF(C22="","",SUM(Y22:Z22)/10) | AB22: =IF(C22="","",SUMIF('TK CHAMTHI'!#REF!,C22,'TK CHAMTHI'!#REF!)) | AC22: =IF(C22="","",SUMIF('TK CHAMTHI'!#REF!,C22,'TK CHAMTHI'!#REF!)) | AD22: =IF(C22="","",SUM(AB22:AC22)/20) | AE22: =IF(C22="","",ROUND(SUMIF('QL THI'!G:G,C22,'QL THI'!H:H),1)) | AF22: =IF(C22="","",ROUND(SUMIF('QL THI'!E:E,C22,'QL THI'!F:F),1)) | AG22: =IF(C22="","",ROUND(H22+M22+Q22+U22+X22+AA22+AD22+SUM(AE22:AF22),1))
A23: =IF(D23="","",SUBTOTAL(3,$D$11:D23)) | D23: =IF(C23="","",SUMIF('TK DETHI'!A:A,C23,'TK DETHI'!B:B)) | E23: =IF(C23="","",SUMIF('TK DETHI'!C:C,C23,'TK DETHI'!D:D)) | F23: =IF(C23="","",SUMIF('TK DETHI'!I:I,C23,'TK DETHI'!J:J)) | G23: =IF(C23="","",SUMIF('TK DETHI'!O:O,C23,'TK DETHI'!P:P)) | H23: =IF(C23="","",(D23+E23*2+F23*3+G23*2)) | I23: =IF(C23="","",SUMIF('TK COITHI KTHP va Thi TN'!A:A,C23,'TK COITHI KTHP va Thi TN'!D:D)+SUMIF('TK COITHI KTHP va Thi TN'!#REF!,C23,'TK COITHI KTHP va Thi TN'!#REF!)+SUMIF('TK COITHI KTHP va Thi TN'!#REF!,C23,'TK COITHI KTHP va Thi TN'!#REF!)+SUMIF('TK COITHI KTHP va Thi TN'!#REF!,C23,'TK COITHI KTHP va Thi TN'!#REF!)) | J23: =IF(C23="","",SUMIF('TK COITHI KTHP va Thi TN'!B:B,C23,'TK COITHI KTHP va Thi TN'!D:D)+SUMIF('TK COITHI KTHP va Thi TN'!#REF!,C23,'TK COITHI KTHP va Thi TN'!#REF!)+SUMIF('TK COITHI KTHP va Thi TN'!#REF!,C23,'TK COITHI KTHP va Thi TN'!#REF!)+SUMIF('TK COITHI KTHP va Thi TN'!#REF!,C23,'TK COITHI KTHP va Thi TN'!#REF!)) | K23: =IF(C23="","",SUMIF(#REF!,C23,#REF!)+SUMIF(#REF!,C23,#REF!)+SUMIF(#REF!,C23,#REF!)+SUMIF(#REF!,C23,#REF!)) | L23: =IF(C23="","",SUMIF(#REF!,C23,#REF!)+SUMIF(#REF!,C23,#REF!)+SUMIF(#REF!,C23,#REF!)+SUMIF(#REF!,C23,#REF!)) | M23: =IF(C23="","",SUM(I23:L23)) | N23: =IF(C23="","",SUMIF('TK CHAMTHI'!A:A,C23,'TK CHAMTHI'!C:C)) | O23: =IF(C23="","",SUMIF('TK CHAMTHI'!B:B,C23,'TK CHAMTHI'!C:C)) | P23: =IF(C23="","",SUMIF('CHAM NV'!B:B,C23,'CHAM NV'!C:C)) | Q23: =IF(C23="","",(SUM(N23:O23)-P23)/20) | R23: =IF(C23="","",SUMIF('TK CHAMTHI'!J:J,C23,'TK CHAMTHI'!L:L)) | S23: =IF(C23="","",SUMIF('TK CHAMTHI'!K:K,C23,'TK CHAMTHI'!L:L)) | T23: =IF(C23="","",SUMIF('CHAM NV'!E:E,C23,'CHAM NV'!F:F)) | U23: =IF(C23="","",(SUM(R23:S23)-T23)/10) | V23: =IF(C23="","",SUMIF('TK CHAMTHI'!M:M,C23,'TK CHAMTHI'!O:O)) | W23: =IF(C23="","",SUMIF('TK CHAMTHI'!N:N,C23,'TK CHAMTHI'!O:O)) | X23: =IF(C23="","",SUM(V23:W23)/14) | Y23: =IF(C23="","",SUMIF('TK CHAMTHI'!S:S,C23,'TK CHAMTHI'!U:U)) | Z23: =IF(C23="","",SUMIF('TK CHAMTHI'!T:T,C23,'TK CHAMTHI'!U:U)) | AA23: =IF(C23="","",SUM(Y23:Z23)/10) | AB23: =IF(C23="","",SUMIF('TK CHAMTHI'!#REF!,C23,'TK CHAMTHI'!#REF!)) | AC23: =IF(C23="","",SUMIF('TK CHAMTHI'!#REF!,C23,'TK CHAMTHI'!#REF!)) | AD23: =IF(C23="","",SUM(AB23:AC23)/20) | AE23: =IF(C23="","",ROUND(SUMIF('QL THI'!G:G,C23,'QL THI'!H:H),1)) | AF23: =IF(C23="","",ROUND(SUMIF('QL THI'!E:E,C23,'QL THI'!F:F),1)) | AG23: =IF(C23="","",ROUND(H23+M23+Q23+U23+X23+AA23+AD23+SUM(AE23:AF23),1))
A24: =IF(D24="","",SUBTOTAL(3,$D$11:D24)) | D24: =IF(C24="","",SUMIF('TK DETHI'!A:A,C24,'TK DETHI'!B:B)) | E24: =IF(C24="","",SUMIF('TK DETHI'!C:C,C24,'TK DETHI'!D:D)) | F24: =IF(C24="","",SUMIF('TK DETHI'!I:I,C24,'TK DETHI'!J:J)) | G24: =IF(C24="","",SUMIF('TK DETHI'!O:O,C24,'TK DETHI'!P:P)) | H24: =IF(C24="","",(D24+E24*2+F24*3+G24*2)) | I24: =IF(C24="","",SUMIF('TK COITHI KTHP va Thi TN'!A:A,C24,'TK COITHI KTHP va Thi TN'!D:D)+SUMIF('TK COITHI KTHP va Thi TN'!#REF!,C24,'TK COITHI KTHP va Thi TN'!#REF!)+SUMIF('TK COITHI KTHP va Thi TN'!#REF!,C24,'TK COITHI KTHP va Thi TN'!#REF!)+SUMIF('TK COITHI KTHP va Thi TN'!#REF!,C24,'TK COITHI KTHP va Thi TN'!#REF!)) | J24: =IF(C24="","",SUMIF('TK COITHI KTHP va Thi TN'!B:B,C24,'TK COITHI KTHP va Thi TN'!D:D)+SUMIF('TK COITHI KTHP va Thi TN'!#REF!,C24,'TK COITHI KTHP va Thi TN'!#REF!)+SUMIF('TK COITHI KTHP va Thi TN'!#REF!,C24,'TK COITHI KTHP va Thi TN'!#REF!)+SUMIF('TK COITHI KTHP va Thi TN'!#REF!,C24,'TK COITHI KTHP va Thi TN'!#REF!)) | K24: =IF(C24="","",SUMIF(#REF!,C24,#REF!)+SUMIF(#REF!,C24,#REF!)+SUMIF(#REF!,C24,#REF!)+SUMIF(#REF!,C24,#REF!)) | L24: =IF(C24="","",SUMIF(#REF!,C24,#REF!)+SUMIF(#REF!,C24,#REF!)+SUMIF(#REF!,C24,#REF!)+SUMIF(#REF!,C24,#REF!)) | M24: =IF(C24="","",SUM(I24:L24)) | N24: =IF(C24="","",SUMIF('TK CHAMTHI'!A:A,C24,'TK CHAMTHI'!C:C)) | O24: =IF(C24="","",SUMIF('TK CHAMTHI'!B:B,C24,'TK CHAMTHI'!C:C)) | P24: =IF(C24="","",SUMIF('CHAM NV'!B:B,C24,'CHAM NV'!C:C)) | Q24: =IF(C24="","",(SUM(N24:O24)-P24)/20) | R24: =IF(C24="","",SUMIF('TK CHAMTHI'!J:J,C24,'TK CHAMTHI'!L:L)) | S24: =IF(C24="","",SUMIF('TK CHAMTHI'!K:K,C24,'TK CHAMTHI'!L:L)) | T24: =IF(C24="","",SUMIF('CHAM NV'!E:E,C24,'CHAM NV'!F:F)) | U24: =IF(C24="","",(SUM(R24:S24)-T24)/10) | V24: =IF(C24="","",SUMIF('TK CHAMTHI'!M:M,C24,'TK CHAMTHI'!O:O)) | W24: =IF(C24="","",SUMIF('TK CHAMTHI'!N:N,C24,'TK CHAMTHI'!O:O)) | X24: =IF(C24="","",SUM(V24:W24)/14) | Y24: =IF(C24="","",SUMIF('TK CHAMTHI'!S:S,C24,'TK CHAMTHI'!U:U)) | Z24: =IF(C24="","",SUMIF('TK CHAMTHI'!T:T,C24,'TK CHAMTHI'!U:U)) | AA24: =IF(C24="","",SUM(Y24:Z24)/10) | AB24: =IF(C24="","",SUMIF('TK CHAMTHI'!#REF!,C24,'TK CHAMTHI'!#REF!)) | AC24: =IF(C24="","",SUMIF('TK CHAMTHI'!#REF!,C24,'TK CHAMTHI'!#REF!)) | AD24: =IF(C24="","",SUM(AB24:AC24)/20) | AE24: =IF(C24="","",ROUND(SUMIF('QL THI'!G:G,C24,'QL THI'!H:H),1)) | AF24: =IF(C24="","",ROUND(SUMIF('QL THI'!E:E,C24,'QL THI'!F:F),1)) | AG24: =IF(C24="","",ROUND(H24+M24+Q24+U24+X24+AA24+AD24+SUM(AE24:AF24),1))
A25: =IF(D25="","",SUBTOTAL(3,$D$11:D25)) | D25: =IF(C25="","",SUMIF('TK DETHI'!A:A,C25,'TK DETHI'!B:B)) | E25: =IF(C25="","",SUMIF('TK DETHI'!C:C,C25,'TK DETHI'!D:D)) | F25: =IF(C25="","",SUMIF('TK DETHI'!I:I,C25,'TK DETHI'!J:J)) | G25: =IF(C25="","",SUMIF('TK DETHI'!O:O,C25,'TK DETHI'!P:P)) | H25: =IF(C25="","",(D25+E25*2+F25*3+G25*2)) | I25: =IF(C25="","",SUMIF('TK COITHI KTHP va Thi TN'!A:A,C25,'TK COITHI KTHP va Thi TN'!D:D)+SUMIF('TK COITHI KTHP va Thi TN'!#REF!,C25,'TK COITHI KTHP va Thi TN'!#REF!)+SUMIF('TK COITHI KTHP va Thi TN'!#REF!,C25,'TK COITHI KTHP va Thi TN'!#REF!)+SUMIF('TK COITHI KTHP va Thi TN'!#REF!,C25,'TK COITHI KTHP va Thi TN'!#REF!)) | J25: =IF(C25="","",SUMIF('TK COITHI KTHP va Thi TN'!B:B,C25,'TK COITHI KTHP va Thi TN'!D:D)+SUMIF('TK COITHI KTHP va Thi TN'!#REF!,C25,'TK COITHI KTHP va Thi TN'!#REF!)+SUMIF('TK COITHI KTHP va Thi TN'!#REF!,C25,'TK COITHI KTHP va Thi TN'!#REF!)+SUMIF('TK COITHI KTHP va Thi TN'!#REF!,C25,'TK COITHI KTHP va Thi TN'!#REF!)) | K25: =IF(C25="","",SUMIF(#REF!,C25,#REF!)+SUMIF(#REF!,C25,#REF!)+SUMIF(#REF!,C25,#REF!)+SUMIF(#REF!,C25,#REF!)) | L25: =IF(C25="","",SUMIF(#REF!,C25,#REF!)+SUMIF(#REF!,C25,#REF!)+SUMIF(#REF!,C25,#REF!)+SUMIF(#REF!,C25,#REF!)) | M25: =IF(C25="","",SUM(I25:L25)) | N25: =IF(C25="","",SUMIF('TK CHAMTHI'!A:A,C25,'TK CHAMTHI'!C:C)) | O25: =IF(C25="","",SUMIF('TK CHAMTHI'!B:B,C25,'TK CHAMTHI'!C:C)) | P25: =IF(C25="","",SUMIF('CHAM NV'!B:B,C25,'CHAM NV'!C:C)) | Q25: =IF(C25="","",(SUM(N25:O25)-P25)/20) | R25: =IF(C25="","",SUMIF('TK CHAMTHI'!J:J,C25,'TK CHAMTHI'!L:L)) | S25: =IF(C25="","",SUMIF('TK CHAMTHI'!K:K,C25,'TK CHAMTHI'!L:L)) | T25: =IF(C25="","",SUMIF('CHAM NV'!E:E,C25,'CHAM NV'!F:F)) | U25: =IF(C25="","",(SUM(R25:S25)-T25)/10) | V25: =IF(C25="","",SUMIF('TK CHAMTHI'!M:M,C25,'TK CHAMTHI'!O:O)) | W25: =IF(C25="","",SUMIF('TK CHAMTHI'!N:N,C25,'TK CHAMTHI'!O:O)) | X25: =IF(C25="","",SUM(V25:W25)/14) | Y25: =IF(C25="","",SUMIF('TK CHAMTHI'!S:S,C25,'TK CHAMTHI'!U:U)) | Z25: =IF(C25="","",SUMIF('TK CHAMTHI'!T:T,C25,'TK CHAMTHI'!U:U)) | AA25: =IF(C25="","",SUM(Y25:Z25)/10) | AB25: =IF(C25="","",SUMIF('TK CHAMTHI'!#REF!,C25,'TK CHAMTHI'!#REF!)) | AC25: =IF(C25="","",SUMIF('TK CHAMTHI'!#REF!,C25,'TK CHAMTHI'!#REF!)) | AD25: =IF(C25="","",SUM(AB25:AC25)/20) | AE25: =IF(C25="","",ROUND(SUMIF('QL THI'!G:G,C25,'QL THI'!H:H),1)) | AF25: =IF(C25="","",ROUND(SUMIF('QL THI'!E:E,C25,'QL THI'!F:F),1)) | AG25: =IF(C25="","",ROUND(H25+M25+Q25+U25+X25+AA25+AD25+SUM(AE25:AF25),1))
A26: =IF(D26="","",SUBTOTAL(3,$D$11:D26)) | D26: =IF(C26="","",SUMIF('TK DETHI'!A:A,C26,'TK DETHI'!B:B)) | E26: =IF(C26="","",SUMIF('TK DETHI'!C:C,C26,'TK DETHI'!D:D)) | F26: =IF(C26="","",SUMIF('TK DETHI'!I:I,C26,'TK DETHI'!J:J)) | G26: =IF(C26="","",SUMIF('TK DETHI'!O:O,C26,'TK DETHI'!P:P)) | H26: =IF(C26="","",(D26+E26*2+F26*3+G26*2)) | I26: =IF(C26="","",SUMIF('TK COITHI KTHP va Thi TN'!A:A,C26,'TK COITHI KTHP va Thi TN'!D:D)+SUMIF('TK COITHI KTHP va Thi TN'!#REF!,C26,'TK COITHI KTHP va Thi TN'!#REF!)+SUMIF('TK COITHI KTHP va Thi TN'!#REF!,C26,'TK COITHI KTHP va Thi TN'!#REF!)+SUMIF('TK COITHI KTHP va Thi TN'!#REF!,C26,'TK COITHI KTHP va Thi TN'!#REF!)) | J26: =IF(C26="","",SUMIF('TK COITHI KTHP va Thi TN'!B:B,C26,'TK COITHI KTHP va Thi TN'!D:D)+SUMIF('TK COITHI KTHP va Thi TN'!#REF!,C26,'TK COITHI KTHP va Thi TN'!#REF!)+SUMIF('TK COITHI KTHP va Thi TN'!#REF!,C26,'TK COITHI KTHP va Thi TN'!#REF!)+SUMIF('TK COITHI KTHP va Thi TN'!#REF!,C26,'TK COITHI KTHP va Thi TN'!#REF!)) | K26: =IF(C26="","",SUMIF(#REF!,C26,#REF!)+SUMIF(#REF!,C26,#REF!)+SUMIF(#REF!,C26,#REF!)+SUMIF(#REF!,C26,#REF!)) | L26: =IF(C26="","",SUMIF(#REF!,C26,#REF!)+SUMIF(#REF!,C26,#REF!)+SUMIF(#REF!,C26,#REF!)+SUMIF(#REF!,C26,#REF!)) | M26: =IF(C26="","",SUM(I26:L26)) | N26: =IF(C26="","",SUMIF('TK CHAMTHI'!A:A,C26,'TK CHAMTHI'!C:C)) | O26: =IF(C26="","",SUMIF('TK CHAMTHI'!B:B,C26,'TK CHAMTHI'!C:C)) | P26: =IF(C26="","",SUMIF('CHAM NV'!B:B,C26,'CHAM NV'!C:C)) | Q26: =IF(C26="","",(SUM(N26:O26)-P26)/20) | R26: =IF(C26="","",SUMIF('TK CHAMTHI'!J:J,C26,'TK CHAMTHI'!L:L)) | S26: =IF(C26="","",SUMIF('TK CHAMTHI'!K:K,C26,'TK CHAMTHI'!L:L)) | T26: =IF(C26="","",SUMIF('CHAM NV'!E:E,C26,'CHAM NV'!F:F)) | U26: =IF(C26="","",(SUM(R26:S26)-T26)/10) | V26: =IF(C26="","",SUMIF('TK CHAMTHI'!M:M,C26,'TK CHAMTHI'!O:O)) | W26: =IF(C26="","",SUMIF('TK CHAMTHI'!N:N,C26,'TK CHAMTHI'!O:O)) | X26: =IF(C26="","",SUM(V26:W26)/14) | Y26: =IF(C26="","",SUMIF('TK CHAMTHI'!S:S,C26,'TK CHAMTHI'!U:U)) | Z26: =IF(C26="","",SUMIF('TK CHAMTHI'!T:T,C26,'TK CHAMTHI'!U:U)) | AA26: =IF(C26="","",SUM(Y26:Z26)/10) | AB26: =IF(C26="","",SUMIF('TK CHAMTHI'!#REF!,C26,'TK CHAMTHI'!#REF!)) | AC26: =IF(C26="","",SUMIF('TK CHAMTHI'!#REF!,C26,'TK CHAMTHI'!#REF!)) | AD26: =IF(C26="","",SUM(AB26:AC26)/20) | AE26: =IF(C26="","",ROUND(SUMIF('QL THI'!G:G,C26,'QL THI'!H:H),1)) | AF26: =IF(C26="","",ROUND(SUMIF('QL THI'!E:E,C26,'QL THI'!F:F),1)) | AG26: =IF(C26="","",ROUND(H26+M26+Q26+U26+X26+AA26+AD26+SUM(AE26:AF26),1))
A27: =IF(D27="","",SUBTOTAL(3,$D$11:D27)) | D27: =IF(C27="","",SUMIF('TK DETHI'!A:A,C27,'TK DETHI'!B:B)) | E27: =IF(C27="","",SUMIF('TK DETHI'!C:C,C27,'TK DETHI'!D:D)) | F27: =IF(C27="","",SUMIF('TK DETHI'!I:I,C27,'TK DETHI'!J:J)) | G27: =IF(C27="","",SUMIF('TK DETHI'!O:O,C27,'TK DETHI'!P:P)) | H27: =IF(C27="","",(D27+E27*2+F27*3+G27*2)) | I27: =IF(C27="","",SUMIF('TK COITHI KTHP va Thi TN'!A:A,C27,'TK COITHI KTHP va Thi TN'!D:D)+SUMIF('TK COITHI KTHP va Thi TN'!#REF!,C27,'TK COITHI KTHP va Thi TN'!#REF!)+SUMIF('TK COITHI KTHP va Thi TN'!#REF!,C27,'TK COITHI KTHP va Thi TN'!#REF!)+SUMIF('TK COITHI KTHP va Thi TN'!#REF!,C27,'TK COITHI KTHP va Thi TN'!#REF!)) | J27: =IF(C27="","",SUMIF('TK COITHI KTHP va Thi TN'!B:B,C27,'TK COITHI KTHP va Thi TN'!D:D)+SUMIF('TK COITHI KTHP va Thi TN'!#REF!,C27,'TK COITHI KTHP va Thi TN'!#REF!)+SUMIF('TK COITHI KTHP va Thi TN'!#REF!,C27,'TK COITHI KTHP va Thi TN'!#REF!)+SUMIF('TK COITHI KTHP va Thi TN'!#REF!,C27,'TK COITHI KTHP va Thi TN'!#REF!)) | K27: =IF(C27="","",SUMIF(#REF!,C27,#REF!)+SUMIF(#REF!,C27,#REF!)+SUMIF(#REF!,C27,#REF!)+SUMIF(#REF!,C27,#REF!)) | L27: =IF(C27="","",SUMIF(#REF!,C27,#REF!)+SUMIF(#REF!,C27,#REF!)+SUMIF(#REF!,C27,#REF!)+SUMIF(#REF!,C27,#REF!)) | M27: =IF(C27="","",SUM(I27:L27)) | N27: =IF(C27="","",SUMIF('TK CHAMTHI'!A:A,C27,'TK CHAMTHI'!C:C)) | O27: =IF(C27="","",SUMIF('TK CHAMTHI'!B:B,C27,'TK CHAMTHI'!C:C)) | P27: =IF(C27="","",SUMIF('CHAM NV'!B:B,C27,'CHAM NV'!C:C)) | Q27: =IF(C27="","",(SUM(N27:O27)-P27)/20) | R27: =IF(C27="","",SUMIF('TK CHAMTHI'!J:J,C27,'TK CHAMTHI'!L:L)) | S27: =IF(C27="","",SUMIF('TK CHAMTHI'!K:K,C27,'TK CHAMTHI'!L:L)) | T27: =IF(C27="","",SUMIF('CHAM NV'!E:E,C27,'CHAM NV'!F:F)) | U27: =IF(C27="","",(SUM(R27:S27)-T27)/10) | V27: =IF(C27="","",SUMIF('TK CHAMTHI'!M:M,C27,'TK CHAMTHI'!O:O)) | W27: =IF(C27="","",SUMIF('TK CHAMTHI'!N:N,C27,'TK CHAMTHI'!O:O)) | X27: =IF(C27="","",SUM(V27:W27)/14) | Y27: =IF(C27="","",SUMIF('TK CHAMTHI'!S:S,C27,'TK CHAMTHI'!U:U)) | Z27: =IF(C27="","",SUMIF('TK CHAMTHI'!T:T,C27,'TK CHAMTHI'!U:U)) | AA27: =IF(C27="","",SUM(Y27:Z27)/10) | AB27: =IF(C27="","",SUMIF('TK CHAMTHI'!#REF!,C27,'TK CHAMTHI'!#REF!)) | AC27: =IF(C27="","",SUMIF('TK CHAMTHI'!#REF!,C27,'TK CHAMTHI'!#REF!)) | AD27: =IF(C27="","",SUM(AB27:AC27)/20) | AE27: =IF(C27="","",ROUND(SUMIF('QL THI'!G:G,C27,'QL THI'!H:H),1)) | AF27: =IF(C27="","",ROUND(SUMIF('QL THI'!E:E,C27,'QL THI'!F:F),1)) | AG27: =IF(C27="","",ROUND(H27+M27+Q27+U27+X27+AA27+AD27+SUM(AE27:AF27),1))
... A80: =IF(D80="","",SUBTOTAL(3,$D$11:D80)) | D80: =IF(C80="","",SUMIF('TK DETHI'!A:A,C80,'TK DETHI'!B:B)) | E80: =IF(C80="","",SUMIF('TK DETHI'!C:C,C80,'TK DETHI'!D:D)) | F80: =IF(C80="","",SUMIF('TK DETHI'!I:I,C80,'TK DETHI'!J:J)) | G80: =IF(C80="","",SUMIF('TK DETHI'!O:O,C80,'TK DETHI'!P:P)) | H80: =IF(C80="","",(D80+E80*2+F80*3+G80*2)) | I80: =IF(C80="","",SUMIF('TK COITHI KTHP va Thi TN'!A:A,C80,'TK COITHI KTHP va Thi TN'!D:D)+SUMIF('TK COITHI KTHP va Thi TN'!#REF!,C80,'TK COITHI KTHP va Thi TN'!#REF!)+SUMIF('TK COITHI KTHP va Thi TN'!#REF!,C80,'TK COITHI KTHP va Thi TN'!#REF!)+SUMIF('TK COITHI KTHP va Thi TN'!#REF!,C80,'TK COITHI KTHP va Thi TN'!#REF!)) | J80: =IF(C80="","",SUMIF('TK COITHI KTHP va Thi TN'!B:B,C80,'TK COITHI KTHP va Thi TN'!D:D)+SUMIF('TK COITHI KTHP va Thi TN'!#REF!,C80,'TK COITHI KTHP va Thi TN'!#REF!)+SUMIF('TK COITHI KTHP va Thi TN'!#REF!,C80,'TK COITHI KTHP va Thi TN'!#REF!)+SUMIF('TK COITHI KTHP va Thi TN'!#REF!,C80,'TK COITHI KTHP va Thi TN'!#REF!)) | K80: =IF(C80="","",SUMIF(#REF!,C80,#REF!)+SUMIF(#REF!,C80,#REF!)+SUMIF(#REF!,C80,#REF!)+SUMIF(#REF!,C80,#REF!)) | L80: =IF(C80="","",SUMIF(#REF!,C80,#REF!)+SUMIF(#REF!,C80,#REF!)+SUMIF(#REF!,C80,#REF!)+SUMIF(#REF!,C80,#REF!)) | M80: =IF(C80="","",SUM(I80:L80)) | N80: =IF(C80="","",SUMIF('TK CHAMTHI'!A:A,C80,'TK CHAMTHI'!C:C)) | O80: =IF(C80="","",SUMIF('TK CHAMTHI'!B:B,C80,'TK CHAMTHI'!C:C)) | P80: =IF(C80="","",SUMIF('CHAM NV'!B:B,C80,'CHAM NV'!C:C)) | Q80: =IF(C80="","",(SUM(N80:O80)-P80)/20) | R80: =IF(C80="","",SUMIF('TK CHAMTHI'!J:J,C80,'TK CHAMTHI'!L:L)) | S80: =IF(C80="","",SUMIF('TK CHAMTHI'!K:K,C80,'TK CHAMTHI'!L:L)) | T80: =IF(C80="","",SUMIF('CHAM NV'!E:E,C80,'CHAM NV'!F:F)) | U80: =IF(C80="","",(SUM(R80:S80)-T80)/10) | V80: =IF(C80="","",SUMIF('TK CHAMTHI'!M:M,C80,'TK CHAMTHI'!O:O)) | W80: =IF(C80="","",SUMIF('TK CHAMTHI'!N:N,C80,'TK CHAMTHI'!O:O)) | X80: =IF(C80="","",SUM(V80:W80)/14) | Y80: =IF(C80="","",SUMIF('TK CHAMTHI'!S:S,C80,'TK CHAMTHI'!U:U)) | Z80: =IF(C80="","",SUMIF('TK CHAMTHI'!T:T,C80,'TK CHAMTHI'!U:U)) | AA80: =IF(C80="","",SUM(Y80:Z80)/10) | AB80: =IF(C80="","",SUMIF('TK CHAMTHI'!#REF!,C80,'TK CHAMTHI'!#REF!)) | AC80: =IF(C80="","",SUMIF('TK CHAMTHI'!#REF!,C80,'TK CHAMTHI'!#REF!)) | AD80: =IF(C80="","",SUM(AB80:AC80)/20) | AE80: =IF(C80="","",ROUND(SUMIF('QL THI'!G:G,C80,'QL THI'!H:H),1)) | AF80: =IF(C80="","",ROUND(SUMIF('QL THI'!E:E,C80,'QL THI'!F:F),1)) | AG80: =IF(C80="","",ROUND(H80+M80+Q80+U80+X80+AA80+AD80+SUM(AE80:AF80),1))
A81: Tổng | H81: =SUM(H11:H80) -> 0 | M81: =SUM(M11:M80) -> #REF! | Q81: =SUM(Q11:Q80) -> -5.7 | U81: =SUM(U11:U80) -> 0 | X81: =SUM(X11:X80) -> 0 | AA81: =SUM(AA11:AA80) -> 0 | AD81: =SUM(AD11:AD80) -> #REF! | AE81: =SUM(AE11:AE80) -> 0 | AF81: =SUM(AF11:AF80) -> 0 | AG81: =SUM(AG11:AG80) -> #REF!
A83: HIỆU TRƯỞNG TRƯỞNG PHÒNG KT&ĐBCL TRƯỞNG KHOA NGƯỜI LẬP BẢNG

Sheet Viết tắt
A1: CHÚ Ý QUAN TRỌNG: KHÔNG ĐƯỢC XÓA BẤT KỲ HÀNG HAY CỘT TRONG TẤT CẢ CÁC SHEET
A2: Đối với bảng tính "TONG HOP"
A3: CF = Đã gửi tập tin đề thi | B3: LOẠI ĐỀ | C3: HT = Hình thức thi | D3: SLBĐ = Số lượng bộ đề
A4: R = Rồi | B4: KTHP = Kết thúc học phần | C4: LT = Lý thuyết tự luận | D4: SLĐ = Số lượng đề thi
A5: C = Chưa | B5: ThiTN = Thi tốt nghiệp | C5: TN = Lý thuyết trắc nghiệm | D5: TG THI = Thời gian thi, chú ý nhập đúng thời gian thi theo đề thi
B6: TLAI = Thi lại | C6: TL = Tiểu luận, Bài tập lớn | D6: SL CT = Số lượng bài thi chấm thực tế theo túi bài thi
B7: GiHP = Giữa học phần | C7: TH = Thực hành, thực tập | D7: SL BT = Số lượng bài thi của phòng thi theo lịch thi
A8: Các cột GIẢNG VIÊN GIẢNG DẠY, GV SOẠN ĐỀ, CB CHẤM THI 1, CB CHẤM THI 2, CB COI THI 1, CB COI THI 2, CB GIÁM SÁT, CB DỰ PHÒNG khi nhập tên giảng viên thì tìm và chép từ sheet "DSCBGVNV" để thống nhất trong toàn bộ bảng tính | D8: GHÉP, NHÓM - Nhập tên của lớp ghép chung phòng thi hoặc dấu X, chú ý chỉ nhập tên cán bộ coi thi 1 và 2 cho 1 lớp trong tất cả các lớp ghép chung phòng thi. - Nhập số thứ tự nhóm.
A9: Ngày thi = Nhập theo thứ tự năm, tháng, ngày (yyyymmdd), ví dụ thi ngày 15 tháng 3 năm 2017 thì nhập là 20170315
A10: Giờ thi = Nhập giờ bắt đầu làm bài
A11: PHÒNG THI = Nhập mã phòng thi theo phân công trong lịch thi
A12: KHỐI, LỚP = Nhập tên lớp
A13: SS DS Thi = Nhập sỉ số của lớp - cấm thi - số vắng thi - đình chỉ thi
A15: Đối với bảng tính "CƠ KHÍ"
A16: Sheet "CƠ KHÍ" là bảng tính ví dụ cho từng khoa, khi nhập thì đổi tên sheet này thành tên khoa và đổi tên ở hàng số 6. Hãy chép Mã nhân sự và Họ tên giảng viên theo khoa trong sheet DSCBGVNV, rồi kích chọn ô B11 của sheet "CƠ KHÍ" để dán thông tin vào. Các giá trị trong các ô tính sẽ tự động điền vào. Các hàng trống có thể dùng chức năng HIDE. Lưu ý các khoa nhập giảng viên kiêm chức đang giảng dạy các học phần do khoa quản lý trong bảng tính này.

Sheet TONGHOP
A1: STT | B1: MÃ LHP | C1: Ngày thi | D1: Giờ thi | E1: PHÒNG THI | F1: KHỐI, LỚP | G1: GHÉP, NHÓM | H1: TÊN HỌC PHẦN | I1: GIẢNG VIÊN GIẢNG DẠY | J1: CF | K1: GV SOẠN ĐỀ | L1: SL BĐỀ | M1: SL ĐỀ | N1: KHOA | O1: LOẠI ĐỀ | P1: HT | Q1: TG THI | R1: SS DS Thi | S1: SL BT | T1: ="CB COI THI 1 SL= "&COUNTA(T2:T2001) -> CB COI THI 1 SL= 1661 | U1: ="CB COI THI 2 SL= "&COUNTA(U2:U2001) -> CB COI THI 2 SL= 1822 | V1: ="CB GIÁM SÁT SL= "&COUNTA(V2:V2001) -> CB GIÁM SÁT SL= 1841 | W1: ="CB DỰ PHÒNG SL= "&COUNTA(W2:W2001) -> CB DỰ PHÒNG SL= 0 | X1: ="CB CHẤM THI 1; SL = "&COUNTA(X2:X2001) -> CB CHẤM THI 1; SL = 1054 | Y1: ="CB CHẤM THI 2; SL = "&COUNTA(Y2:Y2001) -> CB CHẤM THI 2; SL = 1048 | Z1: SL CT | AA1: GHI CHÚ | AB1: Ktra
A2: =IF(F2="","",SUBTOTAL(3,$F$2:$F2)) -> 1 | B2: 020200006601 | C2: 20171024 | D2: 15h00 | E2: C3.1 - 06 | F2: 16CĐ_HL1_KHCB | G2: 1 | H2: Hóa học đại cương 1 | I2: Nguyễn Thị Huyền Nga | J2: R | N2: KHCB | O2: KTHP | P2: LT | Q2: 90 | R2: 59 | S2: 38 | T2: Hà Như Mai | U2: Lê Nguyễn Mỹ Trâm | X2: Trần Kim Thu Liễu | Y2: Nguyễn Thị Huyền Nga | Z2: 38 | AB2: =IF(OR(O2="TLAI",F2=""),"",Z2=S2) -> TRUE
A3: =IF(F3="","",SUBTOTAL(3,$F$2:$F3)) -> 2 | B3: 020200006602 | C3: 20171024 | D3: 15h00 | E3: C3.2 - 04 | F3: 16CĐ_HL1_KHCB | G3: 2 | H3: Hóa học đại cương 1 | I3: Trần Kim Thu Liễu | J3: R | K3: Nguyễn Thị Huyền Nga | L3: 2 | M3: 2 | N3: KHCB | O3: KTHP | P3: LT | Q3: 90 | R3: 59 | S3: 40 | T3: Nguyễn Văn Đông | U3: Nguyễn Thị Thanh Tú | X3: Nguyễn Thị Huyền Nga | Y3: Trần Kim Thu Liễu | Z3: 40 | AB3: =IF(OR(O3="TLAI",F3=""),"",Z3=S3) -> TRUE
A4: =IF(F4="","",SUBTOTAL(3,$F$2:$F4)) -> 3 | B4: 020200006601 | C4: 20171024 | D4: 15h00 | E4: C3.2 - 05 | F4: 16CĐ_HL1_KHCB | G4: 3 | H4: Hóa học đại cương 1 | J4: R | N4: KHCB | O4: KTHP | P4: LT | Q4: 90 | S4: 30 | T4: Nguyễn Phương Hà | U4: Đinh Thị Thắng (TG) | X4: Nguyễn Thị Huyền Nga | Y4: Trần Kim Thu Liễu | Z4: 30 | AB4: =IF(OR(O4="TLAI",F4=""),"",Z4=S4) -> TRUE
A5: =IF(F5="","",SUBTOTAL(3,$F$2:$F5)) -> 4 | B5: 020400022301 | C5: 20171114 | D5: 18h00 | E5: C3.1 - 05 | F5: 16CĐ-LTCNTT; 16CĐ-LTĐ; 16CĐ-LTÔTÔ | G5: 1 | H5: Xác suất thống kê | I5: Phạm Thị Thu Nga | J5: R | K5: Phạm Thị Thu Nga | L5: 2 | M5: 2 | N5: KHCB | O5: KTHP | P5: LT | Q5: 90 | R5: 48 | S5: 25 | T5: Phạm Thị Thu Nga | U5: Nguyễn Thị Hải Hà | X5: Phạm Thị Thu Nga | Y5: Hà Như Mai | Z5: 25 | AB5: =IF(OR(O5="TLAI",F5=""),"",Z5=S5) -> TRUE
A6: =IF(F6="","",SUBTOTAL(3,$F$2:$F6)) -> 5 | B6: 020400022301 | C6: 20171114 | D6: 18h00 | E6: C3.1 - 06 | F6: 16CĐ-LTCNTT; 16CĐ-LTĐ; 16CĐ-LTÔTÔ | G6: 2 | H6: Xác suất thống kê | J6: R | N6: KHCB | O6: KTHP | P6: LT | Q6: 90 | S6: 23 | T6: Hoàng Thị Trang | U6: Huỳnh Thị Minh Ly | X6: Phạm Thị Thu Nga | Y6: Hà Như Mai | Z6: 23 | AB6: =IF(OR(O6="TLAI",F6=""),"",Z6=S6) -> TRUE
A7: =IF(F7="","",SUBTOTAL(3,$F$2:$F7)) -> 6 | B7: 020400021301 | C7: 20171114 | D7: 20h00 | E7: C3.1 - 05 | F7: 16CĐ-LTCNTT; 16CĐ-LTĐ; 16CĐ-LTÔTÔ | G7: 1 | H7: Tư tưởng Hồ Chí Minh | I7: Hoàng Thị Trang | J7: R | K7: Hoàng Thị Trang | L7: 2 | M7: 2 | N7: LLCT | O7: KTHP | P7: LT | Q7: 90 | R7: 43 | S7: 43 | T7: Hoàng Thị Trang | U7: Phạm Thị Thu Nga | X7: Hoàng Thị Trang | Y7: Cao Thị Hồng Thắm | Z7: 43 | AB7: =IF(OR(O7="TLAI",F7=""),"",Z7=S7) -> TRUE
A8: =IF(F8="","",SUBTOTAL(3,$F$2:$F8)) -> 7 | B8: 020200088701 | C8: 20171120 | D8: 7h30 | E8: H1.2 - 13 | F8: 15CĐ-CĐT1 | G8: 1 | H8: Kỹ thuật Cảm biến đo lường | I8: Tăng Cẩm Huê | J8: R | K8: Tăng Cẩm Huê | L8: 2 | M8: 2 | N8: Đ-ĐT | O8: KTHP | P8: LT | Q8: 90 | R8: 50 | S8: 26 | T8: Nguyễn Trần Thanh Nhàn | U8: Vũ Hạnh Chiêu | X8: Tăng Cẩm Huê | Y8: Võ Cường | Z8: 26 | AB8: =IF(OR(O8="TLAI",F8=""),"",Z8=S8) -> TRUE
A9: =IF(F9="","",SUBTOTAL(3,$F$2:$F9)) -> 8 | B9: 020200088701 | C9: 20171120 | D9: 7h30 | E9: H1.2 - 14 | F9: 15CĐ-CĐT1 | G9: 2 | H9: Kỹ thuật Cảm biến đo lường | J9: R | N9: Đ-ĐT | O9: KTHP | P9: LT | Q9: 90 | S9: 21 | T9: Tăng Cẩm Huê | U9: Trần Nguyên Bảo Trân | X9: Tăng Cẩm Huê | Y9: Võ Cường | Z9: 21 | AB9: =IF(OR(O9="TLAI",F9=""),"",Z9=S9) -> TRUE
A10: =IF(F10="","",SUBTOTAL(3,$F$2:$F10)) -> 9 | B10: 041000070401 | C10: 20171121 | D10: 15h00 | E10: D2.1 - 01 | F10: 15TC-Ô | G10: 1 | H10: AutoCAD | I10: Nguyễn Tiến Nhân | J10: R | K10: Nguyễn Tiến Nhân | L10: 2 | M10: 2 | N10: N-LA | O10: KTHP | P10: LT | Q10: 120 | R10: 13 | S10: 12 | T10: Nguyễn Tiến Nhân | U10: Trương Thị Phương Hồng | X10: Nguyễn Tiến Nhân | Y10: Trương Thị Phương Hồng | Z10: 12 | AB10: =IF(OR(O10="TLAI",F10=""),"",Z10=S10) -> TRUE
A11: =IF(F11="","",SUBTOTAL(3,$F$2:$F11)) -> 10 | B11: 020200077001 | C11: 20171121 | D11: 9h30 | E11: H1.2 - 13 | F11: 16CĐ-CĐT1 | G11: 1 | H11: Kỹ thuật điện | I11: Vũ Hạnh Chiêu | J11: R | K11: Vũ Hạnh Chiêu | L11: 2 | M11: 2 | N11: Đ-ĐT | O11: KTHP | P11: LT | Q11: 90 | R11: 15 | S11: 33 | T11: Trần Nguyên Bảo Trân | U11: Nguyễn Hồng Đức | X11: Vũ Hạnh Chiêu | Y11: Quách Minh Thử | Z11: 33 | AB11: =IF(OR(O11="TLAI",F11=""),"",Z11=S11) -> TRUE
A12: =IF(F12="","",SUBTOTAL(3,$F$2:$F12)) -> 11 | B12: 020200077002 | C12: 20171121 | D12: 9h30 | E12: H1.2 - 13 | F12: 16CĐ-CNC1 | G12: 2 | H12: Kỹ thuật điện | I12: Vũ Hạnh Chiêu | J12: R | N12: Đ-ĐT | O12: KTHP | P12: LT | Q12: 90 | R12: 18 | AB12: =IF(OR(O12="TLAI",F12=""),"",Z12=S12) -> TRUE
A13: =IF(F13="","",SUBTOTAL(3,$F$2:$F13)) -> 12 | B13: 020200013901 | C13: 20171122 | D13: 9h30 | E13: C2.2 - 04 | F13: 15CĐ-CĐT1 | G13: 1 | H13: Rôbốt công nghiệp | I13: Trần Nguyên Bảo Trân | J13: R | K13: Trần Nguyên Bảo Trân | L13: 2 | M13: 2 | N13: Đ-ĐT | O13: KTHP | P13: LT | Q13: 90 | R13: 50 | S13: 26 | T13: Lê Thế Huân | U13: Trần Trung Hiếu | X13: Trần Nguyên Bảo Trân | Y13: Huỳnh Ngọc Mai | Z13: 26 | AB13: =IF(OR(O13="TLAI",F13=""),"",Z13=S13) -> TRUE
A14: =IF(F14="","",SUBTOTAL(3,$F$2:$F14)) -> 13 | B14: 020200013901 | C14: 20171122 | D14: 9h30 | E14: H1.3 - 08 | F14: 15CĐ-CĐT1 | G14: 2 | H14: Rôbốt công nghiệp | J14: R | N14: Đ-ĐT | O14: KTHP | P14: LT | Q14: 90 | S14: 24 | T14: Tăng Cẩm Huê | U14: Vũ Hạnh Chiêu | X14: Trần Nguyên Bảo Trân | Y14: Huỳnh Ngọc Mai | Z14: 24 | AB14: =IF(OR(O14="TLAI",F14=""),"",Z14=S14) -> TRUE
A15: =IF(F15="","",SUBTOTAL(3,$F$2:$F15)) -> 14 | B15: 071300118601 | C15: 20171123 | D15: 07h30 | E15: Hội Trườn | F15: 17T2-QTM1; 17T2-ĐCN1 | H15: Giáo dục quốc phòng - An ninh | I15: Đặng Duy Đồng (TG) | J15: R | K15: Giang Phi Hùng | L15: 2 | M15: 2 | N15: KHCB | O15: KTHP | P15: LT | Q15: 90 | R15: 67 | S15: 66 | T15: Ngô Thanh Điền | U15: Đặng Duy Đồng (TG) | X15: Đặng Duy Đồng (TG) | Y15: Giang Phi Hùng | Z15: 66 | AB15: =IF(OR(O15="TLAI",F15=""),"",Z15=S15) -> TRUE
A16: =IF(F16="","",SUBTOTAL(3,$F$2:$F16)) -> 15 | B16: 041000071101 | C16: 20171125 | D16: 13h00 | E16: H1.1 - 15 | F16: 15TC-NL | G16: 1 | H16: AutoCAD | I16: Đặng Thế Huân | J16: R | K16: Đặng Thế Huân | L16: 2 | M16: 2 | N16: N-LA | O16: KTHP | P16: LT | Q16: 90 | R16: 5 | S16: 5 | T16: Trần Đình Khoa | U16: Đặng Thế Huân | X16: Trần Đình Khoa | Y16: Đặng Thế Huân | Z16: 5 | AB16: =IF(OR(O16="TLAI",F16=""),"",Z16=S16) -> TRUE
A17: =IF(F17="","",SUBTOTAL(3,$F$2:$F17)) -> 16 | B17: 050600117701 | C17: 20171125 | D17: 13h00 | E17: H1.1 - 15 | F17: 15TCN-LĐL | G17: 2 | H17: Autocad | I17: Đặng Thế Huân | J17: R | K17: Đặng Thế Huân | L17: 2 | M17: 2 | N17: N-LA | O17: KTHP | P17: LT | Q17: 90 | R17: 30 | S17: 30 | X17: Trần Đình Khoa | Y17: Đặng Thế Huân | Z17: 30 | AB17: =IF(OR(O17="TLAI",F17=""),"",Z17=S17) -> TRUE
A18: =IF(F18="","",SUBTOTAL(3,$F$2:$F18)) -> 17 | B18: 020200006201 | C18: 20171127 | D18: 18h00 | E18: C2.1 - 05 | F18: 15CĐ_HL1_ĐLUC | H18: Hệ thống điện và điện tử ôtô | I18: Hà Quốc Bảo | J18: R | K18: Hà Quốc Bảo | L18: 2 | M18: 2 | N18: ĐLUC | O18: KTHP | P18: LT | Q18: 90 | R18: 36 | S18: 36 | T18: Hà Quốc Bảo | U18: Đặng Thái Sơn | X18: Hà Quốc Bảo | Y18: Đặng Thái Sơn | Z18: 36 | AB18: =IF(OR(O18="TLAI",F18=""),"",Z18=S18) -> TRUE
A19: =IF(F19="","",SUBTOTAL(3,$F$2:$F19)) -> 18 | B19: 030600065501 | C19: 20171127 | D19: 19h40 | E19: C2.1 - 05 | F19: 16CĐN_HL1_ĐLUC | H19: Điện kỹ thuật | I19: Hà Quốc Bảo | J19: R | K19: Hà Quốc Bảo | L19: 2 | M19: 2 | N19: ĐLUC | O19: KTHP | P19: LT | Q19: 90 | R19: 18 | S19: 18 | T19: Đặng Thái Sơn | U19: Hà Quốc Bảo | X19: Hà Quốc Bảo | Y19: Đặng Thái Sơn | Z19: 18 | AB19: =IF(OR(O19="TLAI",F19=""),"",Z19=S19) -> TRUE
A20: =IF(F20="","",SUBTOTAL(3,$F$2:$F20)) -> 19 | B20: 020200008301 | C20: 20171127 | D20: 19h40 | E20: C2.1 - 05 | F20: 15CĐ_HL1_ĐLUC | H20: Kỹ thuật điện - điện tử | I20: Hà Quốc Bảo | J20: R | K20: Hà Quốc Bảo | L20: 2 | M20: 2 | N20: ĐLUC | O20: KTHP | P20: LT | Q20: 90 | R20: 7 | S20: 7 | X20: Hà Quốc Bảo | Y20: Đặng Thái Sơn | Z20: 7 | AB20: =IF(OR(O20="TLAI",F20=""),"",Z20=S20) -> TRUE
A21: =IF(F21="","",SUBTOTAL(3,$F$2:$F21)) -> 20 | B21: 050600117401 | C21: 20171127 | D21: 8h00 | E21: C2.1 - 05 | F21: 15TCN-LĐL | G21: 1 | H21: Vật liệu điện lạnh | I21: Phan Văn Hòa | N21: N-LA | O21: KTHP | P21: TN | Q21: 60 | R21: 31 | S21: 30 | T21: Đinh Đồng Hiệp | U21: Phan Văn Hòa | AB21: =IF(OR(O21="TLAI",F21=""),"",Z21=S21) -> FALSE
A22: =IF(F22="","",SUBTOTAL(3,$F$2:$F22)) -> 21 | B22: 041000079601 | C22: 20171127 | D22: 8h00 | E22: C2.1 - 05 | F22: 15TC-NL | G22: 1 | H22: Vật liệu kỹ thuật nhiệt | I22: Phan Văn Hòa | J22: R | K22: Phan Văn Hòa | L22: 2 | M22: 4 | N22: N-LA | O22: KTHP | P22: TN | Q22: 60 | R22: 5 | S22: 5 | AB22: =IF(OR(O22="TLAI",F22=""),"",Z22=S22) -> FALSE
A23: =IF(F23="","",SUBTOTAL(3,$F$2:$F23)) -> 22 | B23: 041000001601 | C23: 20171127 | D23: 9h30 | E23: C2.1 - 05 | F23: 15TC-NL | G23: 2 | H23: Bơm, quạt, máy nén | I23: Đinh Đồng Hiệp | J23: R | K23: Đinh Đồng Hiệp | L23: 2 | M23: 4 | N23: N-LA | O23: KTHP | P23: TN | Q23: 60 | R23: 5 | S23: 5 | T23: Phan Văn Hòa | U23: Lương Minh Dũng | AB23: =IF(OR(O23="TLAI",F23=""),"",Z23=S23) -> FALSE
A24: =IF(F24="","",SUBTOTAL(3,$F$2:$F24)) -> 23 | B24: 050600117601 | C24: 20171127 | D24: 9h30 | E24: C2.1 - 05 | F24: 15TCN-LĐL | G24: 1 | H24: Bơm, quạt, máy nén | I24: Đinh Đồng Hiệp | J24: R | N24: N-LA | O24: KTHP | P24: TN | Q24: 60 | R24: 29 | S24: 29 | AB24: =IF(OR(O24="TLAI",F24=""),"",Z24=S24) -> FALSE
A25: =IF(F25="","",SUBTOTAL(3,$F$2:$F25)) -> 24 | B25: 020200006603 | C25: 20171128 | D25: 14h00 | E25: C3.1 - 06 | F25: 16CĐ_HL1_KHCB | H25: Hóa học đại cương 1 | I25: Nguyễn Huỳnh Mai Hạnh | J25: R | K25: Nguyễn Huỳnh Mai Hạnh | L25: 2 | M25: 2 | N25: KHCB | O25: KTHP | P25: LT | Q25: 90 | R25: 42 | S25: 42 | T25: Nguyễn Thị Thu Tâm | U25: Hà Như Mai | X25: Nguyễn Huỳnh Mai Hạnh | Y25: Trần Kim Thu Liễu | Z25: 42 | AB25: =IF(OR(O25="TLAI",F25=""),"",Z25=S25) -> TRUE
A26: =IF(F26="","",SUBTOTAL(3,$F$2:$F26)) -> 25 | B26: 071300118201 | C26: 20171204 | D26: 10h00 | E26: C2.1 - 05 | F26: 17T2-ĐCN1 | H26: An toàn điện | I26: Mạnh Lê Hoàn | J26: R | K26: Mạnh Lê Hoàn | L26: 2 | M26: 2 | N26: Đ-ĐT | O26: KTHP | P26: LT | Q26: 60 | R26: 27 | S26: 27 | T26: Đặng Đức Minh | U26: Ngô Hoàng Anh | X26: Mạnh Lê Hoàn | Y26: Vũ Thị Hạnh Chiêu | Z26: 27 | AB26: =IF(OR(O26="TLAI",F26=""),"",Z26=S26) -> TRUE
A27: =IF(F27="","",SUBTOTAL(3,$F$2:$F27)) -> 26 | B27: 071300118101 | C27: 20171204 | D27: 7h30 | E27: C2.1 - 05 | F27: 17T2-ĐCN1 | H27: Điện tử cơ bản | I27: Trần Hiếu Trinh | J27: R | K27: Trần Hiếu Trinh | L27: 2 | M27: 2 | N27: Đ-ĐT | O27: KTHP | P27: LT | Q27: 90 | R27: 23 | S27: 22 | T27: Lê Tiến Đạt | U27: Đặng Đức Minh | X27: Trần Hiếu Trinh | Y27: Võ Cường | Z27: 22 | AB27: =IF(OR(O27="TLAI",F27=""),"",Z27=S27) -> TRUE
A28: =IF(F28="","",SUBTOTAL(3,$F$2:$F28)) -> 27 | B28: 041000045101 | C28: 20171205 | D28: 18h00 | E28: C2.1 - 04 | F28: 15TC_HL1_KHCB1 | H28: Toán 1 | I28: Phạm Thị Thu Nga | J28: R | K28: Phạm Thị Thu Nga | L28: 2 | M28: 2 | N28: KHCB | O28: KTHP | P28: LT | Q28: 90 | R28: 13 | S28: 13 | T28: Phạm Thị Thu Nga | U28: Dương Đức Kiên | X28: Phạm Thị Thu Nga | Y28: Dương Đức Kiên | Z28: 13 | AB28: =IF(OR(O28="TLAI",F28=""),"",Z28=S28) -> TRUE
A29: =IF(F29="","",SUBTOTAL(3,$F$2:$F29)) -> 28 | B29: 041000046701 | C29: 20171205 | D29: 18h00 | E29: C2.1 - 04 | F29: 15TC_HL1_KHCB2 | H29: Toán 2 | I29: Dương Đức Kiên | J29: R | K29: Dương Đức Kiên | L29: 2 | M29: 2 | N29: KHCB | O29: KTHP | P29: LT | Q29: 90 | R29: 29 | S29: 29 | X29: Phạm Thị Thu Nga | Y29: Dương Đức Kiên | Z29: 29 | AB29: =IF(OR(O29="TLAI",F29=""),"",Z29=S29) -> TRUE
A30: =IF(F30="","",SUBTOTAL(3,$F$2:$F30)) -> 29 | B30: 071300118401 | C30: 20171206 | D30: 14h00 | E30: C2.2 - 03 | F30: 17T2-ĐCN1 | H30: Máy điện | I30: Ngô Hoàng Anh | J30: R | K30: Ngô Hoàng Anh | L30: 2 | M30: 2 | N30: Đ-ĐT | O30: KTHP | P30: LT | Q30: 90 | R30: 21 | S30: 21 | T30: Trần Trung Hiếu | U30: Mạnh Lê Hoàn | X30: Ngô Hoàng Anh | Y30: Quách Minh Thử | Z30: 21 | AB30: =IF(OR(O30="TLAI",F30=""),"",Z30=S30) -> TRUE
A31: =IF(F31="","",SUBTOTAL(3,$F$2:$F31)) -> 30 | B31: 040800060501 | C31: 20171207 | D31: 13h00 | E31: C2.1 - 04 | F31: 15TCT_HL1_NL | G31: 1 | H31: Kỹ thuật lạnh | I31: Đinh Đồng Hiệp | J31: R | K31: Đinh Đồng Hiệp | L31: 2 | M31: 2 | N31: N-LA | O31: KTHP | P31: LT | Q31: 60 | R31: 1 | S31: 1 | T31: Đặng Thế Huân | U31: Võ Anh Hào | X31: Đặng Thế Huân | Y31: Đinh Đồng Hiệp | Z31: 1 | AB31: =IF(OR(O31="TLAI",F31=""),"",Z31=S31) -> TRUE
A32: =IF(F32="","",SUBTOTAL(3,$F$2:$F32)) -> 31 | B32: 020200014201 | C32: 20171207 | D32: 13h00 | E32: C2.1 - 04 | F32: 14CĐ_HL1_DLANH | G32: 1 | H32: Thiết bị điện | I32: Đặng Thế Huân | J32: R | K32: Đặng Thế Huân | L32: 2 | M32: 2 | N32: N-LA | O32: KTHP | P32: TN | Q32: 60 | R32: 1 | S32: 2 | X32: Đặng Thế Huân | Y32: Đinh Đồng Hiệp | Z32: 2 | AB32: =IF(OR(O32="TLAI",F32=""),"",Z32=S32) -> TRUE
A33: =IF(F33="","",SUBTOTAL(3,$F$2:$F33)) -> 32 | B33: 040800070501 | C33: 20171207 | D33: 14h15 | E33: C2.1 - 04 | F33: 15TCT_HL1_NL | G33: 1 | H33: Kỹ thuật điện tử | I33: Đặng Thế Huân | J33: R | K33: Đặng Thế Huân | L33: 2 | M33: 2 | N33: N-LA | O33: KTHP | P33: LT | Q33: 60 | R33: 3 | S33: 3 | T33: Đặng Thế Huân | U33: Võ Anh Hào | X33: Đặng Thế Huân | Y33: Đinh Đồng Hiệp | Z33: 3 | AB33: =IF(OR(O33="TLAI",F33=""),"",Z33=S33) -> TRUE
A34: =IF(F34="","",SUBTOTAL(3,$F$2:$F34)) -> 33 | B34: 040800085901 | C34: 20171207 | D34: 14h15 | E34: C2.1 - 04 | F34: 15TCT_HL1_NL | G34: 1 | H34: Thiết kế điều hòa không khí | I34: Đinh Đồng Hiệp | J34: R | K34: Đinh Đồng Hiệp | L34: 2 | M34: 2 | N34: N-LA | O34: KTHP | P34: LT | Q34: 60 | R34: 1 | S34: 1 | X34: Đặng Thế Huân | Y34: Đinh Đồng Hiệp | Z34: 1 | AB34: =IF(OR(O34="TLAI",F34=""),"",Z34=S34) -> TRUE
A35: =IF(F35="","",SUBTOTAL(3,$F$2:$F35)) -> 34 | B35: 040800008201 | C35: 20171207 | D35: 15h30 | E35: C2.1 - 04 | F35: 15TCT_HL1_NL | G35: 1 | H35: Kỹ thuật điện | I35: Võ Anh Hào | J35: R | K35: Võ Anh Hào | L35: 2 | M35: 2 | N35: Đ-ĐT | O35: KTHP | P35: LT | Q35: 60 | R35: 1 | S35: 1 | T35: Võ Anh Hào | U35: Đặng Thế Huân | AB35: =IF(OR(O35="TLAI",F35=""),"",Z35=S35) -> FALSE
A36: =IF(F36="","",SUBTOTAL(3,$F$2:$F36)) -> 35 | B36: 050600111201 | C36: 20171211 | D36: 13h00 | E36: F2.2 - 01 | F36: 15TCN-Đ; 15TCN-ĐT | G36: 1 | H36: Chính trị | I36: Nguyễn Anh Kiệt | J36: R | N36: LLCT | O36: KTHP | P36: LT | Q36: 90 | R36: 42 | S36: 35 | T36: Mạnh Lê Hoàn | U36: Hà Quốc Bảo | V36: Hà Phước Tuấn | X36: Đỗ Thị Thơm | Y36: Nguyễn Anh Kiệt | Z36: 35 | AB36: =IF(OR(O36="TLAI",F36=""),"",Z36=S36) -> TRUE
A37: =IF(F37="","",SUBTOTAL(3,$F$2:$F37)) -> 36 | B37: 050600111201 | C37: 20171211 | D37: 13h00 | E37: F2.2 - 02 | F37: 15TCN-Đ; 15TCN-ĐT | G37: 2 | H37: Chính trị | J37: R | N37: LLCT | O37: KTHP | P37: LT | Q37: 90 | S37: 36 | T37: Hoàng Phúc Bảo | U37: Phan Văn Hòa | X37: Đỗ Thị Thơm | Y37: Nguyễn Anh Kiệt | Z37: 36 | AB37: =IF(OR(O37="TLAI",F37=""),"",Z37=S37) -> TRUE
A38: =IF(F38="","",SUBTOTAL(3,$F$2:$F38)) -> 37 | B38: 050600111207 | C38: 20171211 | D38: 13h00 | E38: F2.2 - 03 | F38: 15TCN-MTT; 15TCN-KTD | G38: 3 | H38: Chính trị | I38: Đinh Thị Huyên | J38: R | K38: Đinh Thị Huyên | L38: 2 | M38: 2 | N38: LLCT | O38: KTHP | P38: LT | Q38: 90 | R38: 36 | S38: 35 | T38: Bùi Anh Tuấn | U38: Trần Thị Ngọc Dung | X38: Đỗ Thị Thơm | Y38: Nguyễn Anh Kiệt | Z38: 35 | AB38: =IF(OR(O38="TLAI",F38=""),"",Z38=S38) -> TRUE
A39: =IF(F39="","",SUBTOTAL(3,$F$2:$F39)) -> 38 | B39: 050600111209 | C39: 20171211 | D39: 13h00 | E39: F2.2 - 04 | F39: 15TCN-Ô1 | G39: 4 | H39: Chính trị | I39: Nguyễn Anh Kiệt | J39: R | N39: LLCT | O39: KTHP | P39: LT | Q39: 90 | R39: 35 | S39: 35 | T39: Nguyễn Mỹ Tiên | U39: Nguyễn Bạch Cẩm Dung | X39: Đỗ Thị Thơm | Y39: Nguyễn Anh Kiệt | Z39: 35 | AB39: =IF(OR(O39="TLAI",F39=""),"",Z39=S39) -> TRUE
A40: =IF(F40="","",SUBTOTAL(3,$F$2:$F40)) -> 39 | B40: 050600111210 | C40: 20171211 | D40: 13h00 | E40: F2.2 - 05 | F40: 15TCN-QTM1 | G40: 5 | H40: Chính trị | I40: Nguyễn Anh Kiệt | J40: R | N40: LLCT | O40: KTHP | P40: LT | Q40: 90 | R40: 53 | S40: 34 | T40: Chế Vân Cầm | U40: Đinh Thị Huyên | X40: Đỗ Thị Thơm | Y40: Nguyễn Anh Kiệt | Z40: 34 | AB40: =IF(OR(O40="TLAI",F40=""),"",Z40=S40) -> TRUE
A41: =IF(F41="","",SUBTOTAL(3,$F$2:$F41)) -> 40 | B41: 050600111211 | C41: 20171211 | D41: 13h00 | E41: F2.2 - 06 | F41: 15TCN-LĐL; 15TCN-CKL | G41: 6 | H41: Chính trị | I41: Nguyễn Anh Kiệt | J41: R | N41: LLCT | O41: KTHP | P41: LT | Q41: 90 | R41: 39 | S41: 28 | T41: Võ Cường | U41: Nguyễn Thị Tuyết | X41: Đỗ Thị Thơm | Y41: Nguyễn Anh Kiệt | Z41: 28 | AB41: =IF(OR(O41="TLAI",F41=""),"",Z41=S41) -> TRUE
A42: =IF(F42="","",SUBTOTAL(3,$F$2:$F42)) -> 41 | B42: 050600115302 | C42: 20171211 | D42: 15h30 | E42: C2.3 - 01 | F42: 15TCN-QTM1 | G42: 1 | H42: Thiết kế, xây dựng mạng LAN | I42: Lê Phi Trường | J42: R | K42: Lê Phi Trường | L42: 2 | M42: 2 | N42: CNTT | O42: KTHP | P42: LT | Q42: 90 | R42: 53 | S42: 34 | T42: Phan Văn Hòa | U42: Trần Thị Ngọc Dung | X42: Lê Phi Trường | Y42: nNguyễn Ngọc Tuyên | Z42: 34 | AB42: =IF(OR(O42="TLAI",F42=""),"",Z42=S42) -> TRUE
A43: =IF(F43="","",SUBTOTAL(3,$F$2:$F43)) -> 42 | B43: 050600115302 | C43: 20171211 | D43: 15h30 | E43: C2.3 - 02 | F43: 15TCN-QTM1 | G43: 2 | H43: Thiết kế, xây dựng mạng LAN | J43: R | N43: CNTT | O43: KTHP | P43: LT | Q43: 90 | S43: 19 | T43: Lê Thị Thu Thảo | U43: Nguyễn Mỹ Tiên | V43: Mạnh Lê Hoàn | X43: Lê Phi Trường | Y43: nNguyễn Ngọc Tuyên | Z43: 19 | AB43: =IF(OR(O43="TLAI",F43=""),"",Z43=S43) -> TRUE
A44: =IF(F44="","",SUBTOTAL(3,$F$2:$F44)) -> 43 | B44: 050600115101 | C44: 20171211 | D44: 15h30 | E44: C3.1 - 05 | F44: 15TCN-Ô1 | H44: Thủy lực - Máy thủy lực | I44: Kiều Trung Tín | J44: R | K44: Kiều Trung Tín | L44: 2 | M44: 2 | N44: ĐLUC | O44: KTHP | P44: LT | Q44: 90 | R44: 34 | S44: 34 | T44: Chế Vân Cầm | U44: Bùi Anh Tuấn | V44: Hà Phước Tuấn | X44: Kiều Trung Tín | Y44: Nguyễn Hữu Mạnh | Z44: 34 | AB44: =IF(OR(O44="TLAI",F44=""),"",Z44=S44) -> TRUE
A45: =IF(F45="","",SUBTOTAL(3,$F$2:$F45)) -> 44 | B45: 050600116401 | C45: 20171211 | D45: 15h30 | E45: C3.2 - 01 | F45: 15TCN-KTD | H45: Phân tích hoạt động kinh doanh | I45: Lê Thị Thu Thảo | J45: R | K45: Lê Thị Thu Thảo | L45: 2 | M45: 2 | N45: K-TE | O45: KTHP | P45: LT | Q45: 90 | R45: 24 | S45: 24 | T45: Hà Quốc Bảo | U45: Nguyễn Bạch Cẩm Dung | V45: Võ Cường | X45: Lê Thị Thu Thảo | Y45: Phạm Quỳnh Như | Z45: 24 | AB45: =IF(OR(O45="TLAI",F45=""),"",Z45=S45) -> TRUE
A46: =IF(F46="","",SUBTOTAL(3,$F$2:$F46)) -> 45 | B46: 050600111501 | C46: 20171211 | D46: 15h30 | E46: C3.2 - 01 | F46: 15TCN-Đ | H46: PLC cơ bản | I46: Mạnh Lê Hoàn | J46: R | K46: Mạnh Lê Hoàn | L46: 2 | M46: 2 | N46: Đ-ĐT | O46: KTHP | P46: LT | Q46: 90 | R46: 18 | S46: 18 | X46: Bốc Minh Trí | Y46: Mạnh Lê Hoàn | Z46: 18 | AB46: =IF(OR(O46="TLAI",F46=""),"",Z46=S46) -> TRUE
A47: =IF(F47="","",SUBTOTAL(3,$F$2:$F47)) -> 46 | B47: 050600115901 | C47: 20171211 | D47: 15h30 | E47: C3.2 - 02 | F47: 15TCN-MTT | H47: Công nghệ sản xuất | I47: Phạm Thị Thanh Thúy | J47: R | K47: Phạm Thị Thanh Thúy | L47: 2 | M47: 2 | N47: M-TT | O47: KTHP | P47: LT | Q47: 90 | R47: 12 | S47: 11 | T47: Đinh Thị Huyên | U47: Hoàng Phúc Bảo | X47: Phạm Thị Thanh Thúy | Y47: Trương Việt Khánh Trang | Z47: 11 | AB47: =IF(OR(O47="TLAI",F47=""),"",Z47=S47) -> TRUE
A48: =IF(F48="","",SUBTOTAL(3,$F$2:$F48)) -> 47 | B48: 050600112001 | C48: 20171211 | D48: 15h30 | E48: C3.2 - 02 | F48: 15TCN-ĐT | H48: PLC cơ bản | I48: Bốc Minh Trí | J48: R | K48: Bốc Minh Trí | L48: 2 | M48: 2 | N48: Đ-ĐT | O48: KTHP | P48: LT | Q48: 90 | R48: 25 | S48: 24 | X48: Bốc Minh Trí | Y48: Nguyễn Ngọc Mai | Z48: 24 | AB48: =IF(OR(O48="TLAI",F48=""),"",Z48=S48) -> TRUE
A49: =IF(F49="","",SUBTOTAL(3,$F$2:$F49)) -> 48 | B49: 020200005506 | C49: 20171211 | D49: 18h00 | E49: C2.3 - 02 | F49: 16CĐ_HL1_DLUC | H49: Động cơ đốt trong | I49: Phạm Nguyễn Đức Trung | J49: R | K49: Phạm Nguyễn Đức Trung | L49: 2 | M49: 2 | N49: ĐLUC | O49: KTHP | P49: LT | Q49: 90 | R49: 8 | S49: 8 | T49: Phạm Nguyễn Đức Trung | U49: Sỹ Thị Chung | X49: Phạm Nguyễn Đức Trung | Y49: Võ Đắc Thịnh | Z49: 8 | AB49: =IF(OR(O49="TLAI",F49=""),"",Z49=S49) -> TRUE
A50: =IF(F50="","",SUBTOTAL(3,$F$2:$F50)) -> 49 | B50: 050600115701 | C50: 20171213 | D50: 13h00 | E50: C2.3 - 04 | F50: 15TCN-MTT | H50: Thiết kế trang phục 2 | I50: Nguyễn Thị Hiền | J50: R | K50: Lâm Thị Phương Thùy | L50: 2 | M50: 2 | N50: M-TT | O50: KTHP | P50: LT | Q50: 120 | R50: 4 | S50: 4 | T50: Phạm Thị Thanh Thúy | U50: Trần Hồng Thảo | X50: Lâm Thị Phương Thùy | Y50: Trương Việt Khánh Trang | Z50: 4 | AB50: =IF(OR(O50="TLAI",F50=""),"",Z50=S50) -> TRUE
A51: =IF(F51="","",SUBTOTAL(3,$F$2:$F51)) -> 50 | B51: 050600117801 | C51: 20171213 | D51: 13h00 | E51: C3.2 - 03 | F51: 15TCN-LĐL | H51: Điều hòa không khí ô tô | I51: Nguyễn Vũ Xuân Thì | J51: R | K51: Nguyễn Vũ Xuân Thì | L51: 2 | M51: 2 | N51: N-LA | O51: KTHP | P51: LT | Q51: 90 | R51: 30 | S51: 29 | T51: Trần Đình Khoa | U51: Hoàng Văn Viết | V51: Ngô Phong Cường | X51: Nguyễn Vũ Xuân Thì | Y51: Phan Văn Hòa | Z51: 29 | AB51: =IF(OR(O51="TLAI",F51=""),"",Z51=S51) -> TRUE
A52: =IF(F52="","",SUBTOTAL(3,$F$2:$F52)) -> 51 | B52: 050600116201 | C52: 20171213 | D52: 13h00 | E52: C3.2 - 04 | F52: 15TCN-ĐT | H52: Điều khiển điện khí nén | I52: Nguyễn Thị Tố Nga | J52: R | K52: Nguyễn Thị Tố Nga | L52: 2 | M52: 2 | N52: Đ-ĐT | O52: KTHP | P52: LT | Q52: 90 | R52: 24 | S52: 23 | T52: Phạm Thị Thanh Thúy | U52: Trần Hồng Thảo | X52: Nguyễn Thị Tố Nga | Y52: Huỳnh Ngọc Mai | Z52: 23 | AB52: =IF(OR(O52="TLAI",F52=""),"",Z52=S52) -> TRUE
A53: =IF(F53="","",SUBTOTAL(3,$F$2:$F53)) -> 52 | B53: 050600117301 | C53: 20171213 | D53: 15h30 | E53: C2.2 - 04 | F53: 15TCN-LĐL | H53: Đo lường Điện - Lạnh | I53: Hoàng Văn Viết | J53: R | K53: Hoàng Văn Viết | L53: 2 | M53: 2 | N53: N-LA | O53: KTHP | P53: LT | Q53: 90 | R53: 29 | S53: 28 | T53: Nguyễn Văn Sơn | U53: Lương Minh Dũng | X53: Hoàng Văn Viết | Y53: Trần Đình Khoa | Z53: 28 | AB53: =IF(OR(O53="TLAI",F53=""),"",Z53=S53) -> TRUE
A54: =IF(F54="","",SUBTOTAL(3,$F$2:$F54)) -> 53 | B54: 050600116101 | C54: 20171213 | D54: 15h30 | E54: C2.2 - 05 | F54: 15TCN-ĐT | H54: Điều khiển lập trình cỡ nhỏ | I54: Huỳnh Ngọc Mai | J54: R | K54: Huỳnh Ngọc Mai | L54: 2 | M54: 2 | N54: Đ-ĐT | O54: KTHP | P54: LT | Q54: 90 | R54: 24 | S54: 23 | T54: Ngô Phong Cường | U54: Phạm Thị Thanh Thúy | X54: Huỳnh Ngọc Mai | Y54: Bốc Minh Trí | Z54: 23 | AB54: =IF(OR(O54="TLAI",F54=""),"",Z54=S54) -> TRUE
A55: =IF(F55="","",SUBTOTAL(3,$F$2:$F55)) -> 54 | B55: 050600116501 | C55: 20171213 | D55: 15h30 | E55: C3.2 - 04 | F55: 15TCN-KTD | H55: Thuế | I55: Phạm Quỳnh Như | J55: R | K55: Phạm Quỳnh Như | L55: 2 | M55: 2 | N55: K-TE | O55: KTHP | P55: LT | Q55: 90 | R55: 24 | S55: 24 | T55: Trần Đình Khoa | U55: Trần Hồng Thảo | X55: Phạm Quỳnh Như | Y55: Lưu Thị Thúy | Z55: 24 | AB55: =IF(OR(O55="TLAI",F55=""),"",Z55=S55) -> TRUE
A56: =IF(F56="","",SUBTOTAL(3,$F$2:$F56)) -> 55 | B56: 050600115202 | C56: 20171215 | D56: 13h00 | E56: C2.3 - 04 | F56: 15TCN-QTM1 | G56: 1 | H56: Phân tích thiết kế hệ thống thông tin | I56: Lê Hồng Thái | J56: R | K56: Lê Hồng Thái | L56: 2 | M56: 2 | N56: CNTT | O56: KTHP | P56: LT | Q56: 90 | R56: 55 | S56: 34 | T56: Nguyễn Ngọc Tuyên | U56: Nguyễn Mỹ Tiên | X56: Lê Hồng Thái | Y56: Nguyễn Văn Danh | Z56: 34 | AB56: =IF(OR(O56="TLAI",F56=""),"",Z56=S56) -> TRUE
A57: =IF(F57="","",SUBTOTAL(3,$F$2:$F57)) -> 56 | B57: 050600115202 | C57: 20171215 | D57: 13h00 | E57: C2.3 - 05 | F57: 15TCN-QTM1 | G57: 2 | H57: Phân tích thiết kế hệ thống thông tin | J57: R | N57: CNTT | O57: KTHP | P57: LT | Q57: 90 | S57: 20 | T57: Dương Ngọc Vọng | U57: Lương Minh Dũng | X57: Lê Hồng Thái | Y57: Nguyễn Văn Danh | Z57: 20 | AB57: =IF(OR(O57="TLAI",F57=""),"",Z57=S57) -> TRUE
A58: =IF(F58="","",SUBTOTAL(3,$F$2:$F58)) -> 57 | B58: 050600116701 | C58: 20171215 | D58: 13h00 | E58: C3.1 - 04 | F58: 15TCN-KTD | H58: Kinh tế chính trị | I58: Phan Thị Thùy Trang | J58: R | K58: Phan Thị Thùy Trang | L58: 2 | M58: 2 | N58: LLCT | O58: KTHP | P58: LT | Q58: 90 | R58: 24 | S58: 24 | T58: Nguyễn Văn Sơn | U58: Trần Thị Ngọc Dung | X58: Phan Thị Thùy Trang | Y58: Lê Thị Hồng Vân | Z58: 24 | AB58: =IF(OR(O58="TLAI",F58=""),"",Z58=S58) -> TRUE
A59: =IF(F59="","",SUBTOTAL(3,$F$2:$F59)) -> 58 | B59: 050600116801 | C59: 20171215 | D59: 15h30 | E59: C3.1 - 04 | F59: 15TCN-KTD | H59: Kiểm toán | I59: Phạm Quỳnh Như | J59: R | K59: Phạm Quỳnh Như | L59: 2 | M59: 2 | N59: K-TE | O59: KTHP | P59: LT | Q59: 90 | R59: 24 | S59: 24 | T59: Trần Thị Ngọc Dung | U59: Nguyễn Mỹ Tiên | X59: Phạm Quỳnh Như | Y59: Lưu Thị Thúy | Z59: 24 | AB59: =IF(OR(O59="TLAI",F59=""),"",Z59=S59) -> TRUE
A60: =IF(F60="","",SUBTOTAL(3,$F$2:$F60)) -> 59 | B60: 050600116901 | C60: 20171218 | D60: 13h00 | E60: C3.1 - 04 | F60: 15TCN-KTD | H60: Luật kinh tế | I60: Đào Anh Tuấn | J60: R | K60: Đào Anh Tuấn | L60: 2 | M60: 2 | N60: K-TE | O60: KTHP | P60: LT | Q60: 90 | R60: 20 | S60: 19 | T60: Nguyễn Mỹ Tiên | U60: Trần Thị Ngọc Dung | V60: Phạm Thị Gia Tâm | X60: Đào Anh Tuấn | Y60: Trần Thị Ngọc Dung | Z60: 19 | AB60: =IF(OR(O60="TLAI",F60=""),"",Z60=S60) -> TRUE
A61: =IF(F61="","",SUBTOTAL(3,$F$2:$F61)) -> 60 | B61: 050600117001 | C61: 20171218 | D61: 15h30 | E61: C3.1 - 04 | F61: 15TCN-KTD | H61: Thị trường chứng khoán | I61: Phạm Thị Gia Tâm | J61: R | K61: Phạm Thị Gia Tâm | L61: 2 | M61: 2 | N61: K-TE | O61: KTHP | P61: LT | Q61: 90 | R61: 24 | S61: 24 | T61: Phạm Thị Gia Tâm | U61: Trần Thị Ngọc Dung | V61: Nguyễn Mỹ Tiên | X61: Phạm Thị Gia Tâm | Y61: Lê Xuân Thuỷ | Z61: 24 | AB61: =IF(OR(O61="TLAI",F61=""),"",Z61=S61) -> TRUE
A62: =IF(F62="","",SUBTOTAL(3,$F$2:$F62)) -> 61 | B62: 050600115502 | C62: 20171219 | D62: 13h00 | E62: H1.1 - 12 | F62: 15TCN-QTM1 | G62: 1 | H62: Hệ quản trị cơ sở dữ liệu Microsoft Access | I62: Nguyễn Thị Thu Hồng | J62: R | K62: Nguyễn Thị Thu Hồng | L62: 2 | M62: 2 | N62: CNTT | O62: KTHP | P62: LT | Q62: 120 | R62: 54 | S62: 34 | T62: Lê Tất Đạt | U62: Đặng Ngọc Đoàn | X62: Nguyễn Thị Thu Hồng | Y62: Nguyễn Thị Thủy(TT) | Z62: 34 | AB62: =IF(OR(O62="TLAI",F62=""),"",Z62=S62) -> TRUE
A63: =IF(F63="","",SUBTOTAL(3,$F$2:$F63)) -> 62 | B63: 050600115502 | C63: 20171219 | D63: 13h00 | E63: H1.1 - 13 | F63: 15TCN-QTM1 | G63: 2 | H63: Hệ quản trị cơ sở dữ liệu Microsoft Access | J63: R | N63: CNTT | O63: KTHP | P63: LT | Q63: 120 | S63: 20 | T63: Nguyễn Ngọc Tuyên | U63: Nguyễn Thị Thu Hồng | V63: Nguyễn Khoa | X63: Nguyễn Thị Thu Hồng | Y63: Nguyễn Thị Thủy(TT) | Z63: 20 | AB63: =IF(OR(O63="TLAI",F63=""),"",Z63=S63) -> TRUE
A64: =IF(F64="","",SUBTOTAL(3,$F$2:$F64)) -> 63 | B64: 050600117101 | C64: 20171220 | D64: 13h00 | E64: C3.1 - 03 | F64: 15TCN-KTD | H64: Kế toán hành chính sự nghiệp | I64: Bùi Ánh Tuyết | J64: R | K64: Bùi Ánh Tuyết | L64: 2 | M64: 2 | N64: K-TE | O64: KTHP | P64: LT | Q64: 90 | R64: 24 | S64: 24 | T64: Trần Thị Ngọc Dung | U64: Nguyễn Mỹ Tiên | V64: Lưu Thị Thúy | X64: Phaạm Quỳnh Như | Y64: Bùi Ánh Tuyết | Z64: 24 | AB64: =IF(OR(O64="TLAI",F64=""),"",Z64=S64) -> TRUE
A65: =IF(F65="","",SUBTOTAL(3,$F$2:$F65)) -> 64 | B65: 050600116601 | C65: 20171220 | D65: 15h30 | E65: C3.1 - 03 | F65: 15TCN-KTD | H65: Kế toán doanh nghiệp 2 | I65: Lưu Thị Thúy | J65: R | K65: Lưu Thị Thúy | L65: 2 | M65: 2 | N65: K-TE | O65: KTHP | P65: LT | Q65: 90 | R65: 22 | S65: 22 | T65: Trần Thị Ngọc Dung | U65: Nguyễn Mỹ Tiên | V65: Lưu Thị Thúy | X65: Lưu Thị Thúy | Y65: Phạm Quỳnh Như | Z65: 22 | AB65: =IF(OR(O65="TLAI",F65=""),"",Z65=S65) -> TRUE
A66: =IF(F66="","",SUBTOTAL(3,$F$2:$F66)) -> 65 | B66: 041000047601 | C66: 20171220 | D66: 18h00 | E66: C2.1 - 04 | F66: 15TC_HL1_KHCB2 | H66: Hóa học 2 | I66: Trần Kim Thu Liễu | J66: R | K66: Trần Kim Thu Liễu | L66: 2 | M66: 2 | N66: KHCB | O66: KTHP | P66: LT | Q66: 90 | R66: 20 | S66: 20 | T66: Trần Kim Thu Liễu | U66: Nguyễn Văn Hậu | X66: Trần Kim Thu Liễu | Y66: Nguyễn Huỳnh Mai Hạnh | Z66: 20 | AB66: =IF(OR(O66="TLAI",F66=""),"",Z66=S66) -> TRUE
A67: =IF(F67="","",SUBTOTAL(3,$F$2:$F67)) -> 66 | B67: 020200011001 | C67: 20171220 | D67: 18h00 | E67: C2.1 - 04 | F67: 16CĐ_HL1_KHCB | H67: Môi trường và con người | I67: Trần Kim Thu Liễu | J67: R | K67: Trần Kim Thu Liễu | L67: 2 | M67: 2 | N67: KHCB | O67: KTHP | P67: LT | Q67: 90 | R67: 3 | S67: 3 | X67: Lê Văn Bình | Y67: Trần Kim Thu Liễu | Z67: 3 | AB67: =IF(OR(O67="TLAI",F67=""),"",Z67=S67) -> TRUE
A68: =IF(F68="","",SUBTOTAL(3,$F$2:$F68)) -> 67 | B68: 041000046807 | C68: 20171220 | D68: 18h00 | E68: C2.1 - 04 | F68: 15TC_HL1_KHCB3 | H68: Toán 3 | I68: Nguyễn Văn Hậu | J68: R | K68: Nguyễn Văn Hậu | L68: 2 | M68: 2 | N68: KHCB | O68: KTHP | P68: LT | Q68: 90 | R68: 10 | S68: 10 | X68: Nguyễn Văn Hậu | Y68: Phạm Thị Thu Nga | Z68: 10 | AB68: =IF(OR(O68="TLAI",F68=""),"",Z68=S68) -> TRUE
A69: =IF(F69="","",SUBTOTAL(3,$F$2:$F69)) -> 68 | B69: 050600115401 | C69: 20171221 | D69: 13h00 | E69: F1.2 - 02 | F69: 15TCN-QTM1 | G69: 2 | H69: Quản trị mạng | J69: R | N69: CNTT | O69: KTHP | P69: LT | Q69: 90 | R69: 52 | S69: 18 | T69: Dương Ngọc Vọng | U69: Nguyễn Khoa | V69: Đỗ Tuấn Việt | X69: Dương Ngọc Vọng | Y69: Đỗ Tuấn Việt | Z69: 18 | AB69: =IF(OR(O69="TLAI",F69=""),"",Z69=S69) -> TRUE
A70: =IF(F70="","",SUBTOTAL(3,$F$2:$F70)) -> 69 | B70: 050600115401 | C70: 20171221 | D70: 13h00 | E70: H1.3 - 05 | F70: 15TCN-QTM1 | G70: 1 | H70: Quản trị mạng | I70: Lê Phi Trường | J70: R | K70: Lê Phi Trường | L70: 2 | M70: 2 | N70: CNTT | O70: KTHP | P70: LT | Q70: 90 | S70: 34 | T70: Lê Quý Hưng Quốc | U70: Lê Phi Trường | X70: Lê Quý Hưng Quốc | Y70: Lê Phi Trường | Z70: 34 | AB70: =IF(OR(O70="TLAI",F70=""),"",Z70=S70) -> TRUE
A71: =IF(F71="","",SUBTOTAL(3,$F$2:$F71)) -> 70 | B71: 050600115602 | C71: 20171221 | D71: 15h00 | E71: F1.2 - 02 | F71: 15TCN-QTM1 | G71: 2 | H71: Chuyên đề | J71: R | N71: CNTT | O71: KTHP | P71: LT | Q71: 90 | R71: 39 | S71: 19 | T71: Đỗ Tuấn Việt | U71: Dương Ngọc Vọng | V71: Nguyễn Khoa | X71: Đỗ Tuấn Việt | Y71: Dương Ngọc Vọng | Z71: 19 | AB71: =IF(OR(O71="TLAI",F71=""),"",Z71=S71) -> TRUE
A72: =IF(F72="","",SUBTOTAL(3,$F$2:$F72)) -> 71 | B72: 050600115602 | C72: 20171221 | D72: 15h00 | E72: H1.3 - 05 | F72: 15TCN-QTM1 | G72: 1 | H72: Chuyên đề | I72: Lê Quý Hưng Quốc | J72: R | K72: Lê Quý Hưng Quốc | L72: 2 | M72: 3 | N72: CNTT | O72: KTHP | P72: LT | Q72: 90 | S72: 20 | T72: Lê Quý Hưng Quốc | U72: Lê Phi Trường | X72: Lê Quý Hưng Quốc | Y72: Lê Phi Trường | Z72: 20 | AB72: =IF(OR(O72="TLAI",F72=""),"",Z72=S72) -> TRUE
A73: =IF(F73="","",SUBTOTAL(3,$F$2:$F73)) -> 72 | B73: 020200022601 | C73: 20171222 | D73: 18h00 | E73: C3.1 - 06 | F73: 16CĐ_HL1_CK | H73: Nguyên lý chi tiết máy | I73: Nguyễn Tiến Nhân | J73: R | K73: Nguyễn Tiến Nhân | L73: 2 | M73: 2 | N73: CKHI | O73: KTHP | P73: LT | Q73: 90 | R73: 26 | S73: 26 | T73: Nguyễn Tiến Nhân | U73: Trương Thị Phương Hồng | X73: Nguyễn Tiến Nhân | Y73: Nguyễn Tam Cương | Z73: 26 | AB73: =IF(OR(O73="TLAI",F73=""),"",Z73=S73) -> TRUE
A74: =IF(F74="","",SUBTOTAL(3,$F$2:$F74)) -> 73 | B74: 030600112901 | C74: 20171225 | D74: 07h30 | E74: C3.3 - 04 | F74: 15CĐN-QTD | H74: Tài chính quốc tế | I74: Lữ Xuân Trang | J74: R | K74: Lữ Xuân Trang | L74: 2 | M74: 2 | N74: K-TE | O74: KTHP | P74: LT | Q74: 90 | R74: 13 | S74: 13 | T74: Lữ Xuân Trang | U74: Lưu Thị Thúy | V74: Đỗ Thị Ngát | X74: Lữ Xuân Trang | Y74: Lê Thị Thu Thảo | Z74: 13 | AB74: =IF(OR(O74="TLAI",F74=""),"",Z74=S74) -> TRUE
A75: =IF(F75="","",SUBTOTAL(3,$F$2:$F75)) -> 74 | B75: 020200002801 | C75: 20171225 | D75: 08h00 | E75: D2.1 - 01 | F75: 15CĐ-CTM4 | G75: 1 | H75: Công nghệ CAD/CAM | I75: Trương Thị Phương Hồng | J75: R | N75: CKHI | O75: KTHP | P75: LT | Q75: 120 | R75: 40 | S75: 33 | T75: Nguyễn Thành Long | U75: Nguyễn Ngọc Quỳnh(CK) | V75: Chung Trần Thế Vinh | X75: Nguyễn Tiến Nhân | Y75: Trương Thị Phương Hồng | Z75: 33 | AB75: =IF(OR(O75="TLAI",F75=""),"",Z75=S75) -> TRUE
A76: =IF(F76="","",SUBTOTAL(3,$F$2:$F76)) -> 75 | B76: 020200002801 | C76: 20171225 | D76: 08h00 | E76: D3.1 - 01 | F76: 15CĐ-CTM4 | G76: 2 | H76: Công nghệ CAD/CAM | J76: R | N76: CKHI | O76: KTHP | P76: LT | Q76: 120 | S76: 32 | T76: Nguyễn Tiến Dũng | U76: Bùi Anh Tuấn | X76: Nguyễn Tiến Nhân | Y76: Trương Thị Phương Hồng | Z76: 32 | AB76: =IF(OR(O76="TLAI",F76=""),"",Z76=S76) -> TRUE
A77: =IF(F77="","",SUBTOTAL(3,$F$2:$F77)) -> 76 | B77: 071400106401 | C77: 20171225 | D77: 7h30 | E77: C2.1 - 03 | F77: 17T4-THU1 | G77: 1 | H77: Chính trị | I77: Lê Thị Mai Hường | J77: R | N77: LLCT | O77: KTHP | P77: LT | Q77: 90 | R77: 66 | S77: 31 | T77: Huỳnh Ngọc Mai | U77: Bùi Thành Dũng | V77: Nguyễn Thị Dinh | X77: Nguyễn Thị Dinh | Y77: Phan Thị Thùy Trang | Z77: 31 | AB77: =IF(OR(O77="TLAI",F77=""),"",Z77=S77) -> TRUE
A78: =IF(F78="","",SUBTOTAL(3,$F$2:$F78)) -> 77 | B78: 071400106401 | C78: 20171225 | D78: 7h30 | E78: C2.1 - 04 | F78: 17T4-THU1 | G78: 2 | H78: Chính trị | J78: R | N78: LLCT | O78: KTHP | P78: LT | Q78: 90 | S78: 33 | T78: Trần Thị Hồng Thu | U78: Nguyễn Ngọc Trí | X78: Nguyễn Thị Dinh | Y78: Phan Thị Thùy Trang | Z78: 33 | AB78: =IF(OR(O78="TLAI",F78=""),"",Z78=S78) -> TRUE
A79: =IF(F79="","",SUBTOTAL(3,$F$2:$F79)) -> 78 | B79: 071400106402 | C79: 20171225 | D79: 7h30 | E79: C2.1 - 05 | F79: 17T4-CCK1 | G79: 3 | H79: Chính trị | I79: Lê Thị Hồng Vân | J79: R | N79: LLCT | O79: KTHP | P79: LT | Q79: 90 | R79: 36 | S79: 33 | T79: Phan Thị Thùy Trang | U79: Phạm Thị Thu Nga | X79: Nguyễn Thị Dinh | Y79: Phan Thị Thùy Trang | Z79: 33 | AB79: =IF(OR(O79="TLAI",F79=""),"",Z79=S79) -> TRUE
A80: =IF(F80="","",SUBTOTAL(3,$F$2:$F80)) -> 79 | B80: 071400106402 | C80: 20171225 | D80: 7h30 | E80: C2.2 - 01 | F80: 17T4-CCK1 | G80: 4 | H80: Chính trị | J80: R | N80: LLCT | O80: KTHP | P80: LT | Q80: 90 | S80: 33 | T80: Phạm Thị Thu Hiền | U80: Trần Quốc Duy | X80: Lê Thị Hồng Vân | Y80: Đỗ Thị Ngát | Z80: 33 | AB80: =IF(OR(O80="TLAI",F80=""),"",Z80=S80) -> TRUE
A81: =IF(F81="","",SUBTOTAL(3,$F$2:$F81)) -> 80 | B81: 071400106403 | C81: 20171225 | D81: 7h30 | E81: C2.2 - 02 | F81: 17T4-CNÔ1 | G81: 5 | H81: Chính trị | I81: Nguyễn Thị Dinh | J81: R | N81: LLCT | O81: KTHP | P81: LT | Q81: 90 | R81: 50 | S81: 32 | T81: Võ Thị Hồng Lan | U81: Đỗ Trọng Quý | X81: Lê Thị Hồng Vân | Y81: Đỗ Thị Ngát | Z81: 32 | AB81: =IF(OR(O81="TLAI",F81=""),"",Z81=S81) -> TRUE
A82: =IF(F82="","",SUBTOTAL(3,$F$2:$F82)) -> 81 | B82: 071400106403 | C82: 20171225 | D82: 7h30 | E82: C2.2 - 03 | F82: 17T4-CNÔ1 | G82: 6 | H82: Chính trị | J82: R | N82: LLCT | O82: KTHP | P82: LT | Q82: 90 | S82: 34 | T82: Nguyễn Thị Thu Tâm | U82: Trần Đình Khoa | X82: Lê Thị Hồng Vân | Y82: Đỗ Thị Ngát | Z82: 34 | AB82: =IF(OR(O82="TLAI",F82=""),"",Z82=S82) -> TRUE
A83: =IF(F83="","",SUBTOTAL(3,$F$2:$F83)) -> 82 | B83: 071400106404 | C83: 20171225 | D83: 7h30 | E83: C2.2 - 05 | F83: 17T4-TKW1 | G83: 7 | H83: Chính trị | I83: Đinh Thị Huyên | J83: R | N83: LLCT | O83: KTHP | P83: LT | Q83: 90 | R83: 27 | S83: 30 | T83: Nguyễn Thanh Hùng | U83: Vương Thanh Thủy | X83: Nguyễn Ngọc Quỳnh | Y83: Đinh Thị Huyên | Z83: 30 | AB83: =IF(OR(O83="TLAI",F83=""),"",Z83=S83) -> TRUE
A84: =IF(F84="","",SUBTOTAL(3,$F$2:$F84)) -> 83 | B84: 071400106404 | C84: 20171225 | D84: 7h30 | E84: C2.3 - 01 | F84: 17T4-TKW1 | G84: 8 | H84: Chính trị | J84: R | N84: LLCT | O84: KTHP | P84: LT | Q84: 90 | S84: 32 | T84: Lê Nguyễn Mỹ Trâm | U84: Đặng Thị Nhật Minh | V84: Hoàng Phúc Bảo | X84: Nguyễn Thị Dinh | Y84: Phan Thị Thùy Trang | Z84: 32 | AB84: =IF(OR(O84="TLAI",F84=""),"",Z84=S84) -> TRUE
A85: =IF(F85="","",SUBTOTAL(3,$F$2:$F85)) -> 84 | B85: 071400106405 | C85: 20171225 | D85: 7h30 | E85: C2.3 - 03 | F85: 17T4-CMT1 | G85: 9 | H85: Chính trị | I85: Nguyễn Thị Dinh | J85: R | N85: LLCT | O85: KTHP | P85: LT | Q85: 90 | R85: 30 | S85: 33 | T85: Đào Anh Tuấn | U85: Cao Thị Nga | X85: Nguyễn Thị Dinh | Y85: Phan Thị Thùy Trang | Z85: 33 | AB85: =IF(OR(O85="TLAI",F85=""),"",Z85=S85) -> TRUE
A86: =IF(F86="","",SUBTOTAL(3,$F$2:$F86)) -> 85 | B86: 071400106405 | C86: 20171225 | D86: 7h30 | E86: C2.3 - 04 | F86: 17T4-CMT1 | G86: 10 | H86: Chính trị | J86: R | N86: LLCT | O86: KTHP | P86: LT | Q86: 90 | S86: 33 | T86: Nguyễn Thị Thanh Tú | U86: Nguyễn Minh Đức(B) | X86: Nguyễn Thị Dinh | Y86: Phan Thị Thùy Trang | Z86: 33 | AB86: =IF(OR(O86="TLAI",F86=""),"",Z86=S86) -> TRUE
A87: =IF(F87="","",SUBTOTAL(3,$F$2:$F87)) -> 86 | B87: 071400106406 | C87: 20171225 | D87: 7h30 | E87: C2.3 - 05 | F87: 17T4-LTM1 | G87: 11 | H87: Chính trị | I87: Phan Thị Thùy Trang | J87: R | N87: LLCT | O87: KTHP | P87: LT | Q87: 90 | R87: 55 | S87: 35 | T87: Trần Thị Ánh Tuyết | U87: Trần Văn Lượng | X87: Nguyễn Ngọc Quỳnh | Y87: Đinh Thị Huyên | Z87: 35 | AB87: =IF(OR(O87="TLAI",F87=""),"",Z87=S87) -> TRUE
A88: =IF(F88="","",SUBTOTAL(3,$F$2:$F88)) -> 87 | B88: 071400106407 | C88: 20171225 | D88: 7h30 | E88: C3.1 - 03 | F88: 17T4-QTM1 | G88: 12 | H88: Chính trị | I88: Lê Thị Mai Hường | J88: R | N88: LLCT | O88: KTHP | P88: LT | Q88: 90 | R88: 35 | S88: 32 | T88: Nguyễn Huỳnh Mai Hạnh | U88: Bùi Ánh Tuyết | X88: Nguyễn Ngọc Quỳnh | Y88: Đinh Thị Huyên | Z88: 32 | AB88: =IF(OR(O88="TLAI",F88=""),"",Z88=S88) -> TRUE
A89: =IF(F89="","",SUBTOTAL(3,$F$2:$F89)) -> 88 | B89: 071400106408 | C89: 20171225 | D89: 7h30 | E89: C3.1 - 04 | F89: 17T4-CKL1 | G89: 13 | H89: Chính trị | I89: Lê Thị Mai Hường | J89: R | N89: LLCT | O89: KTHP | P89: LT | Q89: 90 | R89: 16 | S89: 32 | T89: Trần Thị Ngọc Dung | U89: Hà Quốc Bảo | X89: Nguyễn Ngọc Quỳnh | Y89: Đinh Thị Huyên | Z89: 32 | AB89: =IF(OR(O89="TLAI",F89=""),"",Z89=S89) -> TRUE
A90: =IF(F90="","",SUBTOTAL(3,$F$2:$F90)) -> 89 | B90: 071400106409 | C90: 20171225 | D90: 7h30 | E90: C3.1 - 05 | F90: 17T4-CNM1 | G90: 14 | H90: Chính trị | I90: Nguyễn Thị Dinh | J90: R | N90: LLCT | O90: KTHP | P90: LT | Q90: 90 | R90: 46 | S90: 31 | T90: Nguyễn Minh Đức(A) | U90: Phan Văn Hòa | X90: Nguyễn Ngọc Quỳnh | Y90: Đinh Thị Huyên | Z90: 31 | AB90: =IF(OR(O90="TLAI",F90=""),"",Z90=S90) -> TRUE
A91: =IF(F91="","",SUBTOTAL(3,$F$2:$F91)) -> 90 | B91: 071400106410 | C91: 20171225 | D91: 7h30 | E91: C3.1 - 06 | F91: 17T4-CNÔ2 | G91: 15 | H91: Chính trị | I91: Nguyễn Ngọc Quỳnh | J91: R | K91: Nguyễn Ngọc Quỳnh | L91: 2 | M91: 2 | N91: LLCT | O91: KTHP | P91: LT | Q91: 90 | R91: 48 | S91: 32 | T91: Đặng Thế Huân | U91: Nguyễn Thị Ngọc Hiền | X91: Nguyễn Ngọc Quỳnh | Y91: Đinh Thị Huyên | Z91: 32 | AB91: =IF(OR(O91="TLAI",F91=""),"",Z91=S91) -> TRUE
A92: =IF(F92="","",SUBTOTAL(3,$F$2:$F92)) -> 91 | B92: 071400106411 | C92: 20171225 | D92: 7h30 | E92: C3.2 - 01 | F92: 17T4-CNÔ3 | G92: 16 | H92: Chính trị | I92: Nguyễn Thị Dinh | J92: R | N92: LLCT | O92: KTHP | P92: LT | Q92: 90 | R92: 46 | S92: 31 | T92: Lê Thị Hồng Vân | U92: Đặng Thái Sơn | V92: Nguyễn Ngọc Tuyên | X92: Nguyễn Thị Dinh | Y92: Phan Thị Thùy Trang | Z92: 31 | AB92: =IF(OR(O92="TLAI",F92=""),"",Z92=S92) -> TRUE
A93: =IF(F93="","",SUBTOTAL(3,$F$2:$F93)) -> 92 | B93: 071400106412 | C93: 20171225 | D93: 7h30 | E93: C3.2 - 02 | F93: 17T4-CCK2 | G93: 17 | H93: Chính trị | I93: Đỗ Thị Ngát | J93: R | N93: LLCT | O93: KTHP | P93: LT | Q93: 90 | R93: 44 | S93: 31 | T93: Lê Xuân Thủy | U93: Hồ Văn Hóa | X93: Nguyễn Thị Dinh | Y93: Phan Thị Thùy Trang | Z93: 31 | AB93: =IF(OR(O93="TLAI",F93=""),"",Z93=S93) -> TRUE
A94: =IF(F94="","",SUBTOTAL(3,$F$2:$F94)) -> 93 | B94: 071400106413 | C94: 20171225 | D94: 7h30 | E94: C3.2 - 03 | F94: 17T4-CNÔ4 | G94: 18 | H94: Chính trị | I94: Nguyễn Thị Dinh | J94: R | N94: LLCT | O94: KTHP | P94: LT | Q94: 90 | R94: 28 | AB94: =IF(OR(O94="TLAI",F94=""),"",Z94=S94) -> TRUE
A95: =IF(F95="","",SUBTOTAL(3,$F$2:$F95)) -> 94 | B95: 071400106414 | C95: 20171225 | D95: 7h30 | E95: C3.3 - 01 | F95: 17T4-QTM2 | G95: 19 | H95: Chính trị | I95: Phan Thị Thùy Trang | J95: R | N95: LLCT | O95: KTHP | P95: LT | Q95: 90 | R95: 21 | AB95: =IF(OR(O95="TLAI",F95=""),"",Z95=S95) -> TRUE
A96: =IF(F96="","",SUBTOTAL(3,$F$2:$F96)) -> 95 | B96: 071300118701 | C96: 20171225 | D96: 7h30 | E96: C3.3 - 03 | F96: 17T2-QTM1 | H96: Chính trị | I96: Nguyễn Anh Kiệt | J96: R | N96: LLCT | O96: KTHP | P96: LT | Q96: 90 | R96: 37 | S96: 37 | T96: Nguyễn Mỹ Tiên | U96: Trần Nguyên Bảo Trân | X96: Nguyễn Thị Dinh | Y96: Phan Thị Thùy Trang | Z96: 37 | AB96: =IF(OR(O96="TLAI",F96=""),"",Z96=S96) -> TRUE
A97: =IF(F97="","",SUBTOTAL(3,$F$2:$F97)) -> 96 | B97: 020200003001 | C97: 20171227 | D97: 08h00 | E97: D2.1 - 01 | F97: 15CĐ-CTM4 | G97: 1 | H97: Công nghệ CNC | I97: Bùi Anh Tuấn | J97: R | K97: Bùi Anh Tuấn | L97: 2 | M97: 4 | N97: CKHI | O97: KTHP | P97: LT | Q97: 120 | R97: 42 | S97: 32 | T97: Trần Minh Thông | U97: Chung Trần Thế Vinh | V97: Nguyễn Tiến Dũng | X97: Trần Minh Thông | Y97: Chung Trần Thế Vinh | Z97: 32 | AB97: =IF(OR(O97="TLAI",F97=""),"",Z97=S97) -> TRUE
A98: =IF(F98="","",SUBTOTAL(3,$F$2:$F98)) -> 97 | B98: 020200003001 | C98: 20171227 | D98: 08h00 | E98: D3.1 - 01 | F98: 15CĐ-CTM4 | G98: 2 | H98: Công nghệ CNC | J98: R | N98: CKHI | O98: KTHP | P98: LT | Q98: 120 | S98: 34 | T98: Nguyễn Ngọc Quỳnh(CK) | U98: Lư Thị Yến Vũ | X98: Trần Minh Thông | Y98: Chung Trần Thế Vinh | Z98: 34 | AB98: =IF(OR(O98="TLAI",F98=""),"",Z98=S98) -> TRUE
A99: =IF(F99="","",SUBTOTAL(3,$F$2:$F99)) -> 98 | B99: 071400106801 | C99: 20171227 | D99: 10h00 | E99: C2.1 - 03 | F99: 17T4-CCK1 | G99: 1 | H99: An toàn lao động | I99: Nguyễn Ngọc Quỳnh | J99: R | K99: Nguyễn Ngọc Quỳnh(CK) | L99: 2 | M99: 4 | N99: CKHI | O99: KTHP | P99: TN | Q99: 60 | R99: 22 | S99: 28 | T99: Nguyễn Thị Thủy(TT) | U99: Bùi Thành Dũng | V99: Ngô Phong Cường | AB99: =IF(OR(O99="TLAI",F99=""),"",Z99=S99) -> FALSE
A100: =IF(F100="","",SUBTOTAL(3,$F$2:$F100)) -> 99 | B100: 071400106801 | C100: 20171227 | D100: 10h00 | E100: C2.1 - 04 | F100: 17T4-CCK1 | G100: 2 | H100: An toàn lao động | J100: R | N100: CKHI | O100: KTHP | P100: TN | Q100: 60 | S100: 27 | T100: Võ Phước Quang | U100: Nguyễn Thanh Hùng | V100: Trần Thị Ngọc Dung | AB100: =IF(OR(O100="TLAI",F100=""),"",Z100=S100) -> FALSE
...

Sheet QL THI
A1: KHỐI, LỚP | B1: NGÀY THI | C1: CA THI | D1: TG THI MAX | E1: CB GIÁM SÁT | F1: KL G.SÁT | G1: CB CT DỰ PHÒNG | H1: KL D.PHÒNG
A2: =IF(TONGHOP!F2="","",TONGHOP!F2) -> 16CĐ_HL1_KHCB | B2: =IF(TONGHOP!C2="","",TONGHOP!C2) -> 20171024 | C2: =IF(TONGHOP!D2="","",TONGHOP!D2) -> 15h00 | D2: =IF(TONGHOP!Q2="","",TONGHOP!Q2) -> 90 | E2: =IF(TONGHOP!V2="","",IF(OR(TONGHOP!O2="KTHP",TONGHOP!O2="ThiTN"),TONGHOP!V2,"")) | F2: =IF(E2="","",D2*0.3/60) | G2: =IF(TONGHOP!W2="","",IF(OR(TONGHOP!O2="KTHP",TONGHOP!O2="ThiTN"),TONGHOP!W2,"")) | H2: =IF(G2="","",D2*0.3/60)
A3: =IF(TONGHOP!F3="","",TONGHOP!F3) -> 16CĐ_HL1_KHCB | B3: =IF(TONGHOP!C3="","",TONGHOP!C3) -> 20171024 | C3: =IF(TONGHOP!D3="","",TONGHOP!D3) -> 15h00 | D3: =IF(TONGHOP!Q3="","",TONGHOP!Q3) -> 90 | E3: =IF(TONGHOP!V3="","",IF(OR(TONGHOP!O3="KTHP",TONGHOP!O3="ThiTN"),TONGHOP!V3,"")) | F3: =IF(E3="","",D3*0.3/60) | G3: =IF(TONGHOP!W3="","",IF(OR(TONGHOP!O3="KTHP",TONGHOP!O3="ThiTN"),TONGHOP!W3,"")) | H3: =IF(G3="","",D3*0.3/60)
A4: =IF(TONGHOP!F4="","",TONGHOP!F4) -> 16CĐ_HL1_KHCB | B4: =IF(TONGHOP!C4="","",TONGHOP!C4) -> 20171024 | C4: =IF(TONGHOP!D4="","",TONGHOP!D4) -> 15h00 | D4: =IF(TONGHOP!Q4="","",TONGHOP!Q4) -> 90 | E4: =IF(TONGHOP!V4="","",IF(OR(TONGHOP!O4="KTHP",TONGHOP!O4="ThiTN"),TONGHOP!V4,"")) | F4: =IF(E4="","",D4*0.3/60) | G4: =IF(TONGHOP!W4="","",IF(OR(TONGHOP!O4="KTHP",TONGHOP!O4="ThiTN"),TONGHOP!W4,"")) | H4: =IF(G4="","",D4*0.3/60)
A5: =IF(TONGHOP!F5="","",TONGHOP!F5) -> 16CĐ-LTCNTT; 16CĐ-LTĐ; 16CĐ-LTÔTÔ | B5: =IF(TONGHOP!C5="","",TONGHOP!C5) -> 20171114 | C5: =IF(TONGHOP!D5="","",TONGHOP!D5) -> 18h00 | D5: =IF(TONGHOP!Q5="","",TONGHOP!Q5) -> 90 | E5: =IF(TONGHOP!V5="","",IF(OR(TONGHOP!O5="KTHP",TONGHOP!O5="ThiTN"),TONGHOP!V5,"")) | F5: =IF(E5="","",D5*0.3/60) | G5: =IF(TONGHOP!W5="","",IF(OR(TONGHOP!O5="KTHP",TONGHOP!O5="ThiTN"),TONGHOP!W5,"")) | H5: =IF(G5="","",D5*0.3/60)
A6: =IF(TONGHOP!F6="","",TONGHOP!F6) -> 16CĐ-LTCNTT; 16CĐ-LTĐ; 16CĐ-LTÔTÔ | B6: =IF(TONGHOP!C6="","",TONGHOP!C6) -> 20171114 | C6: =IF(TONGHOP!D6="","",TONGHOP!D6) -> 18h00 | D6: =IF(TONGHOP!Q6="","",TONGHOP!Q6) -> 90 | E6: =IF(TONGHOP!V6="","",IF(OR(TONGHOP!O6="KTHP",TONGHOP!O6="ThiTN"),TONGHOP!V6,"")) | F6: =IF(E6="","",D6*0.3/60) | G6: =IF(TONGHOP!W6="","",IF(OR(TONGHOP!O6="KTHP",TONGHOP!O6="ThiTN"),TONGHOP!W6,"")) | H6: =IF(G6="","",D6*0.3/60)
A7: =IF(TONGHOP!F7="","",TONGHOP!F7) -> 16CĐ-LTCNTT; 16CĐ-LTĐ; 16CĐ-LTÔTÔ | B7: =IF(TONGHOP!C7="","",TONGHOP!C7) -> 20171114 | C7: =IF(TONGHOP!D7="","",TONGHOP!D7) -> 20h00 | D7: =IF(TONGHOP!Q7="","",TONGHOP!Q7) -> 90 | E7: =IF(TONGHOP!V7="","",IF(OR(TONGHOP!O7="KTHP",TONGHOP!O7="ThiTN"),TONGHOP!V7,"")) | F7: =IF(E7="","",D7*0.3/60) | G7: =IF(TONGHOP!W7="","",IF(OR(TONGHOP!O7="KTHP",TONGHOP!O7="ThiTN"),TONGHOP!W7,"")) | H7: =IF(G7="","",D7*0.3/60)
A8: =IF(TONGHOP!F8="","",TONGHOP!F8) -> 15CĐ-CĐT1 | B8: =IF(TONGHOP!C8="","",TONGHOP!C8) -> 20171120 | C8: =IF(TONGHOP!D8="","",TONGHOP!D8) -> 7h30 | D8: =IF(TONGHOP!Q8="","",TONGHOP!Q8) -> 90 | E8: =IF(TONGHOP!V8="","",IF(OR(TONGHOP!O8="KTHP",TONGHOP!O8="ThiTN"),TONGHOP!V8,"")) | F8: =IF(E8="","",D8*0.3/60) | G8: =IF(TONGHOP!W8="","",IF(OR(TONGHOP!O8="KTHP",TONGHOP!O8="ThiTN"),TONGHOP!W8,"")) | H8: =IF(G8="","",D8*0.3/60)
A9: =IF(TONGHOP!F9="","",TONGHOP!F9) -> 15CĐ-CĐT1 | B9: =IF(TONGHOP!C9="","",TONGHOP!C9) -> 20171120 | C9: =IF(TONGHOP!D9="","",TONGHOP!D9) -> 7h30 | D9: =IF(TONGHOP!Q9="","",TONGHOP!Q9) -> 90 | E9: =IF(TONGHOP!V9="","",IF(OR(TONGHOP!O9="KTHP",TONGHOP!O9="ThiTN"),TONGHOP!V9,"")) | F9: =IF(E9="","",D9*0.3/60) | G9: =IF(TONGHOP!W9="","",IF(OR(TONGHOP!O9="KTHP",TONGHOP!O9="ThiTN"),TONGHOP!W9,"")) | H9: =IF(G9="","",D9*0.3/60)
A10: =IF(TONGHOP!F10="","",TONGHOP!F10) -> 15TC-Ô | B10: =IF(TONGHOP!C10="","",TONGHOP!C10) -> 20171121 | C10: =IF(TONGHOP!D10="","",TONGHOP!D10) -> 15h00 | D10: =IF(TONGHOP!Q10="","",TONGHOP!Q10) -> 120 | E10: =IF(TONGHOP!V10="","",IF(OR(TONGHOP!O10="KTHP",TONGHOP!O10="ThiTN"),TONGHOP!V10,"")) | F10: =IF(E10="","",D10*0.3/60) | G10: =IF(TONGHOP!W10="","",IF(OR(TONGHOP!O10="KTHP",TONGHOP!O10="ThiTN"),TONGHOP!W10,"")) | H10: =IF(G10="","",D10*0.3/60)
A11: =IF(TONGHOP!F11="","",TONGHOP!F11) -> 16CĐ-CĐT1 | B11: =IF(TONGHOP!C11="","",TONGHOP!C11) -> 20171121 | C11: =IF(TONGHOP!D11="","",TONGHOP!D11) -> 9h30 | D11: =IF(TONGHOP!Q11="","",TONGHOP!Q11) -> 90 | E11: =IF(TONGHOP!V11="","",IF(OR(TONGHOP!O11="KTHP",TONGHOP!O11="ThiTN"),TONGHOP!V11,"")) | F11: =IF(E11="","",D11*0.3/60) | G11: =IF(TONGHOP!W11="","",IF(OR(TONGHOP!O11="KTHP",TONGHOP!O11="ThiTN"),TONGHOP!W11,"")) | H11: =IF(G11="","",D11*0.3/60)
A12: =IF(TONGHOP!F12="","",TONGHOP!F12) -> 16CĐ-CNC1 | B12: =IF(TONGHOP!C12="","",TONGHOP!C12) -> 20171121 | C12: =IF(TONGHOP!D12="","",TONGHOP!D12) -> 9h30 | D12: =IF(TONGHOP!Q12="","",TONGHOP!Q12) -> 90 | E12: =IF(TONGHOP!V12="","",IF(OR(TONGHOP!O12="KTHP",TONGHOP!O12="ThiTN"),TONGHOP!V12,"")) | F12: =IF(E12="","",D12*0.3/60) | G12: =IF(TONGHOP!W12="","",IF(OR(TONGHOP!O12="KTHP",TONGHOP!O12="ThiTN"),TONGHOP!W12,"")) | H12: =IF(G12="","",D12*0.3/60)
A13: =IF(TONGHOP!F13="","",TONGHOP!F13) -> 15CĐ-CĐT1 | B13: =IF(TONGHOP!C13="","",TONGHOP!C13) -> 20171122 | C13: =IF(TONGHOP!D13="","",TONGHOP!D13) -> 9h30 | D13: =IF(TONGHOP!Q13="","",TONGHOP!Q13) -> 90 | E13: =IF(TONGHOP!V13="","",IF(OR(TONGHOP!O13="KTHP",TONGHOP!O13="ThiTN"),TONGHOP!V13,"")) | F13: =IF(E13="","",D13*0.3/60) | G13: =IF(TONGHOP!W13="","",IF(OR(TONGHOP!O13="KTHP",TONGHOP!O13="ThiTN"),TONGHOP!W13,"")) | H13: =IF(G13="","",D13*0.3/60)
... A95: =IF(TONGHOP!F95="","",TONGHOP!F95) -> 17T4-QTM2 | B95: =IF(TONGHOP!C95="","",TONGHOP!C95) -> 20171225 | C95: =IF(TONGHOP!D95="","",TONGHOP!D95) -> 7h30 | D95: =IF(TONGHOP!Q95="","",TONGHOP!Q95) -> 90 | E95: =IF(TONGHOP!V95="","",IF(OR(TONGHOP!O95="KTHP",TONGHOP!O95="ThiTN"),TONGHOP!V95,"")) | F95: =IF(E95="","",D95*0.3/60) | G95: =IF(TONGHOP!W95="","",IF(OR(TONGHOP!O95="KTHP",TONGHOP!O95="ThiTN"),TONGHOP!W95,"")) | H95: =IF(G95="","",D95*0.3/60)
A96: =IF(TONGHOP!F96="","",TONGHOP!F96) -> 17T2-QTM1 | B96: =IF(TONGHOP!C96="","",TONGHOP!C96) -> 20171225 | C96: =IF(TONGHOP!D96="","",TONGHOP!D96) -> 7h30 | D96: =IF(TONGHOP!P96="","",TONGHOP!P96) -> LT | E96: =IF(TONGHOP!V96="","",IF(OR(TONGHOP!N96="KTHP",TONGHOP!N96="ThiTN"),TONGHOP!V96,"")) | F96: =IF(E96="","",D96*0.3/60) | G96: =IF(TONGHOP!W96="","",IF(OR(TONGHOP!N96="KTHP",TONGHOP!N96="ThiTN"),TONGHOP!W96,"")) | H96: =IF(G96="","",D96*0.3/60)
A97: =IF(TONGHOP!F97="","",TONGHOP!F97) -> 15CĐ-CTM4 | B97: =IF(TONGHOP!C97="","",TONGHOP!C97) -> 20171227 | C97: =IF(TONGHOP!D97="","",TONGHOP!D97) -> 08h00 | D97: =IF(TONGHOP!Q97="","",TONGHOP!Q97) -> 120 | E97: =IF(TONGHOP!V97="","",IF(OR(TONGHOP!O97="KTHP",TONGHOP!O97="ThiTN"),TONGHOP!V97,"")) -> Nguyễn Tiến Dũng | F97: =IF(E97="","",D97*0.3/60) -> 0.6 | G97: =IF(TONGHOP!W97="","",IF(OR(TONGHOP!O97="KTHP",TONGHOP!O97="ThiTN"),TONGHOP!W97,"")) | H97: =IF(G97="","",D97*0.3/60)
A98: =IF(TONGHOP!F98="","",TONGHOP!F98) -> 15CĐ-CTM4 | B98: =IF(TONGHOP!C98="","",TONGHOP!C98) -> 20171227 | C98: =IF(TONGHOP!D98="","",TONGHOP!D98) -> 08h00 | D98: =IF(TONGHOP!Q98="","",TONGHOP!Q98) -> 120 | E98: =IF(TONGHOP!V98="","",IF(OR(TONGHOP!O98="KTHP",TONGHOP!O98="ThiTN"),TONGHOP!V98,"")) | F98: =IF(E98="","",D98*0.3/60) | G98: =IF(TONGHOP!W98="","",IF(OR(TONGHOP!O98="KTHP",TONGHOP!O98="ThiTN"),TONGHOP!W98,"")) | H98: =IF(G98="","",D98*0.3/60)
A99: =IF(TONGHOP!F99="","",TONGHOP!F99) -> 17T4-CCK1 | B99: =IF(TONGHOP!C99="","",TONGHOP!C99) -> 20171227 | C99: =IF(TONGHOP!D99="","",TONGHOP!D99) -> 10h00 | D99: =IF(TONGHOP!Q99="","",TONGHOP!Q99) -> 60 | E99: =IF(TONGHOP!V99="","",IF(OR(TONGHOP!O99="KTHP",TONGHOP!O99="ThiTN"),TONGHOP!V99,"")) -> Ngô Phong Cường | F99: =IF(E99="","",D99*0.3/60) -> 0.3 | G99: =IF(TONGHOP!W99="","",IF(OR(TONGHOP!O99="KTHP",TONGHOP!O99="ThiTN"),TONGHOP!W99,"")) | H99: =IF(G99="","",D99*0.3/60)
A100: =IF(TONGHOP!F100="","",TONGHOP!F100) -> 17T4-CCK1 | B100: =IF(TONGHOP!C100="","",TONGHOP!C100) -> 20171227 | C100: =IF(TONGHOP!D100="","",TONGHOP!D100) -> 10h00 | D100: =IF(TONGHOP!Q100="","",TONGHOP!Q100) -> 60 | E100: =IF(TONGHOP!V100="","",IF(OR(TONGHOP!O100="KTHP",TONGHOP!O100="ThiTN"),TONGHOP!V100,"")) -> Trần Thị Ngọc Dung | F100: =IF(E100="","",D100*0.3/60) -> 0.3 | G100: =IF(TONGHOP!W100="","",IF(OR(TONGHOP!O100="KTHP",TONGHOP!O100="ThiTN"),TONGHOP!W100,"")) | H100: =IF(G100="","",D100*0.3/60)
A101: =IF(TONGHOP!F101="","",TONGHOP!F101) -> 17T4-CKL1 | B101: =IF(TONGHOP!C101="","",TONGHOP!C101) -> 20171227 | C101: =IF(TONGHOP!D101="","",TONGHOP!D101) -> 10h00 | D101: =IF(TONGHOP!Q101="","",TONGHOP!Q101) -> 60 | E101: =IF(TONGHOP!V101="","",IF(OR(TONGHOP!O101="KTHP",TONGHOP!O101="ThiTN"),TONGHOP!V101,"")) | F101: =IF(E101="","",D101*0.3/60) | G101: =IF(TONGHOP!W101="","",IF(OR(TONGHOP!O101="KTHP",TONGHOP!O101="ThiTN"),TONGHOP!W101,"")) | H101: =IF(G101="","",D101*0.3/60)
A102: =IF(TONGHOP!F102="","",TONGHOP!F102) -> 17T4-CCK2 | B102: =IF(TONGHOP!C102="","",TONGHOP!C102) -> 20171227 | C102: =IF(TONGHOP!D102="","",TONGHOP!D102) -> 10h00 | D102: =IF(TONGHOP!Q102="","",TONGHOP!Q102) -> 60 | E102: =IF(TONGHOP!V102="","",IF(OR(TONGHOP!O102="KTHP",TONGHOP!O102="ThiTN"),TONGHOP!V102,"")) | F102: =IF(E102="","",D102*0.3/60) | G102: =IF(TONGHOP!W102="","",IF(OR(TONGHOP!O102="KTHP",TONGHOP!O102="ThiTN"),TONGHOP!W102,"")) | H102: =IF(G102="","",D102*0.3/60)
A103: =IF(TONGHOP!F103="","",TONGHOP!F103) -> 17T4-LĐL1 | B103: =IF(TONGHOP!C103="","",TONGHOP!C103) -> 20171227 | C103: =IF(TONGHOP!D103="","",TONGHOP!D103) -> 10h00 | D103: =IF(TONGHOP!Q103="","",TONGHOP!Q103) -> 60 | E103: =IF(TONGHOP!V103="","",IF(OR(TONGHOP!O103="KTHP",TONGHOP!O103="ThiTN"),TONGHOP!V103,"")) -> Lê Tiến Đạt | F103: =IF(E103="","",D103*0.3/60) -> 0.3 | G103: =IF(TONGHOP!W103="","",IF(OR(TONGHOP!O103="KTHP",TONGHOP!O103="ThiTN"),TONGHOP!W103,"")) | H103: =IF(G103="","",D103*0.3/60)
A104: =IF(TONGHOP!F104="","",TONGHOP!F104) -> 17T4-LĐL1 | B104: =IF(TONGHOP!C104="","",TONGHOP!C104) -> 20171227 | C104: =IF(TONGHOP!D104="","",TONGHOP!D104) -> 10h00 | D104: =IF(TONGHOP!Q104="","",TONGHOP!Q104) -> 60 | E104: =IF(TONGHOP!V104="","",IF(OR(TONGHOP!O104="KTHP",TONGHOP!O104="ThiTN"),TONGHOP!V104,"")) -> Hoàng Thị Trang | F104: =IF(E104="","",D104*0.3/60) -> 0.3 | G104: =IF(TONGHOP!W104="","",IF(OR(TONGHOP!O104="KTHP",TONGHOP!O104="ThiTN"),TONGHOP!W104,"")) | H104: =IF(G104="","",D104*0.3/60)
A105: =IF(TONGHOP!F105="","",TONGHOP!F105) -> 17T4-CNL1 | B105: =IF(TONGHOP!C105="","",TONGHOP!C105) -> 20171227 | C105: =IF(TONGHOP!D105="","",TONGHOP!D105) -> 10h00 | D105: =IF(TONGHOP!Q105="","",TONGHOP!Q105) -> 60 | E105: =IF(TONGHOP!V105="","",IF(OR(TONGHOP!O105="KTHP",TONGHOP!O105="ThiTN"),TONGHOP!V105,"")) -> Trần Trung Hiếu | F105: =IF(E105="","",D105*0.3/60) -> 0.3 | G105: =IF(TONGHOP!W105="","",IF(OR(TONGHOP!O105="KTHP",TONGHOP!O105="ThiTN"),TONGHOP!W105,"")) | H105: =IF(G105="","",D105*0.3/60)
A106: =IF(TONGHOP!F106="","",TONGHOP!F106) -> 17T4-LĐL2 | B106: =IF(TONGHOP!C106="","",TONGHOP!C106) -> 20171227 | C106: =IF(TONGHOP!D106="","",TONGHOP!D106) -> 10h00 | D106: =IF(TONGHOP!Q106="","",TONGHOP!Q106) -> 60 | E106: =IF(TONGHOP!V106="","",IF(OR(TONGHOP!O106="KTHP",TONGHOP!O106="ThiTN"),TONGHOP!V106,"")) | F106: =IF(E106="","",D106*0.3/60) | G106: =IF(TONGHOP!W106="","",IF(OR(TONGHOP!O106="KTHP",TONGHOP!O106="ThiTN"),TONGHOP!W106,"")) | H106: =IF(G106="","",D106*0.3/60)
A107: =IF(TONGHOP!F107="","",TONGHOP!F107) -> 16CĐN-QTD | B107: =IF(TONGHOP!C107="","",TONGHOP!C107) -> 20171227 | C107: =IF(TONGHOP!D107="","",TONGHOP!D107) -> 10h00 | D107: =IF(TONGHOP!Q107="","",TONGHOP!Q107) -> 60 | E107: =IF(TONGHOP!V107="","",IF(OR(TONGHOP!O107="KTHP",TONGHOP!O107="ThiTN"),TONGHOP!V107,"")) | F107: =IF(E107="","",D107*0.3/60) | G107: =IF(TONGHOP!W107="","",IF(OR(TONGHOP!O107="KTHP",TONGHOP!O107="ThiTN"),TONGHOP!W107,"")) | H107: =IF(G107="","",D107*0.3/60)
A108: =IF(TONGHOP!F108="","",TONGHOP!F108) -> 17T4-KTD1 | B108: =IF(TONGHOP!C108="","",TONGHOP!C108) -> 20171227 | C108: =IF(TONGHOP!D108="","",TONGHOP!D108) -> 10h00 | D108: =IF(TONGHOP!Q108="","",TONGHOP!Q108) -> 60 | E108: =IF(TONGHOP!V108="","",IF(OR(TONGHOP!O108="KTHP",TONGHOP!O108="ThiTN"),TONGHOP!V108,"")) | F108: =IF(E108="","",D108*0.3/60) | G108: =IF(TONGHOP!W108="","",IF(OR(TONGHOP!O108="KTHP",TONGHOP!O108="ThiTN"),TONGHOP!W108,"")) | H108: =IF(G108="","",D108*0.3/60)
... A1501: =IF(TONGHOP!F1501="","",TONGHOP!F1501) | B1501: =IF(TONGHOP!C1501="","",TONGHOP!C1501) | C1501: =IF(TONGHOP!D1501="","",TONGHOP!D1501) | D1501: =IF(TONGHOP!Q1501="","",TONGHOP!Q1501) | E1501: =IF(TONGHOP!V1501="","",IF(OR(TONGHOP!O1501="KTHP",TONGHOP!O1501="ThiTN"),TONGHOP!V1501,"")) | F1501: =IF(E1501="","",D1501*0.3/60) | G1501: =IF(TONGHOP!W1501="","",IF(OR(TONGHOP!O1501="KTHP",TONGHOP!O1501="ThiTN"),TONGHOP!W1501,"")) | H1501: =IF(G1501="","",D1501*0.3/60)

Sheet TK KHOILUONG
E1: =SUBTOTAL(9,E3:E501) -> 537 | F1: =SUBTOTAL(9,F3:F501) -> 182 | G1: =SUBTOTAL(9,G3:G501) -> 0 | H1: =SUBTOTAL(9,H3:H501) -> 0 | I1: =SUBTOTAL(9,I3:I501) -> 0 | J1: =SUBTOTAL(9,J3:J501) -> 0 | K1: =SUBTOTAL(9,K3:K501) -> 0 | L1: =SUBTOTAL(9,L3:L501) -> 0 | ... X1: =SUBTOTAL(9,X3:X501) -> 0 | Z1: =SUBTOTAL(9,Z3:Z501) -> 0 | AA1: =SUBTOTAL(9,AA3:AA501) -> 2089 | AB1: =SUBTOTAL(9,AB3:AB501) -> 1964 | AD1: =SUBTOTAL(9,AD3:AD501) -> 374.6 | AE1: =SUBTOTAL(9,AE3:AE501) -> 0 | AF1: =SUBTOTAL(9,AF3:AF501) -> 0 | AH1: =SUBTOTAL(9,AH3:AH501) -> -16.2 | AI1: =SUBTOTAL(9,AI3:AI501) -> 0 | AJ1: =SUBTOTAL(9,AJ3:AJ501) -> 0 | AK1: =SUBTOTAL(9,AK3:AK501) -> 0 | AL1: =SUBTOTAL(9,AL3:AL501) -> 0 | AM1: =SUBTOTAL(9,AM3:AM501) -> 0 | AN1: =SUBTOTAL(9,AN3:AN501) -> 0 | AO1: =SUBTOTAL(9,AO3:AO501) -> 0 | ... AT1: =SUBTOTAL(9,AT3:AT501) -> #VALUE!
A2: STT | B2: Mã nhân sự | C2: Đơn vị | D2: HỌ VÀ TÊN GIẢNG VIÊN | E2: ĐỀ THI | N2: COI THI | S2: CHẤM THI KTHP | AI2: CHẤM THI TỐT NGHIỆP | AR2: DỰ PHÒNG KỲ THI | AS2: GIÁM SÁT | AT2: TỔNG KHỐI LƯỢNG | AU2: =SUBTOTAL(9,AT:AT) -> #VALUE!
S3: LÝ THUYẾT (TV+TN) | W3: VẤN ĐÁP | AA3: TIỂU LUẬN | AE3: THỰC HÀNH | AI3: LÝ THUYẾT (TV+TN) | AL3: VẤN ĐÁP | AO3: THỰC HÀNH
E4: SL ĐỀ LT KTHP | F4: SL ĐỀ TN KTHP | G4: SL ĐỀ VĐ KTHP | H4: SL ĐỀ TH KTHP | I4: SL ĐỀ LT ThiTN | J4: SL ĐỀ TN ThiTN | K4: SL ĐỀ VĐ ThiTN | L4: SL ĐỀ TH ThiTN | M4: KL SOẠN ĐỀ (tiết) | N4: COITHI 2 KTHP | O4: COITHI 1 KTHP | P4: COITHI 1 Thi TN | Q4: COITHI 2 Thi TN | R4: KL COITHI (tiết) | S4: SL CHẤM LT 1 | T4: SL CHẤM LT 2 | U4: SL CHẤM NV | V4: KL CHẤM LT (tiết) | W4: SL CHẤM TL 1 | X4: SL CHẤM TL 2 | Y4: SL CHẤM NV | Z4: KL CHẤM TL (tiết) | AA4: SL CHẤM TL 1 | AB4: SL CHẤM TL 2 | AC4: SL CHẤM NV | AD4: KL CHẤM TL (tiết) | AE4: SL CHẤM TL 1 | AF4: SL CHẤM TL 2 | AG4: SL CHẤM NV | AH4: KL CHẤM TL (tiết) | AI4: SL BÀI LT CHẤM 1 | AJ4: SL BÀI LT CHẤM 2 | AK4: KL CHẤM LT (tiết) | AL4: SL BÀI VĐ CHẤM 1 | AM4: SL BÀI VĐ CHẤM 2 | AN4: KL CHẤM VĐ (tiết) | AO4: SL BÀI TL CHẤM 1 | AP4: SL BÀI TL CHẤM 2 | AQ4: KL CHẤM TL (tiết)
A5: =IF(D5="","",SUBTOTAL(3,$D$5:D5)) -> 1 | B5: 01001001 | C5: Ban Giám hiệu | D5: Phạm Hữu Lộc | E5: =IF($D5="","",SUMIF('TK DETHI'!$A:$A,$D5,'TK DETHI'!$B:$B)) -> 0 | F5: =IF($D5="","",SUMIF('TK DETHI'!$C:$C,$D5,'TK DETHI'!$D:$D)) -> 0 | G5: =IF($D5="","",SUMIF('TK DETHI'!$E:$E,$D5,'TK DETHI'!$F:$F)) -> 0 | H5: =IF($D5="","",SUMIF('TK DETHI'!$G:$G,$D5,'TK DETHI'!$H:$H)) -> 0 | I5: =IF($D5="","",SUMIF('TK DETHI'!$I:$I,$D5,'TK DETHI'!$J:$J)) -> 0 | J5: =IF($D5="","",SUMIF('TK DETHI'!$K:$K,$D5,'TK DETHI'!$L:$L)) -> 0 | K5: =IF($D5="","",SUMIF('TK DETHI'!$M:$M,$D5,'TK DETHI'!$N:$N)) -> 0 | L5: =IF($D5="","",SUMIF('TK DETHI'!$O:$O,$D5,'TK DETHI'!$P:$P)) -> 0 | M5: =IF($D5="","",($E5+$F5*1.5+$G5*0.25+$H5*0.5+$I5*2+$J5*2.5+$K5*0.5+$L5*1.5)) -> 0 | N5: =IF($D5="","",SUMIF('TK COITHI KTHP va Thi TN'!$A:$A,$D5,'TK COITHI KTHP va Thi TN'!$D:$D)) -> 0 | O5: =IF($D5="","",SUMIF('TK COITHI KTHP va Thi TN'!$B:$B,$D5,'TK COITHI KTHP va Thi TN'!$D:$D)) -> 0 | P5: =IF($D5="","",SUMIF('TK COITHI KTHP va Thi TN'!$E:$E,$D5,'TK COITHI KTHP va Thi TN'!$H:$H)) -> 0 | Q5: =IF($D5="","",SUMIF('TK COITHI KTHP va Thi TN'!$F:$F,$D5,'TK COITHI KTHP va Thi TN'!$H:$H)) -> 0 | R5: =IF($D5="","",SUM($N5:$Q5)) -> 0 | S5: =IF($D5="","",SUMIF('TK CHAMTHI'!$A:$A,$D5,'TK CHAMTHI'!$C:$C)) -> 0 | T5: =IF($D5="","",SUMIF('TK CHAMTHI'!$B:$B,$D5,'TK CHAMTHI'!$C:$C)) -> 0 | U5: =IF(D5="","",SUMIF('CHAM NV'!B:B,D5,'CHAM NV'!C:C)) -> 0 | V5: =IF($D5="","",((SUM($S5:$T5))-U5)*0.1) -> 0 | W5: =IF($D5="","",SUMIF('TK CHAMTHI'!$D:$D,$D5,'TK CHAMTHI'!$F:$F)) -> 0 | X5: =IF($D5="","",SUMIF('TK CHAMTHI'!$E:$E,$D5,'TK CHAMTHI'!$F:$F)) -> 0 | Y5: =IF(D5="","",SUMIF('CHAM NV'!G:G,D5,'CHAM NV'!H:H)) -> 0 | Z5: =IF($D5="","",((SUM($W5:$X5))-Y5)*0.2) -> 0 | AA5: =IF($D5="","",SUMIF('TK CHAMTHI'!$G:$G,$D5,'TK CHAMTHI'!$I:$I)) -> 0 | AB5: =IF($D5="","",SUMIF('TK CHAMTHI'!$H:$H,$D5,'TK CHAMTHI'!$I:$I)) -> 0 | AC5: =IF(D5="","",SUMIF('CHAM NV'!E:E,D5,'CHAM NV'!F:F)) -> 0 | AD5: =IF($D5="","",((SUM($AA5:$AB5))-AC5)*0.2) -> 0 | AE5: =IF($D5="","",SUMIF('TK CHAMTHI'!$J:$J,$D5,'TK CHAMTHI'!$L:$L)) -> 0 | AF5: =IF($D5="","",SUMIF('TK CHAMTHI'!$K:$K,$D5,'TK CHAMTHI'!$L:$L)) -> 0 | AG5: =IF(D5="","",SUMIF('CHAM NV'!I:I,D5,'CHAM NV'!J:J)) -> 0 | AH5: =IF($D5="","",((SUM($AE5:$AF5))-AG5)*0.2) -> 0 | AI5: =IF($D5="","",SUMIF('TK CHAMTHI'!$M:$M,$D5,'TK CHAMTHI'!$O:$O)) -> 0 | AJ5: =IF($D5="","",SUMIF('TK CHAMTHI'!$N:$N,$D5,'TK CHAMTHI'!$O:$O)) -> 0 | AK5: =IF($D5="","",(SUM($AI5:$AJ5))*0.2) -> 0 | AL5: =IF($D5="","",SUMIF('TK CHAMTHI'!$P:$P,$D5,'TK CHAMTHI'!$R:$R)) -> 0 | AM5: =IF($D5="","",SUMIF('TK CHAMTHI'!$Q:$Q,$D5,'TK CHAMTHI'!$R:$R)) -> 0 | AN5: =IF($D5="","",(SUM($AL5:$AM5))*0.4) -> 0 | AO5: =IF(D5="","",SUMIF('TK CHAMTHI'!S:S,D5,'TK CHAMTHI'!U:U)) -> 0 | AP5: =IF(D5="","",SUMIF('TK CHAMTHI'!T:T,D5,'TK CHAMTHI'!U:U)) -> 0 | AQ5: =IF(D5="","",SUM(AO5:AP5)/10) -> 0 | AR5: =IF(D5="","",ROUND(SUMIF('QL THI'!G:G,D5,'QL THI'!H:H),1)) -> 0 | AS5: =IF(D5="","",ROUND(SUMIF('QL THI'!E:E,D5,'QL THI'!F:F),1)) -> 0 | AT5: =IF(D5="","",ROUND(M5+R5+V5+Z5+AD5+AH5+AK5+AN5+AQ5+SUM(AR5:AS5),1)) -> 0
A6: =IF(D6="","",SUBTOTAL(3,$D$5:D6)) -> 2 | B6: 01002001 | C6: Ban Giám hiệu | D6: Đinh Hồng Minh | E6: =IF($D6="","",SUMIF('TK DETHI'!$A:$A,$D6,'TK DETHI'!$B:$B)) -> 0 | F6: =IF($D6="","",SUMIF('TK DETHI'!$C:$C,$D6,'TK DETHI'!$D:$D)) -> 0 | G6: =IF($D6="","",SUMIF('TK DETHI'!$E:$E,$D6,'TK DETHI'!$F:$F)) -> 0 | H6: =IF($D6="","",SUMIF('TK DETHI'!$G:$G,$D6,'TK DETHI'!$H:$H)) -> 0 | I6: =IF($D6="","",SUMIF('TK DETHI'!$I:$I,$D6,'TK DETHI'!$J:$J)) -> 0 | J6: =IF($D6="","",SUMIF('TK DETHI'!$K:$K,$D6,'TK DETHI'!$L:$L)) -> 0 | K6: =IF($D6="","",SUMIF('TK DETHI'!$M:$M,$D6,'TK DETHI'!$N:$N)) -> 0 | L6: =IF($D6="","",SUMIF('TK DETHI'!$O:$O,$D6,'TK DETHI'!$P:$P)) -> 0 | M6: =IF($D6="","",($E6+$F6*1.5+$G6*0.25+$H6*0.5+$I6*2+$J6*2.5+$K6*0.5+$L6*1.5)) -> 0 | N6: =IF($D6="","",SUMIF('TK COITHI KTHP va Thi TN'!$A:$A,$D6,'TK COITHI KTHP va Thi TN'!$D:$D)) -> 0 | O6: =IF($D6="","",SUMIF('TK COITHI KTHP va Thi TN'!$B:$B,$D6,'TK COITHI KTHP va Thi TN'!$D:$D)) -> 0 | P6: =IF($D6="","",SUMIF('TK COITHI KTHP va Thi TN'!$E:$E,$D6,'TK COITHI KTHP va Thi TN'!$H:$H)) -> 0 | Q6: =IF($D6="","",SUMIF('TK COITHI KTHP va Thi TN'!$F:$F,$D6,'TK COITHI KTHP va Thi TN'!$H:$H)) -> 0 | R6: =IF($D6="","",SUM($N6:$Q6)) -> 0 | S6: =IF($D6="","",SUMIF('TK CHAMTHI'!$A:$A,$D6,'TK CHAMTHI'!$C:$C)) -> 0 | T6: =IF($D6="","",SUMIF('TK CHAMTHI'!$B:$B,$D6,'TK CHAMTHI'!$C:$C)) -> 0 | U6: =IF(D6="","",SUMIF('CHAM NV'!B:B,D6,'CHAM NV'!C:C)) -> 0 | V6: =IF($D6="","",((SUM($S6:$T6))-U6)*0.1) -> 0 | W6: =IF($D6="","",SUMIF('TK CHAMTHI'!$D:$D,$D6,'TK CHAMTHI'!$F:$F)) -> 0 | X6: =IF($D6="","",SUMIF('TK CHAMTHI'!$E:$E,$D6,'TK CHAMTHI'!$F:$F)) -> 0 | Y6: =IF(D6="","",SUMIF('CHAM NV'!G:G,D6,'CHAM NV'!H:H)) -> 0 | Z6: =IF($D6="","",((SUM($W6:$X6))-Y6)*0.2) -> 0 | AA6: =IF($D6="","",SUMIF('TK CHAMTHI'!$G:$G,$D6,'TK CHAMTHI'!$I:$I)) -> 0 | AB6: =IF($D6="","",SUMIF('TK CHAMTHI'!$H:$H,$D6,'TK CHAMTHI'!$I:$I)) -> 0 | AC6: =IF(D6="","",SUMIF('CHAM NV'!E:E,D6,'CHAM NV'!F:F)) -> 0 | AD6: =IF($D6="","",((SUM($AA6:$AB6))-AC6)*0.2) -> 0 | AE6: =IF($D6="","",SUMIF('TK CHAMTHI'!$J:$J,$D6,'TK CHAMTHI'!$L:$L)) -> 0 | AF6: =IF($D6="","",SUMIF('TK CHAMTHI'!$K:$K,$D6,'TK CHAMTHI'!$L:$L)) -> 0 | AG6: =IF(D6="","",SUMIF('CHAM NV'!I:I,D6,'CHAM NV'!J:J)) -> 0 | AH6: =IF($D6="","",((SUM($AE6:$AF6))-AG6)*0.2) -> 0 | AI6: =IF($D6="","",SUMIF('TK CHAMTHI'!$M:$M,$D6,'TK CHAMTHI'!$O:$O)) -> 0 | AJ6: =IF($D6="","",SUMIF('TK CHAMTHI'!$N:$N,$D6,'TK CHAMTHI'!$O:$O)) -> 0 | AK6: =IF($D6="","",(SUM($AI6:$AJ6))*0.2) -> 0 | AL6: =IF($D6="","",SUMIF('TK CHAMTHI'!$P:$P,$D6,'TK CHAMTHI'!$R:$R)) -> 0 | AM6: =IF($D6="","",SUMIF('TK CHAMTHI'!$Q:$Q,$D6,'TK CHAMTHI'!$R:$R)) -> 0 | AN6: =IF($D6="","",(SUM($AL6:$AM6))*0.4) -> 0 | AO6: =IF(D6="","",SUMIF('TK CHAMTHI'!S:S,D6,'TK CHAMTHI'!U:U)) -> 0 | AP6: =IF(D6="","",SUMIF('TK CHAMTHI'!T:T,D6,'TK CHAMTHI'!U:U)) -> 0 | AQ6: =IF(D6="","",SUM(AO6:AP6)/10) -> 0 | AR6: =IF(D6="","",ROUND(SUMIF('QL THI'!G:G,D6,'QL THI'!H:H),1)) -> 0 | AS6: =IF(D6="","",ROUND(SUMIF('QL THI'!E:E,D6,'QL THI'!F:F),1)) -> 0 | AT6: =IF(D6="","",ROUND(M6+R6+V6+Z6+AD6+AH6+AK6+AN6+AQ6+SUM(AR6:AS6),1)) -> 0
A7: =IF(D7="","",SUBTOTAL(3,$D$5:D7)) -> 3 | B7: 01001006 | C7: Ban Giám hiệu | D7: Đinh Văn Đệ | E7: =IF($D7="","",SUMIF('TK DETHI'!$A:$A,$D7,'TK DETHI'!$B:$B)) -> 2 | F7: =IF($D7="","",SUMIF('TK DETHI'!$C:$C,$D7,'TK DETHI'!$D:$D)) -> 0 | G7: =IF($D7="","",SUMIF('TK DETHI'!$E:$E,$D7,'TK DETHI'!$F:$F)) -> 0 | H7: =IF($D7="","",SUMIF('TK DETHI'!$G:$G,$D7,'TK DETHI'!$H:$H)) -> 0 | I7: =IF($D7="","",SUMIF('TK DETHI'!$I:$I,$D7,'TK DETHI'!$J:$J)) -> 0 | J7: =IF($D7="","",SUMIF('TK DETHI'!$K:$K,$D7,'TK DETHI'!$L:$L)) -> 0 | K7: =IF($D7="","",SUMIF('TK DETHI'!$M:$M,$D7,'TK DETHI'!$N:$N)) -> 0 | L7: =IF($D7="","",SUMIF('TK DETHI'!$O:$O,$D7,'TK DETHI'!$P:$P)) -> 0 | M7: =IF($D7="","",($E7+$F7*1.5+$G7*0.25+$H7*0.5+$I7*2+$J7*2.5+$K7*0.5+$L7*1.5)) -> 2 | N7: =IF($D7="","",SUMIF('TK COITHI KTHP va Thi TN'!$A:$A,$D7,'TK COITHI KTHP va Thi TN'!$D:$D)) -> 0 | O7: =IF($D7="","",SUMIF('TK COITHI KTHP va Thi TN'!$B:$B,$D7,'TK COITHI KTHP va Thi TN'!$D:$D)) -> 0 | P7: =IF($D7="","",SUMIF('TK COITHI KTHP va Thi TN'!$E:$E,$D7,'TK COITHI KTHP va Thi TN'!$H:$H)) -> 0 | Q7: =IF($D7="","",SUMIF('TK COITHI KTHP va Thi TN'!$F:$F,$D7,'TK COITHI KTHP va Thi TN'!$H:$H)) -> 0 | R7: =IF($D7="","",SUM($N7:$Q7)) -> 0 | S7: =IF($D7="","",SUMIF('TK CHAMTHI'!$A:$A,$D7,'TK CHAMTHI'!$C:$C)) -> 50 | T7: =IF($D7="","",SUMIF('TK CHAMTHI'!$B:$B,$D7,'TK CHAMTHI'!$C:$C)) -> 0 | U7: =IF(D7="","",SUMIF('CHAM NV'!B:B,D7,'CHAM NV'!C:C)) -> 153 | V7: =IF($D7="","",((SUM($S7:$T7))-U7)*0.1) -> -10.3 | W7: =IF($D7="","",SUMIF('TK CHAMTHI'!$D:$D,$D7,'TK CHAMTHI'!$F:$F)) -> 0 | X7: =IF($D7="","",SUMIF('TK CHAMTHI'!$E:$E,$D7,'TK CHAMTHI'!$F:$F)) -> 0 | Y7: =IF(D7="","",SUMIF('CHAM NV'!G:G,D7,'CHAM NV'!H:H)) -> 0 | Z7: =IF($D7="","",((SUM($W7:$X7))-Y7)*0.2) -> 0 | AA7: =IF($D7="","",SUMIF('TK CHAMTHI'!$G:$G,$D7,'TK CHAMTHI'!$I:$I)) -> 0 | AB7: =IF($D7="","",SUMIF('TK CHAMTHI'!$H:$H,$D7,'TK CHAMTHI'!$I:$I)) -> 0 | AC7: =IF(D7="","",SUMIF('CHAM NV'!E:E,D7,'CHAM NV'!F:F)) -> 0 | AD7: =IF($D7="","",((SUM($AA7:$AB7))-AC7)*0.2) -> 0 | AE7: =IF($D7="","",SUMIF('TK CHAMTHI'!$J:$J,$D7,'TK CHAMTHI'!$L:$L)) -> 0 | AF7: =IF($D7="","",SUMIF('TK CHAMTHI'!$K:$K,$D7,'TK CHAMTHI'!$L:$L)) -> 0 | AG7: =IF(D7="","",SUMIF('CHAM NV'!I:I,D7,'CHAM NV'!J:J)) -> 0 | AH7: =IF($D7="","",((SUM($AE7:$AF7))-AG7)*0.2) -> 0 | AI7: =IF($D7="","",SUMIF('TK CHAMTHI'!$M:$M,$D7,'TK CHAMTHI'!$O:$O)) -> 0 | AJ7: =IF($D7="","",SUMIF('TK CHAMTHI'!$N:$N,$D7,'TK CHAMTHI'!$O:$O)) -> 0 | AK7: =IF($D7="","",(SUM($AI7:$AJ7))*0.2) -> 0 | AL7: =IF($D7="","",SUMIF('TK CHAMTHI'!$P:$P,$D7,'TK CHAMTHI'!$R:$R)) -> 0 | AM7: =IF($D7="","",SUMIF('TK CHAMTHI'!$Q:$Q,$D7,'TK CHAMTHI'!$R:$R)) -> 0 | AN7: =IF($D7="","",(SUM($AL7:$AM7))*0.4) -> 0 | AO7: =IF(D7="","",SUMIF('TK CHAMTHI'!S:S,D7,'TK CHAMTHI'!U:U)) -> 0 | AP7: =IF(D7="","",SUMIF('TK CHAMTHI'!T:T,D7,'TK CHAMTHI'!U:U)) -> 0 | AQ7: =IF(D7="","",SUM(AO7:AP7)/10) -> 0 | AR7: =IF(D7="","",ROUND(SUMIF('QL THI'!G:G,D7,'QL THI'!H:H),1)) -> 0 | AS7: =IF(D7="","",ROUND(SUMIF('QL THI'!E:E,D7,'QL THI'!F:F),1)) -> 0 | AT7: =IF(D7="","",ROUND(M7+R7+V7+Z7+AD7+AH7+AK7+AN7+AQ7+SUM(AR7:AS7),1)) -> -8.3
A8: =IF(D8="","",SUBTOTAL(3,$D$5:D8)) -> 4 | B8: 01001003 | C8: Ban Giám hiệu | D8: Nguyễn Văn Dũng | E8: =IF($D8="","",SUMIF('TK DETHI'!$A:$A,$D8,'TK DETHI'!$B:$B)) -> 0 | F8: =IF($D8="","",SUMIF('TK DETHI'!$C:$C,$D8,'TK DETHI'!$D:$D)) -> 0 | G8: =IF($D8="","",SUMIF('TK DETHI'!$E:$E,$D8,'TK DETHI'!$F:$F)) -> 0 | H8: =IF($D8="","",SUMIF('TK DETHI'!$G:$G,$D8,'TK DETHI'!$H:$H)) -> 0 | I8: =IF($D8="","",SUMIF('TK DETHI'!$I:$I,$D8,'TK DETHI'!$J:$J)) -> 0 | J8: =IF($D8="","",SUMIF('TK DETHI'!$K:$K,$D8,'TK DETHI'!$L:$L)) -> 0 | K8: =IF($D8="","",SUMIF('TK DETHI'!$M:$M,$D8,'TK DETHI'!$N:$N)) -> 0 | L8: =IF($D8="","",SUMIF('TK DETHI'!$O:$O,$D8,'TK DETHI'!$P:$P)) -> 0 | M8: =IF($D8="","",($E8+$F8*1.5+$G8*0.25+$H8*0.5+$I8*2+$J8*2.5+$K8*0.5+$L8*1.5)) -> 0 | N8: =IF($D8="","",SUMIF('TK COITHI KTHP va Thi TN'!$A:$A,$D8,'TK COITHI KTHP va Thi TN'!$D:$D)) -> 0 | O8: =IF($D8="","",SUMIF('TK COITHI KTHP va Thi TN'!$B:$B,$D8,'TK COITHI KTHP va Thi TN'!$D:$D)) -> 0 | P8: =IF($D8="","",SUMIF('TK COITHI KTHP va Thi TN'!$E:$E,$D8,'TK COITHI KTHP va Thi TN'!$H:$H)) -> 0 | Q8: =IF($D8="","",SUMIF('TK COITHI KTHP va Thi TN'!$F:$F,$D8,'TK COITHI KTHP va Thi TN'!$H:$H)) -> 0 | R8: =IF($D8="","",SUM($N8:$Q8)) -> 0 | S8: =IF($D8="","",SUMIF('TK CHAMTHI'!$A:$A,$D8,'TK CHAMTHI'!$C:$C)) -> 0 | T8: =IF($D8="","",SUMIF('TK CHAMTHI'!$B:$B,$D8,'TK CHAMTHI'!$C:$C)) -> 0 | U8: =IF(D8="","",SUMIF('CHAM NV'!B:B,D8,'CHAM NV'!C:C)) -> 0 | V8: =IF($D8="","",((SUM($S8:$T8))-U8)*0.1) -> 0 | W8: =IF($D8="","",SUMIF('TK CHAMTHI'!$D:$D,$D8,'TK CHAMTHI'!$F:$F)) -> 0 | X8: =IF($D8="","",SUMIF('TK CHAMTHI'!$E:$E,$D8,'TK CHAMTHI'!$F:$F)) -> 0 | Y8: =IF(D8="","",SUMIF('CHAM NV'!G:G,D8,'CHAM NV'!H:H)) -> 0 | Z8: =IF($D8="","",((SUM($W8:$X8))-Y8)*0.2) -> 0 | AA8: =IF($D8="","",SUMIF('TK CHAMTHI'!$G:$G,$D8,'TK CHAMTHI'!$I:$I)) -> 0 | AB8: =IF($D8="","",SUMIF('TK CHAMTHI'!$H:$H,$D8,'TK CHAMTHI'!$I:$I)) -> 0 | AC8: =IF(D8="","",SUMIF('CHAM NV'!E:E,D8,'CHAM NV'!F:F)) -> 0 | AD8: =IF($D8="","",((SUM($AA8:$AB8))-AC8)*0.2) -> 0 | AE8: =IF($D8="","",SUMIF('TK CHAMTHI'!$J:$J,$D8,'TK CHAMTHI'!$L:$L)) -> 0 | AF8: =IF($D8="","",SUMIF('TK CHAMTHI'!$K:$K,$D8,'TK CHAMTHI'!$L:$L)) -> 0 | AG8: =IF(D8="","",SUMIF('CHAM NV'!I:I,D8,'CHAM NV'!J:J)) -> 0 | AH8: =IF($D8="","",((SUM($AE8:$AF8))-AG8)*0.2) -> 0 | AI8: =IF($D8="","",SUMIF('TK CHAMTHI'!$M:$M,$D8,'TK CHAMTHI'!$O:$O)) -> 0 | AJ8: =IF($D8="","",SUMIF('TK CHAMTHI'!$N:$N,$D8,'TK CHAMTHI'!$O:$O)) -> 0 | AK8: =IF($D8="","",(SUM($AI8:$AJ8))*0.2) -> 0 | AL8: =IF($D8="","",SUMIF('TK CHAMTHI'!$P:$P,$D8,'TK CHAMTHI'!$R:$R)) -> 0 | AM8: =IF($D8="","",SUMIF('TK CHAMTHI'!$Q:$Q,$D8,'TK CHAMTHI'!$R:$R)) -> 0 | AN8: =IF($D8="","",(SUM($AL8:$AM8))*0.4) -> 0 | AO8: =IF(D8="","",SUMIF('TK CHAMTHI'!S:S,D8,'TK CHAMTHI'!U:U)) -> 0 | AP8: =IF(D8="","",SUMIF('TK CHAMTHI'!T:T,D8,'TK CHAMTHI'!U:U)) -> 0 | AQ8: =IF(D8="","",SUM(AO8:AP8)/10) -> 0 | AR8: =IF(D8="","",ROUND(SUMIF('QL THI'!G:G,D8,'QL THI'!H:H),1)) -> 0 | AS8: =IF(D8="","",ROUND(SUMIF('QL THI'!E:E,D8,'QL THI'!F:F),1)) -> 0 | AT8: =IF(D8="","",ROUND(M8+R8+V8+Z8+AD8+AH8+AK8+AN8+AQ8+SUM(AR8:AS8),1)) -> 0
A9: =IF(D9="","",SUBTOTAL(3,$D$5:D9)) -> 5 | B9: 01012005 | C9: Khoa CN Cơ khí | D9: Đỗ Thị Phương Khanh | E9: =IF($D9="","",SUMIF('TK DETHI'!$A:$A,$D9,'TK DETHI'!$B:$B)) -> 0 | F9: =IF($D9="","",SUMIF('TK DETHI'!$C:$C,$D9,'TK DETHI'!$D:$D)) -> 10 | G9: =IF($D9="","",SUMIF('TK DETHI'!$E:$E,$D9,'TK DETHI'!$F:$F)) -> 0 | H9: =IF($D9="","",SUMIF('TK DETHI'!$G:$G,$D9,'TK DETHI'!$H:$H)) -> 0 | I9: =IF($D9="","",SUMIF('TK DETHI'!$I:$I,$D9,'TK DETHI'!$J:$J)) -> 0 | J9: =IF($D9="","",SUMIF('TK DETHI'!$K:$K,$D9,'TK DETHI'!$L:$L)) -> 0 | K9: =IF($D9="","",SUMIF('TK DETHI'!$M:$M,$D9,'TK DETHI'!$N:$N)) -> 0 | L9: =IF($D9="","",SUMIF('TK DETHI'!$O:$O,$D9,'TK DETHI'!$P:$P)) -> 0 | M9: =IF($D9="","",($E9+$F9*1.5+$G9*0.25+$H9*0.5+$I9*2+$J9*2.5+$K9*0.5+$L9*1.5)) -> 15 | N9: =IF($D9="","",SUMIF('TK COITHI KTHP va Thi TN'!$A:$A,$D9,'TK COITHI KTHP va Thi TN'!$D:$D)) -> 0.6 | O9: =IF($D9="","",SUMIF('TK COITHI KTHP va Thi TN'!$B:$B,$D9,'TK COITHI KTHP va Thi TN'!$D:$D)) -> 1.65 | P9: =IF($D9="","",SUMIF('TK COITHI KTHP va Thi TN'!$E:$E,$D9,'TK COITHI KTHP va Thi TN'!$H:$H)) -> 0 | Q9: =IF($D9="","",SUMIF('TK COITHI KTHP va Thi TN'!$F:$F,$D9,'TK COITHI KTHP va Thi TN'!$H:$H)) -> 0 | R9: =IF($D9="","",SUM($N9:$Q9)) -> 2.25 | S9: =IF($D9="","",SUMIF('TK CHAMTHI'!$A:$A,$D9,'TK CHAMTHI'!$C:$C)) -> 0 | T9: =IF($D9="","",SUMIF('TK CHAMTHI'!$B:$B,$D9,'TK CHAMTHI'!$C:$C)) -> 62 | U9: =IF(D9="","",SUMIF('CHAM NV'!B:B,D9,'CHAM NV'!C:C)) -> 0 | V9: =IF($D9="","",((SUM($S9:$T9))-U9)*0.1) -> 6.2 | W9: =IF($D9="","",SUMIF('TK CHAMTHI'!$D:$D,$D9,'TK CHAMTHI'!$F:$F)) -> 0 | X9: =IF($D9="","",SUMIF('TK CHAMTHI'!$E:$E,$D9,'TK CHAMTHI'!$F:$F)) -> 0 | Y9: =IF(D9="","",SUMIF('CHAM NV'!G:G,D9,'CHAM NV'!H:H)) -> 0 | Z9: =IF($D9="","",((SUM($W9:$X9))-Y9)*0.2) -> 0 | AA9: =IF($D9="","",SUMIF('TK CHAMTHI'!$G:$G,$D9,'TK CHAMTHI'!$I:$I)) -> 0 | AB9: =IF($D9="","",SUMIF('TK CHAMTHI'!$H:$H,$D9,'TK CHAMTHI'!$I:$I)) -> 0 | AC9: =IF(D9="","",SUMIF('CHAM NV'!E:E,D9,'CHAM NV'!F:F)) -> 0 | AD9: =IF($D9="","",((SUM($AA9:$AB9))-AC9)*0.2) -> 0 | AE9: =IF($D9="","",SUMIF('TK CHAMTHI'!$J:$J,$D9,'TK CHAMTHI'!$L:$L)) -> 0 | AF9: =IF($D9="","",SUMIF('TK CHAMTHI'!$K:$K,$D9,'TK CHAMTHI'!$L:$L)) -> 0 | AG9: =IF(D9="","",SUMIF('CHAM NV'!I:I,D9,'CHAM NV'!J:J)) -> 0 | AH9: =IF($D9="","",((SUM($AE9:$AF9))-AG9)*0.2) -> 0 | AI9: =IF($D9="","",SUMIF('TK CHAMTHI'!$M:$M,$D9,'TK CHAMTHI'!$O:$O)) -> 0 | AJ9: =IF($D9="","",SUMIF('TK CHAMTHI'!$N:$N,$D9,'TK CHAMTHI'!$O:$O)) -> 0 | AK9: =IF($D9="","",(SUM($AI9:$AJ9))*0.2) -> 0 | AL9: =IF($D9="","",SUMIF('TK CHAMTHI'!$P:$P,$D9,'TK CHAMTHI'!$R:$R)) -> 0 | AM9: =IF($D9="","",SUMIF('TK CHAMTHI'!$Q:$Q,$D9,'TK CHAMTHI'!$R:$R)) -> 0 | AN9: =IF($D9="","",(SUM($AL9:$AM9))*0.4) -> 0 | AO9: =IF(D9="","",SUMIF('TK CHAMTHI'!S:S,D9,'TK CHAMTHI'!U:U)) -> 0 | AP9: =IF(D9="","",SUMIF('TK CHAMTHI'!T:T,D9,'TK CHAMTHI'!U:U)) -> 0 | AQ9: =IF(D9="","",SUM(AO9:AP9)/10) -> 0 | AR9: =IF(D9="","",ROUND(SUMIF('QL THI'!G:G,D9,'QL THI'!H:H),1)) -> 0 | AS9: =IF(D9="","",ROUND(SUMIF('QL THI'!E:E,D9,'QL THI'!F:F),1)) -> 0.6 | AT9: =IF(D9="","",ROUND(M9+R9+V9+Z9+AD9+AH9+AK9+AN9+AQ9+SUM(AR9:AS9),1)) -> 24.1
A10: =IF(D10="","",SUBTOTAL(3,$D$5:D10)) -> 6 | B10: 01012014 | C10: Khoa CN Cơ khí | D10: Dương Minh Chung | E10: =IF($D10="","",SUMIF('TK DETHI'!$A:$A,$D10,'TK DETHI'!$B:$B)) -> 4 | F10: =IF($D10="","",SUMIF('TK DETHI'!$C:$C,$D10,'TK DETHI'!$D:$D)) -> 0 | G10: =IF($D10="","",SUMIF('TK DETHI'!$E:$E,$D10,'TK DETHI'!$F:$F)) -> 0 | H10: =IF($D10="","",SUMIF('TK DETHI'!$G:$G,$D10,'TK DETHI'!$H:$H)) -> 0 | I10: =IF($D10="","",SUMIF('TK DETHI'!$I:$I,$D10,'TK DETHI'!$J:$J)) -> 0 | J10: =IF($D10="","",SUMIF('TK DETHI'!$K:$K,$D10,'TK DETHI'!$L:$L)) -> 0 | K10: =IF($D10="","",SUMIF('TK DETHI'!$M:$M,$D10,'TK DETHI'!$N:$N)) -> 0 | L10: =IF($D10="","",SUMIF('TK DETHI'!$O:$O,$D10,'TK DETHI'!$P:$P)) -> 0 | M10: =IF($D10="","",($E10+$F10*1.5+$G10*0.25+$H10*0.5+$I10*2+$J10*2.5+$K10*0.5+$L10*1.5)) -> 4 | N10: =IF($D10="","",SUMIF('TK COITHI KTHP va Thi TN'!$A:$A,$D10,'TK COITHI KTHP va Thi TN'!$D:$D)) -> 1.05 | O10: =IF($D10="","",SUMIF('TK COITHI KTHP va Thi TN'!$B:$B,$D10,'TK COITHI KTHP va Thi TN'!$D:$D)) -> 5.25 | P10: =IF($D10="","",SUMIF('TK COITHI KTHP va Thi TN'!$E:$E,$D10,'TK COITHI KTHP va Thi TN'!$H:$H)) -> 0 | Q10: =IF($D10="","",SUMIF('TK COITHI KTHP va Thi TN'!$F:$F,$D10,'TK COITHI KTHP va Thi TN'!$H:$H)) -> 0 | R10: =IF($D10="","",SUM($N10:$Q10)) -> 6.3 | S10: =IF($D10="","",SUMIF('TK CHAMTHI'!$A:$A,$D10,'TK CHAMTHI'!$C:$C)) -> 222 | T10: =IF($D10="","",SUMIF('TK CHAMTHI'!$B:$B,$D10,'TK CHAMTHI'!$C:$C)) -> 172 | U10: =IF(D10="","",SUMIF('CHAM NV'!B:B,D10,'CHAM NV'!C:C)) -> 287 | V10: =IF($D10="","",((SUM($S10:$T10))-U10)*0.1) -> 10.7 | W10: =IF($D10="","",SUMIF('TK CHAMTHI'!$D:$D,$D10,'TK CHAMTHI'!$F:$F)) -> 0 | X10: =IF($D10="","",SUMIF('TK CHAMTHI'!$E:$E,$D10,'TK CHAMTHI'!$F:$F)) -> 0 | Y10: =IF(D10="","",SUMIF('CHAM NV'!G:G,D10,'CHAM NV'!H:H)) -> 0 | Z10: =IF($D10="","",((SUM($W10:$X10))-Y10)*0.2) -> 0 | AA10: =IF($D10="","",SUMIF('TK CHAMTHI'!$G:$G,$D10,'TK CHAMTHI'!$I:$I)) -> 0 | AB10: =IF($D10="","",SUMIF('TK CHAMTHI'!$H:$H,$D10,'TK CHAMTHI'!$I:$I)) -> 0 | AC10: =IF(D10="","",SUMIF('CHAM NV'!E:E,D10,'CHAM NV'!F:F)) -> 0 | AD10: =IF($D10="","",((SUM($AA10:$AB10))-AC10)*0.2) -> 0 | AE10: =IF($D10="","",SUMIF('TK CHAMTHI'!$J:$J,$D10,'TK CHAMTHI'!$L:$L)) -> 0 | AF10: =IF($D10="","",SUMIF('TK CHAMTHI'!$K:$K,$D10,'TK CHAMTHI'!$L:$L)) -> 0 | AG10: =IF(D10="","",SUMIF('CHAM NV'!I:I,D10,'CHAM NV'!J:J)) -> 0 | AH10: =IF($D10="","",((SUM($AE10:$AF10))-AG10)*0.2) -> 0 | AI10: =IF($D10="","",SUMIF('TK CHAMTHI'!$M:$M,$D10,'TK CHAMTHI'!$O:$O)) -> 0 | AJ10: =IF($D10="","",SUMIF('TK CHAMTHI'!$N:$N,$D10,'TK CHAMTHI'!$O:$O)) -> 0 | AK10: =IF($D10="","",(SUM($AI10:$AJ10))*0.2) -> 0 | AL10: =IF($D10="","",SUMIF('TK CHAMTHI'!$P:$P,$D10,'TK CHAMTHI'!$R:$R)) -> 0 | AM10: =IF($D10="","",SUMIF('TK CHAMTHI'!$Q:$Q,$D10,'TK CHAMTHI'!$R:$R)) -> 0 | AN10: =IF($D10="","",(SUM($AL10:$AM10))*0.4) -> 0 | AO10: =IF(D10="","",SUMIF('TK CHAMTHI'!S:S,D10,'TK CHAMTHI'!U:U)) -> 0 | AP10: =IF(D10="","",SUMIF('TK CHAMTHI'!T:T,D10,'TK CHAMTHI'!U:U)) -> 0 | AQ10: =IF(D10="","",SUM(AO10:AP10)/10) -> 0 | AR10: =IF(D10="","",ROUND(SUMIF('QL THI'!G:G,D10,'QL THI'!H:H),1)) -> 0 | AS10: =IF(D10="","",ROUND(SUMIF('QL THI'!E:E,D10,'QL THI'!F:F),1)) -> 0.5 | AT10: =IF(D10="","",ROUND(M10+R10+V10+Z10+AD10+AH10+AK10+AN10+AQ10+SUM(AR10:AS10),1)) -> 21.5
A11: =IF(D11="","",SUBTOTAL(3,$D$5:D11)) -> 7 | B11: 01012028 | C11: Khoa CN Cơ khí | D11: Dương Thị Hồng | E11: =IF($D11="","",SUMIF('TK DETHI'!$A:$A,$D11,'TK DETHI'!$B:$B)) -> 6 | F11: =IF($D11="","",SUMIF('TK DETHI'!$C:$C,$D11,'TK DETHI'!$D:$D)) -> 0 | G11: =IF($D11="","",SUMIF('TK DETHI'!$E:$E,$D11,'TK DETHI'!$F:$F)) -> 0 | H11: =IF($D11="","",SUMIF('TK DETHI'!$G:$G,$D11,'TK DETHI'!$H:$H)) -> 0 | I11: =IF($D11="","",SUMIF('TK DETHI'!$I:$I,$D11,'TK DETHI'!$J:$J)) -> 0 | J11: =IF($D11="","",SUMIF('TK DETHI'!$K:$K,$D11,'TK DETHI'!$L:$L)) -> 0 | K11: =IF($D11="","",SUMIF('TK DETHI'!$M:$M,$D11,'TK DETHI'!$N:$N)) -> 0 | L11: =IF($D11="","",SUMIF('TK DETHI'!$O:$O,$D11,'TK DETHI'!$P:$P)) -> 0 | M11: =IF($D11="","",($E11+$F11*1.5+$G11*0.25+$H11*0.5+$I11*2+$J11*2.5+$K11*0.5+$L11*1.5)) -> 6 | N11: =IF($D11="","",SUMIF('TK COITHI KTHP va Thi TN'!$A:$A,$D11,'TK COITHI KTHP va Thi TN'!$D:$D)) -> 2.25 | O11: =IF($D11="","",SUMIF('TK COITHI KTHP va Thi TN'!$B:$B,$D11,'TK COITHI KTHP va Thi TN'!$D:$D)) -> 3.45 | P11: =IF($D11="","",SUMIF('TK COITHI KTHP va Thi TN'!$E:$E,$D11,'TK COITHI KTHP va Thi TN'!$H:$H)) -> 0 | Q11: =IF($D11="","",SUMIF('TK COITHI KTHP va Thi TN'!$F:$F,$D11,'TK COITHI KTHP va Thi TN'!$H:$H)) -> 0 | R11: =IF($D11="","",SUM($N11:$Q11)) -> 5.7 | S11: =IF($D11="","",SUMIF('TK CHAMTHI'!$A:$A,$D11,'TK CHAMTHI'!$C:$C)) -> 398 | T11: =IF($D11="","",SUMIF('TK CHAMTHI'!$B:$B,$D11,'TK CHAMTHI'!$C:$C)) -> 405 | U11: =IF(D11="","",SUMIF('CHAM NV'!B:B,D11,'CHAM NV'!C:C)) -> 485 | V11: =IF($D11="","",((SUM($S11:$T11))-U11)*0.1) -> 31.8 | W11: =IF($D11="","",SUMIF('TK CHAMTHI'!$D:$D,$D11,'TK CHAMTHI'!$F:$F)) -> 0 | X11: =IF($D11="","",SUMIF('TK CHAMTHI'!$E:$E,$D11,'TK CHAMTHI'!$F:$F)) -> 0 | Y11: =IF(D11="","",SUMIF('CHAM NV'!G:G,D11,'CHAM NV'!H:H)) -> 0 | Z11: =IF($D11="","",((SUM($W11:$X11))-Y11)*0.2) -> 0 | AA11: =IF($D11="","",SUMIF('TK CHAMTHI'!$G:$G,$D11,'TK CHAMTHI'!$I:$I)) -> 0 | AB11: =IF($D11="","",SUMIF('TK CHAMTHI'!$H:$H,$D11,'TK CHAMTHI'!$I:$I)) -> 0 | AC11: =IF(D11="","",SUMIF('CHAM NV'!E:E,D11,'CHAM NV'!F:F)) -> 0 | AD11: =IF($D11="","",((SUM($AA11:$AB11))-AC11)*0.2) -> 0 | AE11: =IF($D11="","",SUMIF('TK CHAMTHI'!$J:$J,$D11,'TK CHAMTHI'!$L:$L)) -> 0 | AF11: =IF($D11="","",SUMIF('TK CHAMTHI'!$K:$K,$D11,'TK CHAMTHI'!$L:$L)) -> 0 | AG11: =IF(D11="","",SUMIF('CHAM NV'!I:I,D11,'CHAM NV'!J:J)) -> 0 | AH11: =IF($D11="","",((SUM($AE11:$AF11))-AG11)*0.2) -> 0 | AI11: =IF($D11="","",SUMIF('TK CHAMTHI'!$M:$M,$D11,'TK CHAMTHI'!$O:$O)) -> 0 | AJ11: =IF($D11="","",SUMIF('TK CHAMTHI'!$N:$N,$D11,'TK CHAMTHI'!$O:$O)) -> 0 | AK11: =IF($D11="","",(SUM($AI11:$AJ11))*0.2) -> 0 | AL11: =IF($D11="","",SUMIF('TK CHAMTHI'!$P:$P,$D11,'TK CHAMTHI'!$R:$R)) -> 0 | AM11: =IF($D11="","",SUMIF('TK CHAMTHI'!$Q:$Q,$D11,'TK CHAMTHI'!$R:$R)) -> 0 | AN11: =IF($D11="","",(SUM($AL11:$AM11))*0.4) -> 0 | AO11: =IF(D11="","",SUMIF('TK CHAMTHI'!S:S,D11,'TK CHAMTHI'!U:U)) -> 0 | AP11: =IF(D11="","",SUMIF('TK CHAMTHI'!T:T,D11,'TK CHAMTHI'!U:U)) -> 0 | AQ11: =IF(D11="","",SUM(AO11:AP11)/10) -> 0 | AR11: =IF(D11="","",ROUND(SUMIF('QL THI'!G:G,D11,'QL THI'!H:H),1)) -> 0 | AS11: =IF(D11="","",ROUND(SUMIF('QL THI'!E:E,D11,'QL THI'!F:F),1)) -> 0.5 | AT11: =IF(D11="","",ROUND(M11+R11+V11+Z11+AD11+AH11+AK11+AN11+AQ11+SUM(AR11:AS11),1)) -> 44
A12: =IF(D12="","",SUBTOTAL(3,$D$5:D12)) -> 8 | B12: 01012016 | C12: Khoa CN Cơ khí | D12: Lư Thị Yến Vũ | E12: =IF($D12="","",SUMIF('TK DETHI'!$A:$A,$D12,'TK DETHI'!$B:$B)) -> 2 | F12: =IF($D12="","",SUMIF('TK DETHI'!$C:$C,$D12,'TK DETHI'!$D:$D)) -> 8 | G12: =IF($D12="","",SUMIF('TK DETHI'!$E:$E,$D12,'TK DETHI'!$F:$F)) -> 0 | H12: =IF($D12="","",SUMIF('TK DETHI'!$G:$G,$D12,'TK DETHI'!$H:$H)) -> 0 | I12: =IF($D12="","",SUMIF('TK DETHI'!$I:$I,$D12,'TK DETHI'!$J:$J)) -> 0 | J12: =IF($D12="","",SUMIF('TK DETHI'!$K:$K,$D12,'TK DETHI'!$L:$L)) -> 0 | K12: =IF($D12="","",SUMIF('TK DETHI'!$M:$M,$D12,'TK DETHI'!$N:$N)) -> 0 | L12: =IF($D12="","",SUMIF('TK DETHI'!$O:$O,$D12,'TK DETHI'!$P:$P)) -> 0 | M12: =IF($D12="","",($E12+$F12*1.5+$G12*0.25+$H12*0.5+$I12*2+$J12*2.5+$K12*0.5+$L12*1.5)) -> 14 | N12: =IF($D12="","",SUMIF('TK COITHI KTHP va Thi TN'!$A:$A,$D12,'TK COITHI KTHP va Thi TN'!$D:$D)) -> 1.35 | O12: =IF($D12="","",SUMIF('TK COITHI KTHP va Thi TN'!$B:$B,$D12,'TK COITHI KTHP va Thi TN'!$D:$D)) -> 3.75 | P12: =IF($D12="","",SUMIF('TK COITHI KTHP va Thi TN'!$E:$E,$D12,'TK COITHI KTHP va Thi TN'!$H:$H)) -> 0 | Q12: =IF($D12="","",SUMIF('TK COITHI KTHP va Thi TN'!$F:$F,$D12,'TK COITHI KTHP va Thi TN'!$H:$H)) -> 0 | R12: =IF($D12="","",SUM($N12:$Q12)) -> 5.1 | S12: =IF($D12="","",SUMIF('TK CHAMTHI'!$A:$A,$D12,'TK CHAMTHI'!$C:$C)) -> 11 | T12: =IF($D12="","",SUMIF('TK CHAMTHI'!$B:$B,$D12,'TK CHAMTHI'!$C:$C)) -> 0 | U12: =IF(D12="","",SUMIF('CHAM NV'!B:B,D12,'CHAM NV'!C:C)) -> 11 | V12: =IF($D12="","",((SUM($S12:$T12))-U12)*0.1) -> 0 | W12: =IF($D12="","",SUMIF('TK CHAMTHI'!$D:$D,$D12,'TK CHAMTHI'!$F:$F)) -> 0 | X12: =IF($D12="","",SUMIF('TK CHAMTHI'!$E:$E,$D12,'TK CHAMTHI'!$F:$F)) -> 0 | Y12: =IF(D12="","",SUMIF('CHAM NV'!G:G,D12,'CHAM NV'!H:H)) -> 0 | Z12: =IF($D12="","",((SUM($W12:$X12))-Y12)*0.2) -> 0 | AA12: =IF($D12="","",SUMIF('TK CHAMTHI'!$G:$G,$D12,'TK CHAMTHI'!$I:$I)) -> 428 | AB12: =IF($D12="","",SUMIF('TK CHAMTHI'!$H:$H,$D12,'TK CHAMTHI'!$I:$I)) -> 0 | AC12: =IF(D12="","",SUMIF('CHAM NV'!E:E,D12,'CHAM NV'!F:F)) -> 428 | AD12: =IF($D12="","",((SUM($AA12:$AB12))-AC12)*0.2) -> 0 | AE12: =IF($D12="","",SUMIF('TK CHAMTHI'!$J:$J,$D12,'TK CHAMTHI'!$L:$L)) -> 0 | AF12: =IF($D12="","",SUMIF('TK CHAMTHI'!$K:$K,$D12,'TK CHAMTHI'!$L:$L)) -> 0 | AG12: =IF(D12="","",SUMIF('CHAM NV'!I:I,D12,'CHAM NV'!J:J)) -> 0 | AH12: =IF($D12="","",((SUM($AE12:$AF12))-AG12)*0.2) -> 0 | AI12: =IF($D12="","",SUMIF('TK CHAMTHI'!$M:$M,$D12,'TK CHAMTHI'!$O:$O)) -> 0 | AJ12: =IF($D12="","",SUMIF('TK CHAMTHI'!$N:$N,$D12,'TK CHAMTHI'!$O:$O)) -> 0 | AK12: =IF($D12="","",(SUM($AI12:$AJ12))*0.2) -> 0 | AL12: =IF($D12="","",SUMIF('TK CHAMTHI'!$P:$P,$D12,'TK CHAMTHI'!$R:$R)) -> 0 | AM12: =IF($D12="","",SUMIF('TK CHAMTHI'!$Q:$Q,$D12,'TK CHAMTHI'!$R:$R)) -> 0 | AN12: =IF($D12="","",(SUM($AL12:$AM12))*0.4) -> 0 | AO12: =IF(D12="","",SUMIF('TK CHAMTHI'!S:S,D12,'TK CHAMTHI'!U:U)) -> 0 | AP12: =IF(D12="","",SUMIF('TK CHAMTHI'!T:T,D12,'TK CHAMTHI'!U:U)) -> 0 | AQ12: =IF(D12="","",SUM(AO12:AP12)/10) -> 0 | AR12: =IF(D12="","",ROUND(SUMIF('QL THI'!G:G,D12,'QL THI'!H:H),1)) -> 0 | AS12: =IF(D12="","",ROUND(SUMIF('QL THI'!E:E,D12,'QL THI'!F:F),1)) -> 0 | AT12: =IF(D12="","",ROUND(M12+R12+V12+Z12+AD12+AH12+AK12+AN12+AQ12+SUM(AR12:AS12),1)) -> 19.1
A13: =IF(D13="","",SUBTOTAL(3,$D$5:D13)) -> 9 | B13: 01012017 | C13: Khoa CN Cơ khí | D13: Nguyễn Ngọc Quỳnh(CK) | E13: =IF($D13="","",SUMIF('TK DETHI'!$A:$A,$D13,'TK DETHI'!$B:$B)) -> 0 | F13: =IF($D13="","",SUMIF('TK DETHI'!$C:$C,$D13,'TK DETHI'!$D:$D)) -> 4 | G13: =IF($D13="","",SUMIF('TK DETHI'!$E:$E,$D13,'TK DETHI'!$F:$F)) -> 0 | H13: =IF($D13="","",SUMIF('TK DETHI'!$G:$G,$D13,'TK DETHI'!$H:$H)) -> 0 | I13: =IF($D13="","",SUMIF('TK DETHI'!$I:$I,$D13,'TK DETHI'!$J:$J)) -> 0 | J13: =IF($D13="","",SUMIF('TK DETHI'!$K:$K,$D13,'TK DETHI'!$L:$L)) -> 0 | K13: =IF($D13="","",SUMIF('TK DETHI'!$M:$M,$D13,'TK DETHI'!$N:$N)) -> 0 | L13: =IF($D13="","",SUMIF('TK DETHI'!$O:$O,$D13,'TK DETHI'!$P:$P)) -> 0 | M13: =IF($D13="","",($E13+$F13*1.5+$G13*0.25+$H13*0.5+$I13*2+$J13*2.5+$K13*0.5+$L13*1.5)) -> 6 | N13: =IF($D13="","",SUMIF('TK COITHI KTHP va Thi TN'!$A:$A,$D13,'TK COITHI KTHP va Thi TN'!$D:$D)) -> 1.35 | O13: =IF($D13="","",SUMIF('TK COITHI KTHP va Thi TN'!$B:$B,$D13,'TK COITHI KTHP va Thi TN'!$D:$D)) -> 0.75 | P13: =IF($D13="","",SUMIF('TK COITHI KTHP va Thi TN'!$E:$E,$D13,'TK COITHI KTHP va Thi TN'!$H:$H)) -> 0 | Q13: =IF($D13="","",SUMIF('TK COITHI KTHP va Thi TN'!$F:$F,$D13,'TK COITHI KTHP va Thi TN'!$H:$H)) -> 0 | R13: =IF($D13="","",SUM($N13:$Q13)) -> 2.1 | S13: =IF($D13="","",SUMIF('TK CHAMTHI'!$A:$A,$D13,'TK CHAMTHI'!$C:$C)) -> 0 | T13: =IF($D13="","",SUMIF('TK CHAMTHI'!$B:$B,$D13,'TK CHAMTHI'!$C:$C)) -> 0 | U13: =IF(D13="","",SUMIF('CHAM NV'!B:B,D13,'CHAM NV'!C:C)) -> 0 | V13: =IF($D13="","",((SUM($S13:$T13))-U13)*0.1) -> 0 | W13: =IF($D13="","",SUMIF('TK CHAMTHI'!$D:$D,$D13,'TK CHAMTHI'!$F:$F)) -> 0 | X13: =IF($D13="","",SUMIF('TK CHAMTHI'!$E:$E,$D13,'TK CHAMTHI'!$F:$F)) -> 0 | Y13: =IF(D13="","",SUMIF('CHAM NV'!G:G,D13,'CHAM NV'!H:H)) -> 0 | Z13: =IF($D13="","",((SUM($W13:$X13))-Y13)*0.2) -> 0 | AA13: =IF($D13="","",SUMIF('TK CHAMTHI'!$G:$G,$D13,'TK CHAMTHI'!$I:$I)) -> 0 | AB13: =IF($D13="","",SUMIF('TK CHAMTHI'!$H:$H,$D13,'TK CHAMTHI'!$I:$I)) -> 428 | AC13: =IF(D13="","",SUMIF('CHAM NV'!E:E,D13,'CHAM NV'!F:F)) -> 0 | AD13: =IF($D13="","",((SUM($AA13:$AB13))-AC13)*0.2) -> 85.6 | AE13: =IF($D13="","",SUMIF('TK CHAMTHI'!$J:$J,$D13,'TK CHAMTHI'!$L:$L)) -> 0 | AF13: =IF($D13="","",SUMIF('TK CHAMTHI'!$K:$K,$D13,'TK CHAMTHI'!$L:$L)) -> 0 | AG13: =IF(D13="","",SUMIF('CHAM NV'!I:I,D13,'CHAM NV'!J:J)) -> 0 | AH13: =IF($D13="","",((SUM($AE13:$AF13))-AG13)*0.2) -> 0 | AI13: =IF($D13="","",SUMIF('TK CHAMTHI'!$M:$M,$D13,'TK CHAMTHI'!$O:$O)) -> 0 | AJ13: =IF($D13="","",SUMIF('TK CHAMTHI'!$N:$N,$D13,'TK CHAMTHI'!$O:$O)) -> 0 | AK13: =IF($D13="","",(SUM($AI13:$AJ13))*0.2) -> 0 | AL13: =IF($D13="","",SUMIF('TK CHAMTHI'!$P:$P,$D13,'TK CHAMTHI'!$R:$R)) -> 0 | AM13: =IF($D13="","",SUMIF('TK CHAMTHI'!$Q:$Q,$D13,'TK CHAMTHI'!$R:$R)) -> 0 | AN13: =IF($D13="","",(SUM($AL13:$AM13))*0.4) -> 0 | AO13: =IF(D13="","",SUMIF('TK CHAMTHI'!S:S,D13,'TK CHAMTHI'!U:U)) -> 0 | AP13: =IF(D13="","",SUMIF('TK CHAMTHI'!T:T,D13,'TK CHAMTHI'!U:U)) -> 0 | AQ13: =IF(D13="","",SUM(AO13:AP13)/10) -> 0 | AR13: =IF(D13="","",ROUND(SUMIF('QL THI'!G:G,D13,'QL THI'!H:H),1)) -> 0 | AS13: =IF(D13="","",ROUND(SUMIF('QL THI'!E:E,D13,'QL THI'!F:F),1)) -> 0 | AT13: =IF(D13="","",ROUND(M13+R13+V13+Z13+AD13+AH13+AK13+AN13+AQ13+SUM(AR13:AS13),1)) -> 93.7
A14: =IF(D14="","",SUBTOTAL(3,$D$5:D14)) -> 10 | B14: 01012002 | C14: Khoa CN Cơ khí | D14: Nguyễn Tam Cương | E14: =IF($D14="","",SUMIF('TK DETHI'!$A:$A,$D14,'TK DETHI'!$B:$B)) -> 2 | F14: =IF($D14="","",SUMIF('TK DETHI'!$C:$C,$D14,'TK DETHI'!$D:$D)) -> 0 | G14: =IF($D14="","",SUMIF('TK DETHI'!$E:$E,$D14,'TK DETHI'!$F:$F)) -> 0 | H14: =IF($D14="","",SUMIF('TK DETHI'!$G:$G,$D14,'TK DETHI'!$H:$H)) -> 0 | I14: =IF($D14="","",SUMIF('TK DETHI'!$I:$I,$D14,'TK DETHI'!$J:$J)) -> 0 | J14: =IF($D14="","",SUMIF('TK DETHI'!$K:$K,$D14,'TK DETHI'!$L:$L)) -> 0 | K14: =IF($D14="","",SUMIF('TK DETHI'!$M:$M,$D14,'TK DETHI'!$N:$N)) -> 0 | L14: =IF($D14="","",SUMIF('TK DETHI'!$O:$O,$D14,'TK DETHI'!$P:$P)) -> 0 | M14: =IF($D14="","",($E14+$F14*1.5+$G14*0.25+$H14*0.5+$I14*2+$J14*2.5+$K14*0.5+$L14*1.5)) -> 2 | N14: =IF($D14="","",SUMIF('TK COITHI KTHP va Thi TN'!$A:$A,$D14,'TK COITHI KTHP va Thi TN'!$D:$D)) -> 1.2 | O14: =IF($D14="","",SUMIF('TK COITHI KTHP va Thi TN'!$B:$B,$D14,'TK COITHI KTHP va Thi TN'!$D:$D)) -> 0.6 | P14: =IF($D14="","",SUMIF('TK COITHI KTHP va Thi TN'!$E:$E,$D14,'TK COITHI KTHP va Thi TN'!$H:$H)) -> 0 | Q14: =IF($D14="","",SUMIF('TK COITHI KTHP va Thi TN'!$F:$F,$D14,'TK COITHI KTHP va Thi TN'!$H:$H)) -> 0 | R14: =IF($D14="","",SUM($N14:$Q14)) -> 1.8 | S14: =IF($D14="","",SUMIF('TK CHAMTHI'!$A:$A,$D14,'TK CHAMTHI'!$C:$C)) -> 50 | T14: =IF($D14="","",SUMIF('TK CHAMTHI'!$B:$B,$D14,'TK CHAMTHI'!$C:$C)) -> 92 | U14: =IF(D14="","",SUMIF('CHAM NV'!B:B,D14,'CHAM NV'!C:C)) -> 46 | V14: =IF($D14="","",((SUM($S14:$T14))-U14)*0.1) -> 9.6 | W14: =IF($D14="","",SUMIF('TK CHAMTHI'!$D:$D,$D14,'TK CHAMTHI'!$F:$F)) -> 0 | X14: =IF($D14="","",SUMIF('TK CHAMTHI'!$E:$E,$D14,'TK CHAMTHI'!$F:$F)) -> 0 | Y14: =IF(D14="","",SUMIF('CHAM NV'!G:G,D14,'CHAM NV'!H:H)) -> 0 | Z14: =IF($D14="","",((SUM($W14:$X14))-Y14)*0.2) -> 0 | AA14: =IF($D14="","",SUMIF('TK CHAMTHI'!$G:$G,$D14,'TK CHAMTHI'!$I:$I)) -> 0 | AB14: =IF($D14="","",SUMIF('TK CHAMTHI'!$H:$H,$D14,'TK CHAMTHI'!$I:$I)) -> 0 | AC14: =IF(D14="","",SUMIF('CHAM NV'!E:E,D14,'CHAM NV'!F:F)) -> 0 | AD14: =IF($D14="","",((SUM($AA14:$AB14))-AC14)*0.2) -> 0 | AE14: =IF($D14="","",SUMIF('TK CHAMTHI'!$J:$J,$D14,'TK CHAMTHI'!$L:$L)) -> 0 | AF14: =IF($D14="","",SUMIF('TK CHAMTHI'!$K:$K,$D14,'TK CHAMTHI'!$L:$L)) -> 0 | AG14: =IF(D14="","",SUMIF('CHAM NV'!I:I,D14,'CHAM NV'!J:J)) -> 0 | AH14: =IF($D14="","",((SUM($AE14:$AF14))-AG14)*0.2) -> 0 | AI14: =IF($D14="","",SUMIF('TK CHAMTHI'!$M:$M,$D14,'TK CHAMTHI'!$O:$O)) -> 0 | AJ14: =IF($D14="","",SUMIF('TK CHAMTHI'!$N:$N,$D14,'TK CHAMTHI'!$O:$O)) -> 0 | AK14: =IF($D14="","",(SUM($AI14:$AJ14))*0.2) -> 0 | AL14: =IF($D14="","",SUMIF('TK CHAMTHI'!$P:$P,$D14,'TK CHAMTHI'!$R:$R)) -> 0 | AM14: =IF($D14="","",SUMIF('TK CHAMTHI'!$Q:$Q,$D14,'TK CHAMTHI'!$R:$R)) -> 0 | AN14: =IF($D14="","",(SUM($AL14:$AM14))*0.4) -> 0 | AO14: =IF(D14="","",SUMIF('TK CHAMTHI'!S:S,D14,'TK CHAMTHI'!U:U)) -> 0 | AP14: =IF(D14="","",SUMIF('TK CHAMTHI'!T:T,D14,'TK CHAMTHI'!U:U)) -> 0 | AQ14: =IF(D14="","",SUM(AO14:AP14)/10) -> 0 | AR14: =IF(D14="","",ROUND(SUMIF('QL THI'!G:G,D14,'QL THI'!H:H),1)) -> 0 | AS14: =IF(D14="","",ROUND(SUMIF('QL THI'!E:E,D14,'QL THI'!F:F),1)) -> 0.5 | AT14: =IF(D14="","",ROUND(M14+R14+V14+Z14+AD14+AH14+AK14+AN14+AQ14+SUM(AR14:AS14),1)) -> 13.9
A15: =IF(D15="","",SUBTOTAL(3,$D$5:D15)) -> 11 | B15: 01012018 | C15: Khoa CN Cơ khí | D15: Nguyễn Thành Long | E15: =IF($D15="","",SUMIF('TK DETHI'!$A:$A,$D15,'TK DETHI'!$B:$B)) -> 0 | F15: =IF($D15="","",SUMIF('TK DETHI'!$C:$C,$D15,'TK DETHI'!$D:$D)) -> 0 | G15: =IF($D15="","",SUMIF('TK DETHI'!$E:$E,$D15,'TK DETHI'!$F:$F)) -> 0 | H15: =IF($D15="","",SUMIF('TK DETHI'!$G:$G,$D15,'TK DETHI'!$H:$H)) -> 0 | I15: =IF($D15="","",SUMIF('TK DETHI'!$I:$I,$D15,'TK DETHI'!$J:$J)) -> 0 | J15: =IF($D15="","",SUMIF('TK DETHI'!$K:$K,$D15,'TK DETHI'!$L:$L)) -> 0 | K15: =IF($D15="","",SUMIF('TK DETHI'!$M:$M,$D15,'TK DETHI'!$N:$N)) -> 0 | L15: =IF($D15="","",SUMIF('TK DETHI'!$O:$O,$D15,'TK DETHI'!$P:$P)) -> 0 | M15: =IF($D15="","",($E15+$F15*1.5+$G15*0.25+$H15*0.5+$I15*2+$J15*2.5+$K15*0.5+$L15*1.5)) -> 0 | N15: =IF($D15="","",SUMIF('TK COITHI KTHP va Thi TN'!$A:$A,$D15,'TK COITHI KTHP va Thi TN'!$D:$D)) -> 4.8 | O15: =IF($D15="","",SUMIF('TK COITHI KTHP va Thi TN'!$B:$B,$D15,'TK COITHI KTHP va Thi TN'!$D:$D)) -> 3.75 | P15: =IF($D15="","",SUMIF('TK COITHI KTHP va Thi TN'!$E:$E,$D15,'TK COITHI KTHP va Thi TN'!$H:$H)) -> 0 | Q15: =IF($D15="","",SUMIF('TK COITHI KTHP va Thi TN'!$F:$F,$D15,'TK COITHI KTHP va Thi TN'!$H:$H)) -> 0 | R15: =IF($D15="","",SUM($N15:$Q15)) -> 8.55 | S15: =IF($D15="","",SUMIF('TK CHAMTHI'!$A:$A,$D15,'TK CHAMTHI'!$C:$C)) -> 102 | T15: =IF($D15="","",SUMIF('TK CHAMTHI'!$B:$B,$D15,'TK CHAMTHI'!$C:$C)) -> 11 | U15: =IF(D15="","",SUMIF('CHAM NV'!B:B,D15,'CHAM NV'!C:C)) -> 47 | V15: =IF($D15="","",((SUM($S15:$T15))-U15)*0.1) -> 6.6 | W15: =IF($D15="","",SUMIF('TK CHAMTHI'!$D:$D,$D15,'TK CHAMTHI'!$F:$F)) -> 0 | X15: =IF($D15="","",SUMIF('TK CHAMTHI'!$E:$E,$D15,'TK CHAMTHI'!$F:$F)) -> 0 | Y15: =IF(D15="","",SUMIF('CHAM NV'!G:G,D15,'CHAM NV'!H:H)) -> 0 | Z15: =IF($D15="","",((SUM($W15:$X15))-Y15)*0.2) -> 0 | AA15: =IF($D15="","",SUMIF('TK CHAMTHI'!$G:$G,$D15,'TK CHAMTHI'!$I:$I)) -> 0 | AB15: =IF($D15="","",SUMIF('TK CHAMTHI'!$H:$H,$D15,'TK CHAMTHI'!$I:$I)) -> 0 | AC15: =IF(D15="","",SUMIF('CHAM NV'!E:E,D15,'CHAM NV'!F:F)) -> 0 | AD15: =IF($D15="","",((SUM($AA15:$AB15))-AC15)*0.2) -> 0 | AE15: =IF($D15="","",SUMIF('TK CHAMTHI'!$J:$J,$D15,'TK CHAMTHI'!$L:$L)) -> 0 | AF15: =IF($D15="","",SUMIF('TK CHAMTHI'!$K:$K,$D15,'TK CHAMTHI'!$L:$L)) -> 0 | AG15: =IF(D15="","",SUMIF('CHAM NV'!I:I,D15,'CHAM NV'!J:J)) -> 0 | AH15: =IF($D15="","",((SUM($AE15:$AF15))-AG15)*0.2) -> 0 | AI15: =IF($D15="","",SUMIF('TK CHAMTHI'!$M:$M,$D15,'TK CHAMTHI'!$O:$O)) -> 0 | AJ15: =IF($D15="","",SUMIF('TK CHAMTHI'!$N:$N,$D15,'TK CHAMTHI'!$O:$O)) -> 0 | AK15: =IF($D15="","",(SUM($AI15:$AJ15))*0.2) -> 0 | AL15: =IF($D15="","",SUMIF('TK CHAMTHI'!$P:$P,$D15,'TK CHAMTHI'!$R:$R)) -> 0 | AM15: =IF($D15="","",SUMIF('TK CHAMTHI'!$Q:$Q,$D15,'TK CHAMTHI'!$R:$R)) -> 0 | AN15: =IF($D15="","",(SUM($AL15:$AM15))*0.4) -> 0 | AO15: =IF(D15="","",SUMIF('TK CHAMTHI'!S:S,D15,'TK CHAMTHI'!U:U)) -> 0 | AP15: =IF(D15="","",SUMIF('TK CHAMTHI'!T:T,D15,'TK CHAMTHI'!U:U)) -> 0 | AQ15: =IF(D15="","",SUM(AO15:AP15)/10) -> 0 | AR15: =IF(D15="","",ROUND(SUMIF('QL THI'!G:G,D15,'QL THI'!H:H),1)) -> 0 | AS15: =IF(D15="","",ROUND(SUMIF('QL THI'!E:E,D15,'QL THI'!F:F),1)) -> 0.5 | AT15: =IF(D15="","",ROUND(M15+R15+V15+Z15+AD15+AH15+AK15+AN15+AQ15+SUM(AR15:AS15),1)) -> 15.7
A16: =IF(D16="","",SUBTOTAL(3,$D$5:D16)) -> 12 | B16: 01012011 | C16: Khoa CN Cơ khí | D16: Nguyễn Thanh Vĩnh Phúc | E16: =IF($D16="","",SUMIF('TK DETHI'!$A:$A,$D16,'TK DETHI'!$B:$B)) -> 0 | F16: =IF($D16="","",SUMIF('TK DETHI'!$C:$C,$D16,'TK DETHI'!$D:$D)) -> 0 | G16: =IF($D16="","",SUMIF('TK DETHI'!$E:$E,$D16,'TK DETHI'!$F:$F)) -> 0 | H16: =IF($D16="","",SUMIF('TK DETHI'!$G:$G,$D16,'TK DETHI'!$H:$H)) -> 0 | I16: =IF($D16="","",SUMIF('TK DETHI'!$I:$I,$D16,'TK DETHI'!$J:$J)) -> 0 | J16: =IF($D16="","",SUMIF('TK DETHI'!$K:$K,$D16,'TK DETHI'!$L:$L)) -> 0 | K16: =IF($D16="","",SUMIF('TK DETHI'!$M:$M,$D16,'TK DETHI'!$N:$N)) -> 0 | L16: =IF($D16="","",SUMIF('TK DETHI'!$O:$O,$D16,'TK DETHI'!$P:$P)) -> 0 | M16: =IF($D16="","",($E16+$F16*1.5+$G16*0.25+$H16*0.5+$I16*2+$J16*2.5+$K16*0.5+$L16*1.5)) -> 0 | N16: =IF($D16="","",SUMIF('TK COITHI KTHP va Thi TN'!$A:$A,$D16,'TK COITHI KTHP va Thi TN'!$D:$D)) -> 4.8 | O16: =IF($D16="","",SUMIF('TK COITHI KTHP va Thi TN'!$B:$B,$D16,'TK COITHI KTHP va Thi TN'!$D:$D)) -> 4.5 | P16: =IF($D16="","",SUMIF('TK COITHI KTHP va Thi TN'!$E:$E,$D16,'TK COITHI KTHP va Thi TN'!$H:$H)) -> 0 | Q16: =IF($D16="","",SUMIF('TK COITHI KTHP va Thi TN'!$F:$F,$D16,'TK COITHI KTHP va Thi TN'!$H:$H)) -> 0 | R16: =IF($D16="","",SUM($N16:$Q16)) -> 9.3 | S16: =IF($D16="","",SUMIF('TK CHAMTHI'!$A:$A,$D16,'TK CHAMTHI'!$C:$C)) -> 0 | T16: =IF($D16="","",SUMIF('TK CHAMTHI'!$B:$B,$D16,'TK CHAMTHI'!$C:$C)) -> 0 | U16: =IF(D16="","",SUMIF('CHAM NV'!B:B,D16,'CHAM NV'!C:C)) -> 0 | V16: =IF($D16="","",((SUM($S16:$T16))-U16)*0.1) -> 0 | W16: =IF($D16="","",SUMIF('TK CHAMTHI'!$D:$D,$D16,'TK CHAMTHI'!$F:$F)) -> 0 | X16: =IF($D16="","",SUMIF('TK CHAMTHI'!$E:$E,$D16,'TK CHAMTHI'!$F:$F)) -> 0 | Y16: =IF(D16="","",SUMIF('CHAM NV'!G:G,D16,'CHAM NV'!H:H)) -> 0 | Z16: =IF($D16="","",((SUM($W16:$X16))-Y16)*0.2) -> 0 | AA16: =IF($D16="","",SUMIF('TK CHAMTHI'!$G:$G,$D16,'TK CHAMTHI'!$I:$I)) -> 0 | AB16: =IF($D16="","",SUMIF('TK CHAMTHI'!$H:$H,$D16,'TK CHAMTHI'!$I:$I)) -> 0 | AC16: =IF(D16="","",SUMIF('CHAM NV'!E:E,D16,'CHAM NV'!F:F)) -> 0 | AD16: =IF($D16="","",((SUM($AA16:$AB16))-AC16)*0.2) -> 0 | AE16: =IF($D16="","",SUMIF('TK CHAMTHI'!$J:$J,$D16,'TK CHAMTHI'!$L:$L)) -> 0 | AF16: =IF($D16="","",SUMIF('TK CHAMTHI'!$K:$K,$D16,'TK CHAMTHI'!$L:$L)) -> 0 | AG16: =IF(D16="","",SUMIF('CHAM NV'!I:I,D16,'CHAM NV'!J:J)) -> 0 | AH16: =IF($D16="","",((SUM($AE16:$AF16))-AG16)*0.2) -> 0 | AI16: =IF($D16="","",SUMIF('TK CHAMTHI'!$M:$M,$D16,'TK CHAMTHI'!$O:$O)) -> 0 | AJ16: =IF($D16="","",SUMIF('TK CHAMTHI'!$N:$N,$D16,'TK CHAMTHI'!$O:$O)) -> 0 | AK16: =IF($D16="","",(SUM($AI16:$AJ16))*0.2) -> 0 | AL16: =IF($D16="","",SUMIF('TK CHAMTHI'!$P:$P,$D16,'TK CHAMTHI'!$R:$R)) -> 0 | AM16: =IF($D16="","",SUMIF('TK CHAMTHI'!$Q:$Q,$D16,'TK CHAMTHI'!$R:$R)) -> 0 | AN16: =IF($D16="","",(SUM($AL16:$AM16))*0.4) -> 0 | AO16: =IF(D16="","",SUMIF('TK CHAMTHI'!S:S,D16,'TK CHAMTHI'!U:U)) -> 0 | AP16: =IF(D16="","",SUMIF('TK CHAMTHI'!T:T,D16,'TK CHAMTHI'!U:U)) -> 0 | AQ16: =IF(D16="","",SUM(AO16:AP16)/10) -> 0 | AR16: =IF(D16="","",ROUND(SUMIF('QL THI'!G:G,D16,'QL THI'!H:H),1)) -> 0 | AS16: =IF(D16="","",ROUND(SUMIF('QL THI'!E:E,D16,'QL THI'!F:F),1)) -> 0.3 | AT16: =IF(D16="","",ROUND(M16+R16+V16+Z16+AD16+AH16+AK16+AN16+AQ16+SUM(AR16:AS16),1)) -> 9.6
... A100: =IF(D100="","",SUBTOTAL(3,$D$5:D100)) -> 96 | B100: 01029001 | C100: Khoa CN Nhiệt – Lạnh | D100: Hoàng Văn Viết | E100: =IF($D100="","",SUMIF('TK DETHI'!$A:$A,$D100,'TK DETHI'!$B:$B)) -> 10 | F100: =IF($D100="","",SUMIF('TK DETHI'!$C:$C,$D100,'TK DETHI'!$D:$D)) -> 2 | G100: =IF($D100="","",SUMIF('TK DETHI'!$E:$E,$D100,'TK DETHI'!$F:$F)) -> 0 | H100: =IF($D100="","",SUMIF('TK DETHI'!$G:$G,$D100,'TK DETHI'!$H:$H)) -> 0 | I100: =IF($D100="","",SUMIF('TK DETHI'!$I:$I,$D100,'TK DETHI'!$J:$J)) -> 0 | J100: =IF($D100="","",SUMIF('TK DETHI'!$K:$K,$D100,'TK DETHI'!$L:$L)) -> 0 | K100: =IF($D100="","",SUMIF('TK DETHI'!$M:$M,$D100,'TK DETHI'!$N:$N)) -> 0 | L100: =IF($D100="","",SUMIF('TK DETHI'!$O:$O,$D100,'TK DETHI'!$P:$P)) -> 0 | M100: =IF($D100="","",($E100+$F100*1.5+$G100*0.25+$H100*0.5+$I100*2+$J100*2.5+$K100*0.5+$L100*1.5)) -> 13 | N100: =IF($D100="","",SUMIF('TK COITHI KTHP va Thi TN'!$A:$A,$D100,'TK COITHI KTHP va Thi TN'!$D:$D)) -> 6.15 | O100: =IF($D100="","",SUMIF('TK COITHI KTHP va Thi TN'!$B:$B,$D100,'TK COITHI KTHP va Thi TN'!$D:$D)) -> 4.05 | P100: =IF($D100="","",SUMIF('TK COITHI KTHP va Thi TN'!$E:$E,$D100,'TK COITHI KTHP va Thi TN'!$H:$H)) -> 0 | Q100: =IF($D100="","",SUMIF('TK COITHI KTHP va Thi TN'!$F:$F,$D100,'TK COITHI KTHP va Thi TN'!$H:$H)) -> 0 | R100: =IF($D100="","",SUM($N100:$Q100)) -> 10.2 | S100: =IF($D100="","",SUMIF('TK CHAMTHI'!$A:$A,$D100,'TK CHAMTHI'!$C:$C)) -> 288 | T100: =IF($D100="","",SUMIF('TK CHAMTHI'!$B:$B,$D100,'TK CHAMTHI'!$C:$C)) -> 142 | U100: =IF(D100="","",SUMIF('CHAM NV'!B:B,D100,'CHAM NV'!C:C)) -> 230 | V100: =IF($D100="","",((SUM($S100:$T100))-U100)*0.1) -> 20 | W100: =IF($D100="","",SUMIF('TK CHAMTHI'!$D:$D,$D100,'TK CHAMTHI'!$F:$F)) -> 0 | X100: =IF($D100="","",SUMIF('TK CHAMTHI'!$E:$E,$D100,'TK CHAMTHI'!$F:$F)) -> 0 | Y100: =IF(D100="","",SUMIF('CHAM NV'!G:G,D100,'CHAM NV'!H:H)) -> 0 | Z100: =IF($D100="","",((SUM($W100:$X100))-Y100)*0.2) -> 0 | AA100: =IF($D100="","",SUMIF('TK CHAMTHI'!$G:$G,$D100,'TK CHAMTHI'!$I:$I)) -> 0 | AB100: =IF($D100="","",SUMIF('TK CHAMTHI'!$H:$H,$D100,'TK CHAMTHI'!$I:$I)) -> 0 | AC100: =IF(D100="","",SUMIF('CHAM NV'!E:E,D100,'CHAM NV'!F:F)) -> 0 | AD100: =IF($D100="","",((SUM($AA100:$AB100))-AC100)*0.2) -> 0 | AE100: =IF($D100="","",SUMIF('TK CHAMTHI'!$J:$J,$D100,'TK CHAMTHI'!$L:$L)) -> 0 | AF100: =IF($D100="","",SUMIF('TK CHAMTHI'!$K:$K,$D100,'TK CHAMTHI'!$L:$L)) -> 0 | AG100: =IF(D100="","",SUMIF('CHAM NV'!I:I,D100,'CHAM NV'!J:J)) -> 0 | AH100: =IF($D100="","",((SUM($AE100:$AF100))-AG100)*0.2) -> 0 | AI100: =IF($D100="","",SUMIF('TK CHAMTHI'!$M:$M,$D100,'TK CHAMTHI'!$O:$O)) -> 0 | AJ100: =IF($D100="","",SUMIF('TK CHAMTHI'!$N:$N,$D100,'TK CHAMTHI'!$O:$O)) -> 0 | AK100: =IF($D100="","",(SUM($AI100:$AJ100))*0.2) -> 0 | AL100: =IF($D100="","",SUMIF('TK CHAMTHI'!$P:$P,$D100,'TK CHAMTHI'!$R:$R)) -> 0 | AM100: =IF($D100="","",SUMIF('TK CHAMTHI'!$Q:$Q,$D100,'TK CHAMTHI'!$R:$R)) -> 0 | AN100: =IF($D100="","",(SUM($AL100:$AM100))*0.4) -> 0 | AO100: =IF(D100="","",SUMIF('TK CHAMTHI'!S:S,D100,'TK CHAMTHI'!U:U)) -> 0 | AP100: =IF(D100="","",SUMIF('TK CHAMTHI'!T:T,D100,'TK CHAMTHI'!U:U)) -> 0 | AQ100: =IF(D100="","",SUM(AO100:AP100)/10) -> 0 | AR100: =IF(D100="","",ROUND(SUMIF('QL THI'!G:G,D100,'QL THI'!H:H),1)) -> 0 | AS100: =IF(D100="","",ROUND(SUMIF('QL THI'!E:E,D100,'QL THI'!F:F),1)) -> 0.5 | AT100: =IF(D100="","",ROUND(M100+R100+V100+Z100+AD100+AH100+AK100+AN100+AQ100+SUM(AR100:AS100),1)) -> 43.7
A101: =IF(D101="","",SUBTOTAL(3,$D$5:D101)) -> 97 | B101: 01029002 | C101: Khoa CN Nhiệt – Lạnh | D101: Nguyễn Ngọc Trí | E101: =IF($D101="","",SUMIF('TK DETHI'!$A:$A,$D101,'TK DETHI'!$B:$B)) -> 0 | F101: =IF($D101="","",SUMIF('TK DETHI'!$C:$C,$D101,'TK DETHI'!$D:$D)) -> 0 | G101: =IF($D101="","",SUMIF('TK DETHI'!$E:$E,$D101,'TK DETHI'!$F:$F)) -> 0 | H101: =IF($D101="","",SUMIF('TK DETHI'!$G:$G,$D101,'TK DETHI'!$H:$H)) -> 0 | I101: =IF($D101="","",SUMIF('TK DETHI'!$I:$I,$D101,'TK DETHI'!$J:$J)) -> 0 | J101: =IF($D101="","",SUMIF('TK DETHI'!$K:$K,$D101,'TK DETHI'!$L:$L)) -> 0 | K101: =IF($D101="","",SUMIF('TK DETHI'!$M:$M,$D101,'TK DETHI'!$N:$N)) -> 0 | L101: =IF($D101="","",SUMIF('TK DETHI'!$O:$O,$D101,'TK DETHI'!$P:$P)) -> 0 | M101: =IF($D101="","",($E101+$F101*1.5+$G101*0.25+$H101*0.5+$I101*2+$J101*2.5+$K101*0.5+$L101*1.5)) -> 0 | N101: =IF($D101="","",SUMIF('TK COITHI KTHP va Thi TN'!$A:$A,$D101,'TK COITHI KTHP va Thi TN'!$D:$D)) -> 1.8 | O101: =IF($D101="","",SUMIF('TK COITHI KTHP va Thi TN'!$B:$B,$D101,'TK COITHI KTHP va Thi TN'!$D:$D)) -> 3.45 | P101: =IF($D101="","",SUMIF('TK COITHI KTHP va Thi TN'!$E:$E,$D101,'TK COITHI KTHP va Thi TN'!$H:$H)) -> 0 | Q101: =IF($D101="","",SUMIF('TK COITHI KTHP va Thi TN'!$F:$F,$D101,'TK COITHI KTHP va Thi TN'!$H:$H)) -> 0 | R101: =IF($D101="","",SUM($N101:$Q101)) -> 5.25 | S101: =IF($D101="","",SUMIF('TK CHAMTHI'!$A:$A,$D101,'TK CHAMTHI'!$C:$C)) -> 64 | T101: =IF($D101="","",SUMIF('TK CHAMTHI'!$B:$B,$D101,'TK CHAMTHI'!$C:$C)) -> 0 | U101: ='CƠ KHÍ'!S24 | V101: =IF($D101="","",((SUM($S101:$T101))-U101)*0.1) -> #VALUE! | W101: =IF($D101="","",SUMIF('TK CHAMTHI'!$D:$D,$D101,'TK CHAMTHI'!$F:$F)) -> 0 | X101: =IF($D101="","",SUMIF('TK CHAMTHI'!$E:$E,$D101,'TK CHAMTHI'!$F:$F)) -> 0 | Y101: =IF(D101="","",SUMIF('CHAM NV'!G:G,D101,'CHAM NV'!H:H)) -> 0 | Z101: =IF($D101="","",((SUM($W101:$X101))-Y101)*0.2) -> 0 | AA101: =IF($D101="","",SUMIF('TK CHAMTHI'!$G:$G,$D101,'TK CHAMTHI'!$I:$I)) -> 0 | AB101: =IF($D101="","",SUMIF('TK CHAMTHI'!$H:$H,$D101,'TK CHAMTHI'!$I:$I)) -> 0 | AC101: =IF(D101="","",SUMIF('CHAM NV'!E:E,D101,'CHAM NV'!F:F)) -> 0 | AD101: =IF($D101="","",((SUM($AA101:$AB101))-AC101)*0.2) -> 0 | AE101: =IF($D101="","",SUMIF('TK CHAMTHI'!$J:$J,$D101,'TK CHAMTHI'!$L:$L)) -> 0 | AF101: =IF($D101="","",SUMIF('TK CHAMTHI'!$K:$K,$D101,'TK CHAMTHI'!$L:$L)) -> 0 | AG101: =IF(D101="","",SUMIF('CHAM NV'!I:I,D101,'CHAM NV'!J:J)) -> 0 | AH101: =IF($D101="","",((SUM($AE101:$AF101))-AG101)*0.2) -> 0 | AI101: =IF($D101="","",SUMIF('TK CHAMTHI'!$M:$M,$D101,'TK CHAMTHI'!$O:$O)) -> 0 | AJ101: =IF($D101="","",SUMIF('TK CHAMTHI'!$N:$N,$D101,'TK CHAMTHI'!$O:$O)) -> 0 | AK101: =IF($D101="","",(SUM($AI101:$AJ101))*0.2) -> 0 | AL101: =IF($D101="","",SUMIF('TK CHAMTHI'!$P:$P,$D101,'TK CHAMTHI'!$R:$R)) -> 0 | AM101: =IF($D101="","",SUMIF('TK CHAMTHI'!$Q:$Q,$D101,'TK CHAMTHI'!$R:$R)) -> 0 | AN101: =IF($D101="","",(SUM($AL101:$AM101))*0.4) -> 0 | AO101: =IF(D101="","",SUMIF('TK CHAMTHI'!S:S,D101,'TK CHAMTHI'!U:U)) -> 0 | AP101: =IF(D101="","",SUMIF('TK CHAMTHI'!T:T,D101,'TK CHAMTHI'!U:U)) -> 0 | AQ101: =IF(D101="","",SUM(AO101:AP101)/10) -> 0 | AR101: =IF(D101="","",ROUND(SUMIF('QL THI'!G:G,D101,'QL THI'!H:H),1)) -> 0 | AS101: =IF(D101="","",ROUND(SUMIF('QL THI'!E:E,D101,'QL THI'!F:F),1)) -> 0.9 | AT101: =IF(D101="","",ROUND(M101+R101+V101+Z101+AD101+AH101+AK101+AN101+AQ101+SUM(AR101:AS101),1)) -> #VALUE!
A102: =IF(D102="","",SUBTOTAL(3,$D$5:D102)) -> 98 | B102: 01013008 | C102: Khoa CN Nhiệt – Lạnh | D102: Nguyễn Vũ Xuân Thì | E102: =IF($D102="","",SUMIF('TK DETHI'!$A:$A,$D102,'TK DETHI'!$B:$B)) -> 4 | F102: =IF($D102="","",SUMIF('TK DETHI'!$C:$C,$D102,'TK DETHI'!$D:$D)) -> 0 | G102: =IF($D102="","",SUMIF('TK DETHI'!$E:$E,$D102,'TK DETHI'!$F:$F)) -> 0 | H102: =IF($D102="","",SUMIF('TK DETHI'!$G:$G,$D102,'TK DETHI'!$H:$H)) -> 0 | I102: =IF($D102="","",SUMIF('TK DETHI'!$I:$I,$D102,'TK DETHI'!$J:$J)) -> 0 | J102: =IF($D102="","",SUMIF('TK DETHI'!$K:$K,$D102,'TK DETHI'!$L:$L)) -> 0 | K102: =IF($D102="","",SUMIF('TK DETHI'!$M:$M,$D102,'TK DETHI'!$N:$N)) -> 0 | L102: =IF($D102="","",SUMIF('TK DETHI'!$O:$O,$D102,'TK DETHI'!$P:$P)) -> 0 | M102: =IF($D102="","",($E102+$F102*1.5+$G102*0.25+$H102*0.5+$I102*2+$J102*2.5+$K102*0.5+$L102*1.5)) -> 4 | N102: =IF($D102="","",SUMIF('TK COITHI KTHP va Thi TN'!$A:$A,$D102,'TK COITHI KTHP va Thi TN'!$D:$D)) -> 2.55 | O102: =IF($D102="","",SUMIF('TK COITHI KTHP va Thi TN'!$B:$B,$D102,'TK COITHI KTHP va Thi TN'!$D:$D)) -> 4.05 | P102: =IF($D102="","",SUMIF('TK COITHI KTHP va Thi TN'!$E:$E,$D102,'TK COITHI KTHP va Thi TN'!$H:$H)) -> 0 | Q102: =IF($D102="","",SUMIF('TK COITHI KTHP va Thi TN'!$F:$F,$D102,'TK COITHI KTHP va Thi TN'!$H:$H)) -> 0 | R102: =IF($D102="","",SUM($N102:$Q102)) -> 6.6 | S102: =IF($D102="","",SUMIF('TK CHAMTHI'!$A:$A,$D102,'TK CHAMTHI'!$C:$C)) -> 90 | T102: =IF($D102="","",SUMIF('TK CHAMTHI'!$B:$B,$D102,'TK CHAMTHI'!$C:$C)) -> 56 | U102: =IF(D102="","",SUMIF('CHAM NV'!B:B,D102,'CHAM NV'!C:C)) -> 67 | V102: =IF($D102="","",((SUM($S102:$T102))-U102)*0.1) -> 7.9 | W102: =IF($D102="","",SUMIF('TK CHAMTHI'!$D:$D,$D102,'TK CHAMTHI'!$F:$F)) -> 0 | X102: =IF($D102="","",SUMIF('TK CHAMTHI'!$E:$E,$D102,'TK CHAMTHI'!$F:$F)) -> 0 | Y102: =IF(D102="","",SUMIF('CHAM NV'!G:G,D102,'CHAM NV'!H:H)) -> 0 | Z102: =IF($D102="","",((SUM($W102:$X102))-Y102)*0.2) -> 0 | AA102: =IF($D102="","",SUMIF('TK CHAMTHI'!$G:$G,$D102,'TK CHAMTHI'!$I:$I)) -> 0 | AB102: =IF($D102="","",SUMIF('TK CHAMTHI'!$H:$H,$D102,'TK CHAMTHI'!$I:$I)) -> 0 | AC102: =IF(D102="","",SUMIF('CHAM NV'!E:E,D102,'CHAM NV'!F:F)) -> 0 | AD102: =IF($D102="","",((SUM($AA102:$AB102))-AC102)*0.2) -> 0 | AE102: =IF($D102="","",SUMIF('TK CHAMTHI'!$J:$J,$D102,'TK CHAMTHI'!$L:$L)) -> 0 | AF102: =IF($D102="","",SUMIF('TK CHAMTHI'!$K:$K,$D102,'TK CHAMTHI'!$L:$L)) -> 0 | AG102: =IF(D102="","",SUMIF('CHAM NV'!I:I,D102,'CHAM NV'!J:J)) -> 0 | AH102: =IF($D102="","",((SUM($AE102:$AF102))-AG102)*0.2) -> 0 | AI102: =IF($D102="","",SUMIF('TK CHAMTHI'!$M:$M,$D102,'TK CHAMTHI'!$O:$O)) -> 0 | AJ102: =IF($D102="","",SUMIF('TK CHAMTHI'!$N:$N,$D102,'TK CHAMTHI'!$O:$O)) -> 0 | AK102: =IF($D102="","",(SUM($AI102:$AJ102))*0.2) -> 0 | AL102: =IF($D102="","",SUMIF('TK CHAMTHI'!$P:$P,$D102,'TK CHAMTHI'!$R:$R)) -> 0 | AM102: =IF($D102="","",SUMIF('TK CHAMTHI'!$Q:$Q,$D102,'TK CHAMTHI'!$R:$R)) -> 0 | AN102: =IF($D102="","",(SUM($AL102:$AM102))*0.4) -> 0 | AO102: =IF(D102="","",SUMIF('TK CHAMTHI'!S:S,D102,'TK CHAMTHI'!U:U)) -> 0 | AP102: =IF(D102="","",SUMIF('TK CHAMTHI'!T:T,D102,'TK CHAMTHI'!U:U)) -> 0 | AQ102: =IF(D102="","",SUM(AO102:AP102)/10) -> 0 | AR102: =IF(D102="","",ROUND(SUMIF('QL THI'!G:G,D102,'QL THI'!H:H),1)) -> 0 | AS102: =IF(D102="","",ROUND(SUMIF('QL THI'!E:E,D102,'QL THI'!F:F),1)) -> 2.6 | AT102: =IF(D102="","",ROUND(M102+R102+V102+Z102+AD102+AH102+AK102+AN102+AQ102+SUM(AR102:AS102),1)) -> 21.1
